{"text_format":"1","workbook":"xlsx","n_sheets":3,"sheets":["ENVR-WATR","GRAD CHECK","ADVISOR'S NOTES"],"not_rendered":{"charts":0,"images":0,"macros":0,"external_links":0,"defined_names":2,"comments":1,"pivot_tables":0},"unopened":[],"bounds":{"document_bytes":16777216,"sheet_cells":100000,"rows_first":2000,"rows_last":500,"rows_between":2000,"halvings":0,"cell_chars":16384,"cell_head_chars":4096},"cells_cut":0,"cells_raw":0,"read":"whole","date_system":"1900"}

{"sheet":"ENVR-WATR","index":0,"n_rows":44,"n_cols":35,"rows_kept":44,"cut":false,"hidden":false,"merged":[[0,1,0,16],[0,18,0,24],[0,32,0,34],[6,2,6,3],[6,8,6,11],[6,23,6,24],[0,25,0,27],[7,2,7,3],[7,8,7,11],[7,23,7,24],[7,33,7,34],[8,2,8,3],[8,8,8,11],[8,23,8,24],[15,23,15,24],[9,2,9,3],[9,8,9,11],[10,2,10,3],[10,8,10,11],[14,2,14,3],[14,8,14,11],[11,2,11,3],[11,8,11,11],[13,2,13,3],[13,8,13,11],[15,2,15,3],[15,8,15,11],[12,2,12,3],[16,2,16,3],[16,8,16,11],[19,16,19,17],[17,2,17,3],[17,8,17,11],[18,2,18,3],[18,8,18,11],[19,2,19,3],[19,8,19,11],[17,16,17,22],[20,2,20,3],[20,8,20,11],[24,16,24,17],[22,2,22,3],[22,8,22,11],[23,2,23,3],[23,8,23,11],[20,16,20,17],[24,0,24,11],[21,16,21,17],[22,16,22,17],[23,16,23,17],[21,2,21,3],[21,8,21,11],[47,33,47,34],[48,33,48,34],[49,33,49,34],[50,33,50,34],[25,16,25,17],[44,33,44,34],[45,33,45,34],[46,33,46,34]]}
["NAME:","Student's Name",null,null,null,null,null,null,null,null,null,null,null,null,null,null,null,"ID:","999-99-999",null,null,null,null,null,null,"ENVR-WATR",null,null,"ADV:",null,null,null,"AdvisorName"]
[]
["General Eduction Requirements: 41 Hours",null,null,null,null,null,null,null,null,null,null,null,null,null,null,null,"College/Dept. Requirements: 32 Hours",null,null,null,null,null,null,null,null,null,"Major Requirements: 51 Hours",null,null,null,null,null,null,null,"2013-14"]
[]
["Course",null,"Grade",null,"GPts","GPACr","GrCr",null,null,"Deviation",null,null,null,null,null,null,"Course",null,"Grade","GPts","GPACr","GrCr",null,"Deviation",null,null,"Course",null,"Grade","GPts","GPACr","GrCr",null,"Deviation"]
[]
["ENGL ",1113,null,null,{"$f":"IF(H7<>\"\",H7,3)*IF(C7=\"A\",4,IF(C7=\"B\",3,IF(C7=\"C\",2,IF(C7=\"D\",1,IF(AND(C7>=0,C7<=4,ISNUMBER(C7)),C7,0)))))","v":0},{"$f":"IF(OR(C7=\"A\",C7=\"B\",C7=\"C\",C7=\"D\",C7=\"F\",AND(C7>=0,C7<=4,ISNUMBER(C7))),IF(H7<>\"\",H7,3),\"\")","v":""},{"$f":"IF(OR(C7=\"A\",C7=\"B\",C7=\"C\",C7=\"D\",C7=\"P\",AND(C7>=0,C7<=4,ISNUMBER(C7))),IF(H7<>\"\",H7,3),\"\")","v":""},null,null,null,null,null,null,null,null,null,"AG",1011,null,{"$f":"IF(W7<>\"\",W7,3)*IF(S7=\"A\",4,IF(S7=\"B\",3,IF(S7=\"C\",2,IF(S7=\"D\",1,IF(AND(S7>=0,S7<=4,ISNUMBER(S7)),S7,0)))))","v":0},{"$f":"IF(OR(S7=\"A\",S7=\"B\",S7=\"C\",S7=\"D\",S7=\"F\",AND(S7>=0,S7<=4,ISNUMBER(S7))),IF(W7<>\"\",W7,3),\"\")","v":""},{"$f":"IF(OR(S7=\"A\",S7=\"B\",S7=\"C\",S7=\"D\",S7=\"P\",AND(S7>=0,S7<=4,ISNUMBER(S7))),IF(W7<>\"\",W7,3),\"\")","v":""},1,null,null,null,"Core Courses: 23 Hours"]
["ENGL ",1213,null,null,0,"","",null,null,null,null,null,null,null,null,null,"ENVR",1113,null,{"$f":"IF(W8<>\"\",W8,3)*IF(S8=\"A\",4,IF(S8=\"B\",3,IF(S8=\"C\",2,IF(S8=\"D\",1,IF(AND(S8>=0,S8<=4,ISNUMBER(S8)),S8,0)))))","v":0},{"$f":"IF(OR(S8=\"A\",S8=\"B\",S8=\"C\",S8=\"D\",S8=\"F\",AND(S8>=0,S8<=4,ISNUMBER(S8))),IF(W8<>\"\",W8,3),\"\")","v":""},{"$f":"IF(OR(S8=\"A\",S8=\"B\",S8=\"C\",S8=\"D\",S8=\"P\",AND(S8>=0,S8<=4,ISNUMBER(S8))),IF(W8<>\"\",W8,3),\"\")","v":""},null,null,null,null,"AGEC",3503,null,{"$f":"IF(AG8<>\"\",AG8,3)*IF(AC8=\"A\",4,IF(AC8=\"B\",3,IF(AC8=\"C\",2,IF(AC8=\"D\",1,IF(AND(AC8>=0,AC8<=4,ISNUMBER(AC8)),AC8,0)))))","v":0},{"$f":"IF(OR(AC8=\"A\",AC8=\"B\",AC8=\"C\",AC8=\"D\",AC8=\"F\",AND(AC8>=0,AC8<=4,ISNUMBER(AC8))),IF(AG8<>\"\",AG8,3),\"\")","v":""},{"$f":"IF(OR(AC8=\"A\",AC8=\"B\",AC8=\"C\",AC8=\"D\",AC8=\"P\",AND(AC8>=0,AC8<=4,ISNUMBER(AC8))),IF(AG8<>\"\",AG8,3),\"\")","v":""}]
["HIST",1103,null,null,0,"","",null,null,null,null,null,null,null,null,null,"BOT",1404,null,0,"","",4,null,null,null,"BIOL",3034,null,0,"","",4]
["POLS",1113,null,null,0,"","",null,null,null,null,null,null,null,null,null,"CHEM",1515,null,{"$f":"IF(W10<>\"\",W10,3)*IF(S10=\"A\",4,IF(S10=\"B\",3,IF(S10=\"C\",2,IF(S10=\"D\",1,IF(AND(S10>=0,S10<=4,ISNUMBER(S10)),S10,0)))))","v":0},{"$f":"IF(OR(S10=\"A\",S10=\"B\",S10=\"C\",S10=\"D\",S10=\"F\",AND(S10>=0,S10<=4,ISNUMBER(S10))),IF(W10<>\"\",W10,3),\"\")","v":""},{"$f":"IF(OR(S10=\"A\",S10=\"B\",S10=\"C\",S10=\"D\",S10=\"P\",AND(S10>=0,S10<=4,ISNUMBER(S10))),IF(W10<>\"\",W10,3),\"\")","v":""},5,null,null,null,"ENVR",3113,null,0,"",""]
["MATH",1513,null,null,0,"","",null,null,null,null,null,null,null,null,null,"BIOC",2344,null,0,"","",4,null,null,null,"ENVR",4811,null,0,"","",1]
["MATH",1613,null,null,0,"","",null,null,null,null,null,null,null,null,null,"ENGL",3323,null,0,"","",null,null,null,null,"ENVR",4813,null,0,"",""]
["MATH",2103,null,null,{"$f":"IF(H13<>\"\",H13,3)*IF(C13=\"A\",4,IF(C13=\"B\",3,IF(C13=\"C\",2,IF(C13=\"D\",1,IF(AND(C13>=0,C13<=4,ISNUMBER(C13)),C13,0)))))","v":0},{"$f":"IF(OR(C13=\"A\",C13=\"B\",C13=\"C\",C13=\"D\",C13=\"F\",AND(C13>=0,C13<=4,ISNUMBER(C13))),IF(H13<>\"\",H13,3),\"\")","v":""},{"$f":"IF(OR(C13=\"A\",C13=\"B\",C13=\"C\",C13=\"D\",C13=\"P\",AND(C13>=0,C13<=4,ISNUMBER(C13))),IF(H13<>\"\",H13,3),\"\")","v":""},null,null,null,null,null,null,null,null,null,"GEOL",1114,null,0,"","",4,null,null,null,"NREM",4443,null,0,"",""]
["(H)",null,null,null,0,"","",null,null,null,null,null,null,null,null,null,"SOIL",2124,null,0,"","",4,null,null,null,"GEOL",3503,null,0,"",""]
["(H)",null,null,null,0,"","",null,null,null,null,null,null,null,null,null,"PHYS",1114,null,0,"","",4,null,null,null,"POLS",4363,null,{"$f":"IF(AG15<>\"\",AG15,3)*IF(AC15=\"A\",4,IF(AC15=\"B\",3,IF(AC15=\"C\",2,IF(AC15=\"D\",1,IF(AND(AC15>=0,AC15<=4,ISNUMBER(AC15)),AC15,0)))))","v":0},{"$f":"IF(OR(AC15=\"A\",AC15=\"B\",AC15=\"C\",AC15=\"D\",AC15=\"F\",AND(AC15>=0,AC15<=4,ISNUMBER(AC15))),IF(AG15<>\"\",AG15,3),\"\")","v":""},{"$f":"IF(OR(AC15=\"A\",AC15=\"B\",AC15=\"C\",AC15=\"D\",AC15=\"P\",AND(AC15>=0,AC15<=4,ISNUMBER(AC15))),IF(AG15<>\"\",AG15,3),\"\")","v":""}]
["BIOL",1114,null,null,0,"","",4,null,null,null,null,null,null,null,null,null,null,null,null,null,""]
["CHEM",1314,null,null,0,"","",4,null,null,null,null,null,null,null,null,null,null,null,null,null,null,null,null,null,null,"Additional Core Courses: 12 Hours"]
["AGEC",1113,null,null,0,"","",null,null,null,null,null,null,null,null,null,null,null,null,null,null,null,null,"Graduate Semester",null,null,"SOIL",4683,null,0,"",""]
["SPCH",2713,null,null,0,"","",null,null,null,null,null,null,null,null,null,"Credits and GPAs as of this date:",null,null,null,null,null,null,null,null,null,"SOIL",4893,null,0,"",""]
["(D)",null,null,null,0,"","",null,null,null,null,null,null,null,null,null,{"$f":"SUM(G7:G24,V7:V15,AF8:AF15,AF18:AF22,AF34:AF43,G29:G44,O29:O44)","v":0},null,"Hours for graduation",null,null,null,null,null,null,null,"STAT",2013,null,{"$f":"IF(AG20<>\"\",AG20,3)*IF(AC20=\"A\",4,IF(AC20=\"B\",3,IF(AC20=\"C\",2,IF(AC20=\"D\",1,IF(AND(AC20>=0,AC20<=4,ISNUMBER(AC20)),AC20,0)))))","v":0},{"$f":"IF(OR(AC20=\"A\",AC20=\"B\",AC20=\"C\",AC20=\"D\",AC20=\"F\",AND(AC20>=0,AC20<=4,ISNUMBER(AC20))),IF(AG20<>\"\",AG20,3),\"\")","v":""},{"$f":"IF(OR(AC20=\"A\",AC20=\"B\",AC20=\"C\",AC20=\"D\",AC20=\"P\",AND(AC20>=0,AC20<=4,ISNUMBER(AC20))),IF(AG20<>\"\",AG20,3),\"\")","v":""}]
["(I)",null,null,null,0,"","",null,null,null,null,null,null,null,null,null,{"$f":"IF(SUM(F7:F24,U7:U15,AE8:AE15,AE18:AE22,AE34:AE43,F29:F44,N29:N44)=0,\"N/A\",ROUNDDOWN(SUM(E7:E24,T7:T15,AD8:AD15,AD34:AD43,AD18:AD22,E29:E44,M29:M44)/SUM(F7:F24,U7:U15,AE18:AE22,AE8:AE15,AE34:AE43,F29:F44,N29:N44),2))","v":"N/A"},null,"Grad/Ret GPA",null,null,null,null,null,null,null,"NREM",4473,null,0,"",""]
[null,null,null,null,0,"","",null,null,null,null,null,null,null,null,null,{"$f":"SUMIF(B7:B24,\">2999\",F7:F24)+SUMIF(B29:B44,\">2999\",F29:F44)+SUMIF(J29:J44,\">2999\",N29:O44)+SUMIF(R7:R15,\">2999\",U7:U15)+SUMIF(AB8:AB15,\">2999\",AE8:AE15)+SUMIF(AB34:AB43,\">2999\",AE34:AE43)+SUMIF(AB18:AB22,\">2999\",AE18:AE22)","v":0},null,"UPPER DIV HOURS (40)",null,null,null,null,null,null,null,null,null,null,0,"",""]
[null,null,null,null,0,"","",null,null,null,null,null,null,null,null,null,{"$f":"SUMIF(B7:B24,\">2999\",E7:E24)+SUMIF(B29:B44,\">2999\",E29:E44)+SUMIF(J29:J44,\">2999\",M29:M44)+SUMIF(R7:R15,\">2999\",T7:T15)+SUMIF(AB8:AB15,\">2999\",AD8:AD15)+SUMIF(AB34:AB43,\">2999\",AD34:AD43)+SUMIF(AB18:AB22,\">2999\",AD18:AD22)","v":0},null,"Upper div points (100)"]
[null,null,null,null,0,"","",null,null,null,null,null,null,null,null,null,{"$f":"IF(SUM(Q23)=0,\"N/A\",Q23/Q22)","v":"N/A"},null,"Upper div GPA",null,null,null,null,null,null,null,"Related Courses: 16 Hours from:"]
[null,null,null,null,null,null,null,null,null,null,null,null,null,null,null,null,null,null,"60 Senior College Hours"]
["Elective Hours:",null,null,null,null,null,null,null,null,null,null,null,null,null,null,null,124,null,"HOURS NEEDED",null,null,null,null,null,null,null,null,null,null,{"$f":"IF(AG26<>\"\",AG26,3)*IF(AC26=\"A\",4,IF(AC26=\"B\",3,IF(AC26=\"C\",2,IF(AC26=\"D\",1,IF(AND(AC26>=0,AC26<=4,ISNUMBER(AC26)),AC26,0)))))","v":0},{"$f":"IF(OR(AC26=\"A\",AC26=\"B\",AC26=\"C\",AC26=\"D\",AC26=\"F\",AND(AC26>=0,AC26<=4,ISNUMBER(AC26))),IF(AG26<>\"\",AG26,3),\"\")","v":""},{"$f":"IF(OR(AC26=\"A\",AC26=\"B\",AC26=\"C\",AC26=\"D\",AC26=\"P\",AND(AC26>=0,AC26<=4,ISNUMBER(AC26))),IF(AG26<>\"\",AG26,3),\"\")","v":""}]
["Non-Ag",null,null,null,null,null,null,null,"Ag Elect",null,null,null,null,null,null,null,"NOTES:"]
["Course",null,"Grd","Cr",null,null,null,null,"Course",null,"Grd","Cr","GPts","GPACr","GrCr"]
[null,null,null,null,{"$f":"D29*IF(OR(C29=\"A\",C29=\"RA\"),4,IF(OR(C29=\"B\",C29=\"RB\"),3,IF(OR(C29=\"C\",C29=\"RC\"),2,IF(OR(C29=\"D\",C29=\"RD\"),1,IF(AND(C29>=0,C29<=4,ISNUMBER(C29)),C29,0)))))","v":0},{"$f":"IF(OR(C29=\"\",D29=\"\"),\"\",IF(OR(C29=\"A\",C29=\"B\",C29=\"C\",C29=\"D\",C29=\"F\",C29=\"RA\",C29=\"RB\",C29=\"RC\",C29=\"RD\",C29=\"RF\",AND(C29>=0,C29<=4,ISNUMBER(C29))),D29,\"\"))","v":""},{"$f":"IF(OR(C29=\"\",D29=\"\"),\"\",IF(OR(C29=\"A\",C29=\"B\",C29=\"C\",C29=\"D\",C29=\"P\",AND(C29>=0,C29<=4,ISNUMBER(C29))),D29,\"\"))","v":""},null,null,null,null,null,{"$f":"L29*IF(OR(K29=\"A\",K29=\"RA\"),4,IF(OR(K29=\"B\",K29=\"RB\"),3,IF(OR(K29=\"C\",K29=\"RC\"),2,IF(OR(K29=\"D\",K29=\"RD\"),1,IF(AND(K29>=0,K29=4,ISNUMBER(K29)),K29,0)))))","v":0},{"$f":"IF(OR(K29=\"\",L29=\"\"),\"\",IF(OR(K29=\"A\",K29=\"B\",K29=\"C\",K29=\"D\",K29=\"F\",K29=\"RA\",K29=\"RB\",K29=\"RC\",K29=\"RD\",K29=\"RF\",AND(K29>=0,K29<=4,ISNUMBER(K29))),L29,\"\"))","v":""},{"$f":"IF(OR(K29=\"\",L29=\"\"),\"\",IF(OR(K29=\"A\",K29=\"B\",K29=\"C\",K29=\"D\",K29=\"P\",AND(K29>=0,K29<=4,ISNUMBER(K29))),L29,\"\"))","v":""}]
[null,null,null,null,0,"","",null,null,null,null,null,0,"","",null,null,null,null,null,null,null,null,null,null,null,null,null,null,0,"",""]
[null,null,null,null,0,"","",null,null,null,null,null,0,"",""]
[null,null,null,null,0,"","",null,null,null,null,null,0,"",""]
[null,null,null,null,0,"","",null,null,null,null,null,0,"",""]
[null,null,null,null,0,"","",null,null,null,null,null,0,"","",null,null,null,null,null,null,null,null,null,null,null,null,null,null,0,"",""]
[null,null,null,null,0,"","",null,null,null,null,null,0,"","",null,null,null,null,null,null,null,null,null,null,null,null,null,null,0,"",""]
[null,null,null,null,0,"","",null,null,null,null,null,0,"","",null,null,null,null,null,null,null,null,null,null,null,null,null,null,0,"",""]
[null,null,null,null,0,"","",null,null,null,null,null,0,"","",null,null,null,null,null,null,null,null,null,null,null,null,null,null,{"$f":"IF(AG37<>\"\",AG37,3)*IF(AC37=\"A\",4,IF(AC37=\"B\",3,IF(AC37=\"C\",2,IF(AC37=\"D\",1,IF(AND(AC37>=0,AC37<=4,ISNUMBER(AC37)),AC37,0)))))","v":0},{"$f":"IF(OR(AC37=\"A\",AC37=\"B\",AC37=\"C\",AC37=\"D\",AC37=\"F\",AND(AC37>=0,AC37<=4,ISNUMBER(AC37))),IF(AG37<>\"\",AG37,3),\"\")","v":""},{"$f":"IF(OR(AC37=\"A\",AC37=\"B\",AC37=\"C\",AC37=\"D\",AC37=\"P\",AND(AC37>=0,AC37<=4,ISNUMBER(AC37))),IF(AG37<>\"\",AG37,3),\"\")","v":""}]
[null,null,null,null,0,"","",null,null,null,null,null,0,"","",null,null,null,null,null,null,null,null,null,null,null,null,null,null,0,"",""]
[null,null,null,null,0,"","",null,null,null,null,null,0,"","",null,null,null,null,null,null,null,null,null,null,null,null,null,null,0,"",""]
[null,null,null,null,0,"","",null,null,null,null,null,0,"","",null,null,null,null,null,null,null,null,null,null,null,null,null,null,{"$f":"IF(AG40<>\"\",AG40,3)*IF(AC40=\"A\",4,IF(AC40=\"B\",3,IF(AC40=\"C\",2,IF(AC40=\"D\",1,IF(AND(AC40>=0,AC40<=4,ISNUMBER(AC40)),AC40,0)))))","v":0},{"$f":"IF(OR(AC40=\"A\",AC40=\"B\",AC40=\"C\",AC40=\"D\",AC40=\"F\",AND(AC40>=0,AC40<=4,ISNUMBER(AC40))),IF(AG40<>\"\",AG40,3),\"\")","v":""},{"$f":"IF(OR(AC40=\"A\",AC40=\"B\",AC40=\"C\",AC40=\"D\",AC40=\"P\",AND(AC40>=0,AC40<=4,ISNUMBER(AC40))),IF(AG40<>\"\",AG40,3),\"\")","v":""}]
[null,null,null,null,0,"","",null,null,null,null,null,0,"","",null,null,null,null,null,null,null,null,null,null,null,null,null,null,0,"",""]
[null,null,null,null,0,"","",null,null,null,null,null,0,"","",null,null,null,null,null,null,null,null,null,null,null,null,null,null,0,"",""]
[null,null,null,null,0,"","",null,null,null,null,null,0,"","",null,null,null,null,null,null,null,null,null,null,null,null,null,null,{"$f":"IF(AG43<>\"\",AG43,3)*IF(AC43=\"A\",4,IF(AC43=\"B\",3,IF(AC43=\"C\",2,IF(AC43=\"D\",1,IF(AND(AC43>=0,AC43<=4,ISNUMBER(AC43)),AC43,0)))))","v":0},{"$f":"IF(OR(AC43=\"A\",AC43=\"B\",AC43=\"C\",AC43=\"D\",AC43=\"F\",AND(AC43>=0,AC43<=4,ISNUMBER(AC43))),IF(AG43<>\"\",AG43,3),\"\")","v":""},{"$f":"IF(OR(AC43=\"A\",AC43=\"B\",AC43=\"C\",AC43=\"D\",AC43=\"P\",AND(AC43>=0,AC43<=4,ISNUMBER(AC43))),IF(AG43<>\"\",AG43,3),\"\")","v":""}]
[null,null,null,null,0,"","",null,null,null,null,null,0,"",""]

{"sheet":"GRAD CHECK","index":1,"n_rows":45,"n_cols":6,"rows_kept":45,"cut":false,"hidden":false,"merged":[[20,2,20,3],[0,0,0,5],[1,0,1,5],[2,0,2,5],[6,1,6,3],[6,4,6,5],[9,1,9,3],[12,1,12,3],[12,4,12,6],[13,1,13,2],[15,1,15,2],[18,1,18,2],[44,1,44,8],[24,1,24,5],[27,1,27,2],[28,1,28,3],[28,4,28,5],[38,1,38,8],[41,1,41,8]]}
["GRADUATION CHECK"]
["By"]
["COLLEGE OF AGRICULTURE SCIENCES AND NATURAL RESOURCES"]
[]
[]
["Name:",null,null,null,"Date:"]
[null,{"$f":"'ENVR-WATR'!B1","v":"Student's Name"}]
[]
["ID:",null,null,null,"Graduation Date:"]
[null,{"$f":"'ENVR-WATR'!S1","v":"999-99-999"},null,null,{"$f":"'ENVR-WATR'!Q18","v":"00:00:00"}]
[]
["EMAIL:",null,null,null,"Major:"]
[null,null,null,null,{"$f":"'ENVR-WATR'!Z1","v":"ENVR-WATR"}]
[]
["Advisor:",null,null,null,"Grad/Ret GPA:"]
[null,{"$f":"'ENVR-WATR'!AG1","v":"AdvisorName"},null,null,{"$f":"'ENVR-WATR'!Q21","v":"N/A"}]
[]
[null,"REMINDER:",null,null,"Upper Division GPA:"]
[null,null,null,null,{"$f":"'ENVR-WATR'!Q24","v":"N/A"}]
["Total Hours to Date:",null,{"$f":"'ENVR-WATR'!Q20","v":0},null,"Total  Upper Div Hours to Date:",{"$f":"'ENVR-WATR'!Q22","v":0}]
["Current Enrollment:",null,null,null,"Total  Upper Div Points to Date:",{"$f":"'ENVR-WATR'!Q23","v":0}]
[]
["Deficiencies/Remaining Hours:"]
[]
[]
[]
["Hours Needed from a 4 yr. School: ",null,null,null,"Upper Div. hours & points needed: "]
[]
[]
[]
["Number of hours needed to complete requirements:"]
[null,null,null,null,"(hrs. = current courses + deficiencies)"]
[]
[]
[]
[]
[]
["APPROVED BY:"]
[null,"________________________________________________________________________ Adviser"]
[]
[]
[null,"_______________________________________________________________ Department Head"]
[]
[]
[null,"________________________________________________________________________Dean"]

{"sheet":"ADVISOR'S NOTES","index":2,"n_rows":1,"n_cols":2,"rows_kept":1,"cut":false,"hidden":false,"merged":[]}
["DATE","NOTES"]