{"text_format":"1","workbook":"xlsx","n_sheets":3,"sheets":["ANSI-INTL","GRAD CHECK","ADVISOR'S NOTES"],"not_rendered":{"charts":0,"images":0,"macros":0,"external_links":0,"defined_names":2,"comments":1,"pivot_tables":0},"unopened":[],"bounds":{"document_bytes":16777216,"sheet_cells":100000,"rows_first":2000,"rows_last":500,"rows_between":2000,"halvings":0,"cell_chars":16384,"cell_head_chars":4096},"cells_cut":0,"cells_raw":0,"read":"whole","date_system":"1900"}

{"sheet":"ANSI-INTL","index":0,"n_rows":47,"n_cols":35,"rows_kept":47,"cut":false,"hidden":false,"merged":[[46,33,46,34],[41,33,41,34],[42,33,42,34],[43,33,43,34],[44,33,44,34],[45,33,45,34],[23,33,23,34],[22,33,22,34],[40,33,40,34],[20,33,20,34],[19,33,19,34],[39,33,39,34],[24,33,24,34],[34,33,34,34],[35,33,35,34],[31,33,31,34],[27,33,27,34],[29,33,29,34],[30,33,30,34],[28,33,28,34],[8,2,8,3],[8,8,8,11],[27,16,27,17],[24,16,24,17],[25,16,25,17],[26,16,26,17],[21,2,21,3],[21,8,21,11],[19,16,19,22],[21,16,21,17],[22,2,22,3],[22,8,22,11],[23,16,23,17],[18,2,18,3],[18,8,18,11],[22,16,22,17],[16,2,16,3],[16,8,16,11],[15,23,15,24],[17,2,17,3],[17,8,17,11],[17,23,17,24],[15,2,15,3],[15,8,15,11],[19,2,19,3],[19,8,19,11],[20,2,20,3],[20,8,20,11],[23,2,23,3],[23,8,23,11],[14,2,14,3],[14,8,14,11],[11,23,11,24],[13,2,13,3],[13,8,13,11],[12,23,12,24],[13,23,13,24],[12,2,12,3],[12,8,12,11],[11,2,11,3],[11,8,11,11],[10,2,10,3],[10,8,10,11],[9,2,9,3],[9,8,9,11],[9,23,9,24],[6,2,6,3],[6,8,6,11],[6,23,6,24],[0,1,0,16],[7,23,7,24],[7,2,7,3],[7,8,7,11],[0,18,0,24],[0,32,0,34],[16,33,16,34],[14,23,14,24],[21,33,21,34],[8,23,8,24],[13,33,13,34],[15,33,15,34],[9,33,9,34],[10,23,10,24],[16,23,16,24],[10,33,10,34],[14,33,14,34],[11,33,11,34],[12,33,12,34],[18,33,18,34]]}
["NAME:","Name, Student's",null,null,null,null,null,null,null,null,null,null,null,null,null,null,null,"ID:","999-99-999",null,null,null,null,null,null,"ANSI-INTL",null,null,"ADV:",null,null,null,"Advisor'sName"]
[]
["General Eduction Requirements: 42 Hours",null,null,null,null,null,null,null,null,null,null,null,null,null,null,null,"College/Dept. Requirements: 14 Hours",null,null,null,null,null,null,null,null,null,"Major Requirements: 64 Hours",null,null,null,null,null,null,null,"2014-15"]
[]
["Course",null,"Grade",null,"GPts","GPACr","GrCr",null,null,"Deviation",null,null,null,null,null,null,"Course",null,"Grade","GPts","GPACr","GrCr",null,"Deviation",null,null,"Course",null,"Grade","GPts","GPACr","GrCr",null,"Deviation"]
[]
["ENGL ",1113,null,null,{"$f":"IF(H7<>\"\",H7,3)*IF(C7=\"A\",4,IF(C7=\"B\",3,IF(C7=\"C\",2,IF(C7=\"D\",1,IF(AND(C7>=0,C7<=4,ISNUMBER(C7)),C7,0)))))","v":0},{"$f":"IF(OR(C7=\"A\",C7=\"B\",C7=\"C\",C7=\"D\",C7=\"F\",AND(C7>=0,C7<=4,ISNUMBER(C7))),IF(H7<>\"\",H7,3),\"\")","v":""},{"$f":"IF(OR(C7=\"A\",C7=\"B\",C7=\"C\",C7=\"D\",C7=\"P\",AND(C7>=0,C7<=4,ISNUMBER(C7))),IF(H7<>\"\",H7,3),\"\")","v":""},null,null,null,null,null,null,null,null,null,"AG",1011,null,{"$f":"IF(W7<>\"\",W7,3)*IF(S7=\"A\",4,IF(S7=\"B\",3,IF(S7=\"C\",2,IF(S7=\"D\",1,IF(AND(S7>=0,S7<=4,ISNUMBER(S7)),S7,0)))))","v":0},{"$f":"IF(OR(S7=\"A\",S7=\"B\",S7=\"C\",S7=\"D\",S7=\"F\",AND(S7>=0,S7<=4,ISNUMBER(S7))),IF(W7<>\"\",W7,3),\"\")","v":""},{"$f":"IF(OR(S7=\"A\",S7=\"B\",S7=\"C\",S7=\"D\",S7=\"P\",AND(S7>=0,S7<=4,ISNUMBER(S7))),IF(W7<>\"\",W7,3),\"\")","v":""},1,null,null,null,"Core Courses: 21 Hours"]
["ENGL ",1213,null,null,{"$f":"IF(H8<>\"\",H8,3)*IF(C8=\"A\",4,IF(C8=\"B\",3,IF(C8=\"C\",2,IF(C8=\"D\",1,IF(AND(C8>=0,C8<=4,ISNUMBER(C8)),C8,0)))))","v":0},{"$f":"IF(OR(C8=\"A\",C8=\"B\",C8=\"C\",C8=\"D\",C8=\"F\",AND(C8>=0,C8<=4,ISNUMBER(C8))),IF(H8<>\"\",H8,3),\"\")","v":""},{"$f":"IF(OR(C8=\"A\",C8=\"B\",C8=\"C\",C8=\"D\",C8=\"P\",AND(C8>=0,C8<=4,ISNUMBER(C8))),IF(H8<>\"\",H8,3),\"\")","v":""},null,null,null,null,null,null,null,null,null,"PLNT",1213,null,{"$f":"IF(W8<>\"\",W8,3)*IF(S8=\"A\",4,IF(S8=\"B\",3,IF(S8=\"C\",2,IF(S8=\"D\",1,IF(AND(S8>=0,S8<=4,ISNUMBER(S8)),S8,0)))))","v":0},{"$f":"IF(OR(S8=\"A\",S8=\"B\",S8=\"C\",S8=\"D\",S8=\"F\",AND(S8>=0,S8<=4,ISNUMBER(S8))),IF(W8<>\"\",W8,3),\"\")","v":""},{"$f":"IF(OR(S8=\"A\",S8=\"B\",S8=\"C\",S8=\"D\",S8=\"P\",AND(S8>=0,S8<=4,ISNUMBER(S8))),IF(W8<>\"\",W8,3),\"\")","v":""},null,null,null,null,"Alternative 1: First six are required then choose from:"]
["ENGL ",3323,null,null,0,"","",null,null,null,null,null,null,null,null,null,"ANSI",1124,null,0,"","",4]
["HIST",1103,null,null,{"$f":"IF(H10<>\"\",H10,3)*IF(C10=\"A\",4,IF(C10=\"B\",3,IF(C10=\"C\",2,IF(C10=\"D\",1,IF(AND(C10>=0,C10<=4,ISNUMBER(C10)),C10,0)))))","v":0},{"$f":"IF(OR(C10=\"A\",C10=\"B\",C10=\"C\",C10=\"D\",C10=\"F\",AND(C10>=0,C10<=4,ISNUMBER(C10))),IF(H10<>\"\",H10,3),\"\")","v":""},{"$f":"IF(OR(C10=\"A\",C10=\"B\",C10=\"C\",C10=\"D\",C10=\"P\",AND(C10>=0,C10<=4,ISNUMBER(C10))),IF(H10<>\"\",H10,3),\"\")","v":""},null,null,null,null,null,null,null,null,null,"FDSC",1133,null,0,"","",null,null,null,null,"ANSI",3423,null,{"$f":"IF(AG10<>\"\",AG10,3)*IF(AC10=\"A\",4,IF(AC10=\"B\",3,IF(AC10=\"C\",2,IF(AC10=\"D\",1,IF(AND(AC10>=0,AC10<=4,ISNUMBER(AC10)),AC10,0)))))","v":0},{"$f":"IF(OR(AC10=\"A\",AC10=\"B\",AC10=\"C\",AC10=\"D\",AC10=\"F\",AND(AC10>=0,AC10<=4,ISNUMBER(AC10))),IF(AG10<>\"\",AG10,3),\"\")","v":""},{"$f":"IF(OR(AC10=\"A\",AC10=\"B\",AC10=\"C\",AC10=\"D\",AC10=\"P\",AND(AC10>=0,AC10<=4,ISNUMBER(AC10))),IF(AG10<>\"\",AG10,3),\"\")","v":""}]
["POLS",1113,null,null,0,"","",null,null,null,null,null,null,null,null,null,"ACCT",2103,null,0,"","",null,null,null,null,"ANSI",3433,null,0,"",""]
["MATH",1513,null,null,0,"","",null,null,null,null,null,null,null,null,null,null,null,null,0,"","",null,null,null,null,"ANSI",3443,null,0,"",""]
["STAT",2023,null,null,0,"","",null,null,null,null,null,null,null,null,null,null,null,null,0,"","",null,null,null,null,"ANSI",3543,null,0,"",""]
["(H)",null,null,null,0,"","",null,null,null,null,null,null,null,null,null,null,null,null,0,"","",null,null,null,null,"ANSI",3653,null,0,"",""]
["(H)",null,null,null,0,"","",null,null,null,null,null,null,null,null,null,null,null,null,0,"","",null,null,null,null,"ANSI",4863,null,0,"",""]
["BIOL",1114,null,null,0,"","",4,null,null,null,null,null,null,null,null,null,null,null,0,"","",null,null,null,null,"ANSI",null,null,0,"",""]
["CHEM",1215,null,null,0,"","",5,null,null,null,null,null,null,null,null,null,null,null,0,"",""]
["AGEC",1113,null,null,0,"","",null,null,null,null,null,null,null,null,null,null,null,null,0,"","",null,null,null,null,"Alternative 2:"]
["SPCH",2713,null,null,0,"","",null,null,null,null,null,null,null,null,null,null,null,null,null,null,null,null,null,null,null,"ANSI",4863,null,{"$f":"IF(AG19<>\"\",AG19,3)*IF(AC19=\"A\",4,IF(AC19=\"B\",3,IF(AC19=\"C\",2,IF(AC19=\"D\",1,IF(AND(AC19>=0,AC19<=4,ISNUMBER(AC19)),AC19,0)))))","v":0},{"$f":"IF(OR(AC19=\"A\",AC19=\"B\",AC19=\"C\",AC19=\"D\",AC19=\"F\",AND(AC19>=0,AC19<=4,ISNUMBER(AC19))),IF(AG19<>\"\",AG19,3),\"\")","v":""},{"$f":"IF(OR(AC19=\"A\",AC19=\"B\",AC19=\"C\",AC19=\"D\",AC19=\"P\",AND(AC19>=0,AC19<=4,ISNUMBER(AC19))),IF(AG19<>\"\",AG19,3),\"\")","v":""}]
["(I)",null,null,null,0,"","",null,null,null,null,null,null,null,null,null,null,null,null,null,null,null,null,"Graduate Semester",null,null,"FDSC",2253,null,0,"",""]
["(I)",null,null,null,0,"","",null,null,null,null,null,null,null,null,null,"Credits and GPAs as of this date:",null,null,null,null,null,null,null,null,null,"FDSC",3113,null,0,"",""]
["(I)",null,null,null,0,"","",null,null,null,null,null,null,null,null,null,{"$f":"SUM(G7:G24,V7:V18,AF10:AF25,AF28:AF32,AF35:AF36,AF40:AF47,G28:G46,O28:O46)","v":0},null,"Hours for graduation",null,null,null,null,null,null,null,"FDSC",3154,null,0,"","",4]
["(I)",null,null,null,0,"","",null,null,null,null,null,null,null,null,null,{"$f":"IF(SUM(F7:F24,U7:U18,AE10:AE25,AE28:AE32, AE35:AE36,AE40:AE47,F28:F46,N28:N46)=0,\"N/A\",ROUNDDOWN(SUM(E7:E24,T7:T18,AD10:AD25,AD28:AD32,AD35:AD36,AD40:AD47,E28:E46,M28:M46)/SUM(F7:F24,U7:U18,AE10:AE25,AE28:AE32,AE35:AE36,AE40:AE47,F28:F46,N28:N46),2))","v":"N/A"},null,"Grad/Ret GPA",null,null,null,null,null,null,null,"FDSC",3373,null,0,"",""]
["(D)",null,null,null,{"$f":"IF(H24<>\"\",H24,3)*IF(C24=\"A\",4,IF(C24=\"B\",3,IF(C24=\"C\",2,IF(C24=\"D\",1,IF(AND(C24>=0,C24<=4,ISNUMBER(C24)),C24,0)))))","v":0},{"$f":"IF(OR(C24=\"A\",C24=\"B\",C24=\"C\",C24=\"D\",C24=\"F\",AND(C24>=0,C24<=4,ISNUMBER(C24))),IF(H24<>\"\",H24,3),\"\")","v":""},{"$f":"IF(OR(C24=\"A\",C24=\"B\",C24=\"C\",C24=\"D\",C24=\"P\",AND(C24>=0,C24<=4,ISNUMBER(C24))),IF(H24<>\"\",H24,3),\"\")","v":""},null,null,null,null,null,null,null,null,null,{"$f":"SUMIF(B7:B24,\">2999\",G7:G24)+SUMIF(B28:B46,\">2999\",F28:F46)+SUMIF(J28:J46,\">2999\",N28:N46)+SUMIF(R7:R18,\">2999\",V7:V18)+SUMIF(AB10:AB25,\">2999\",AF10:AF25)+SUMIF(AB40:AB47,\">2999\",AF40:AF47)+SUMIF(AB28:AB32,\">2999\",AF28:AF32)+SUMIF(AB35:AB36,\">2999\",AF35:AF36)","v":0},null,"UPPER DIV HOURS (40)",null,null,null,null,null,null,null,"MICR",2123,null,0,"",""]
[" Elective Hours:",null,null,null,null,null,null,null,null,null,null,null,null,null,null,null,{"$f":"SUMIF(B7:B24,\">2999\",E7:E24)+SUMIF(B28:B46,\">2999\",E28:E46)+SUMIF(J28:J46,\">2999\",M28:M46)+SUMIF(R7:R18,\">2999\",T7:T18)+SUMIF(AB10:AB25,\">2999\",AD10:AD25)+SUMIF(AB28:AB32,\">2999\",AD28:AD32)+SUMIF(AB35:AB47,\">2999\",AD35:AD47)","v":0},null,"Upper div points (100)",null,null,null,null,null,null,null,"MICR",2132,null,0,"","",2]
["Non-Ag",null,null,null,null,null,null,null,"Ag Elect ",null,null,null,null,null,null,null,{"$f":"IF(SUM(Q25)=0,\"N/A\",Q25/Q24)","v":"N/A"},null,"Upper div GPA"]
["Course",null,"Grd","Cr",null,null,null,null,"Course",null,"Grd","Cr","GPts","GPACr","GrCr",null,null,null,"60 Senior College Hours",null,null,null,null,null,null,null,"Additional Core Courses: 15 Hours"]
[null,null,null,null,{"$f":"D28*IF(OR(C28=\"A\",C28=\"RA\"),4,IF(OR(C28=\"B\",C28=\"RB\"),3,IF(OR(C28=\"C\",C28=\"RC\"),2,IF(OR(C28=\"D\",C28=\"RD\"),1,IF(AND(C28>=0,C28<=4,ISNUMBER(C28)),C28,0)))))","v":0},{"$f":"IF(OR(C28=\"\",D28=\"\"),\"\",IF(OR(C28=\"A\",C28=\"B\",C28=\"C\",C28=\"D\",C28=\"F\",C28=\"RA\",C28=\"RB\",C28=\"RC\",C28=\"RD\",C28=\"RF\",AND(C28>=0,C28<=4,ISNUMBER(C28))),D28,\"\"))","v":""},{"$f":"IF(OR(C28=\"\",D28=\"\"),\"\",IF(OR(C28=\"A\",C28=\"B\",C28=\"C\",C28=\"D\",C28=\"P\",AND(C28>=0,C28<=4,ISNUMBER(C28))),D28,\"\"))","v":""},null,null,null,null,null,{"$f":"L28*IF(OR(K28=\"A\",K28=\"RA\"),4,IF(OR(K28=\"B\",K28=\"RB\"),3,IF(OR(K28=\"C\",K28=\"RC\"),2,IF(OR(K28=\"D\",K28=\"RD\"),1,IF(AND(K28>=0,K28=4,ISNUMBER(K28)),K28,0)))))","v":0},{"$f":"IF(OR(K28=\"\",L28=\"\"),\"\",IF(OR(K28=\"A\",K28=\"B\",K28=\"C\",K28=\"D\",K28=\"F\",K28=\"RA\",K28=\"RB\",K28=\"RC\",K28=\"RD\",K28=\"RF\",AND(K28>=0,K28<=4,ISNUMBER(K28))),L28,\"\"))","v":""},{"$f":"IF(OR(K28=\"\",L28=\"\"),\"\",IF(OR(K28=\"A\",K28=\"B\",K28=\"C\",K28=\"D\",K28=\"P\",AND(K28>=0,K28<=4,ISNUMBER(K28))),L28,\"\"))","v":""},null,120,null,"HOURS NEEDED",null,null,null,null,null,null,null,"AGEC",3323,null,{"$f":"IF(AG28<>\"\",AG28,3)*IF(AC28=\"A\",4,IF(AC28=\"B\",3,IF(AC28=\"C\",2,IF(AC28=\"D\",1,IF(AND(AC28>=0,AC28<=4,ISNUMBER(AC28)),AC28,0)))))","v":0},{"$f":"IF(OR(AC28=\"A\",AC28=\"B\",AC28=\"C\",AC28=\"D\",AC28=\"F\",AND(AC28>=0,AC28<=4,ISNUMBER(AC28))),IF(AG28<>\"\",AG28,3),\"\")","v":""},{"$f":"IF(OR(AC28=\"A\",AC28=\"B\",AC28=\"C\",AC28=\"D\",AC28=\"P\",AND(AC28>=0,AC28<=4,ISNUMBER(AC28))),IF(AG28<>\"\",AG28,3),\"\")","v":""}]
[null,null,null,null,0,"","",null,null,null,null,null,0,"","",null,"NOTES:",null,null,null,null,null,null,null,null,null,"AGEC",3333,null,{"$f":"IF(AG29<>\"\",AG29,3)*IF(AC29=\"A\",4,IF(AC29=\"B\",3,IF(AC29=\"C\",2,IF(AC29=\"D\",1,IF(AND(AC29>=0,AC29<=4,ISNUMBER(AC29)),AC29,0)))))","v":0},{"$f":"IF(OR(AC29=\"A\",AC29=\"B\",AC29=\"C\",AC29=\"D\",AC29=\"F\",AND(AC29>=0,AC29<=4,ISNUMBER(AC29))),IF(AG29<>\"\",AG29,3),\"\")","v":""},{"$f":"IF(OR(AC29=\"A\",AC29=\"B\",AC29=\"C\",AC29=\"D\",AC29=\"P\",AND(AC29>=0,AC29<=4,ISNUMBER(AC29))),IF(AG29<>\"\",AG29,3),\"\")","v":""}]
[null,null,null,null,0,"","",null,null,null,null,null,0,"","",null,null,null,null,null,null,null,null,null,null,null,"AGEC",4343,null,{"$f":"IF(AG30<>\"\",AG30,3)*IF(AC30=\"A\",4,IF(AC30=\"B\",3,IF(AC30=\"C\",2,IF(AC30=\"D\",1,IF(AND(AC30>=0,AC30<=4,ISNUMBER(AC30)),AC30,0)))))","v":0},{"$f":"IF(OR(AC30=\"A\",AC30=\"B\",AC30=\"C\",AC30=\"D\",AC30=\"F\",AND(AC30>=0,AC30<=4,ISNUMBER(AC30))),IF(AG30<>\"\",AG30,3),\"\")","v":""},{"$f":"IF(OR(AC30=\"A\",AC30=\"B\",AC30=\"C\",AC30=\"D\",AC30=\"P\",AND(AC30>=0,AC30<=4,ISNUMBER(AC30))),IF(AG30<>\"\",AG30,3),\"\")","v":""}]
[null,null,null,null,0,"","",null,null,null,null,null,0,"","",null,null,null,null,null,null,null,null,null,null,null,"ECON",2203,null,0,"",""]
[null,null,null,null,0,"","",null,null,null,null,null,0,"","",null,null,null,null,null,null,null,null,null,null,null,"LSB",3213,null,0,"",""]
[null,null,null,null,0,"","",null,null,null,null,null,0,"",""]
[null,null,null,null,0,"","",null,null,null,null,null,0,"","",null,null,null,null,null,null,null,null,null,null,null,"Language Requirements: 5 Hours"]
[null,null,null,null,0,"","",null,null,null,null,null,0,"","",null,null,null,null,null,null,null,null,null,null,null,null,null,null,{"$f":"IF(AG35<>\"\",AG35,3)*IF(AC35=\"A\",4,IF(AC35=\"B\",3,IF(AC35=\"C\",2,IF(AC35=\"D\",1,IF(AND(AC35>=0,AC35<=4,ISNUMBER(AC35)),AC35,0)))))","v":0},{"$f":"IF(OR(AC35=\"A\",AC35=\"B\",AC35=\"C\",AC35=\"D\",AC35=\"F\",AND(AC35>=0,AC35<=4,ISNUMBER(AC35))),IF(AG35<>\"\",AG35,3),\"\")","v":""},{"$f":"IF(OR(AC35=\"A\",AC35=\"B\",AC35=\"C\",AC35=\"D\",AC35=\"P\",AND(AC35>=0,AC35<=4,ISNUMBER(AC35))),IF(AG35<>\"\",AG35,3),\"\")","v":""}]
[null,null,null,null,0,"","",null,null,null,null,null,0,"","",null,null,null,null,null,null,null,null,null,null,null,null,null,null,{"$f":"IF(AG36<>\"\",AG36,3)*IF(AC36=\"A\",4,IF(AC36=\"B\",3,IF(AC36=\"C\",2,IF(AC36=\"D\",1,IF(AND(AC36>=0,AC36<=4,ISNUMBER(AC36)),AC36,0)))))","v":0},{"$f":"IF(OR(AC36=\"A\",AC36=\"B\",AC36=\"C\",AC36=\"D\",AC36=\"F\",AND(AC36>=0,AC36<=4,ISNUMBER(AC36))),IF(AG36<>\"\",AG36,3),\"\")","v":""},{"$f":"IF(OR(AC36=\"A\",AC36=\"B\",AC36=\"C\",AC36=\"D\",AC36=\"P\",AND(AC36>=0,AC36<=4,ISNUMBER(AC36))),IF(AG36<>\"\",AG36,3),\"\")","v":""}]
[null,null,null,null,0,"","",null,null,null,null,null,0,"",""]
[null,null,null,null,0,"","",null,null,null,null,null,0,"","",null,null,null,null,null,null,null,null,null,null,null,"Related Courses: 23 Hours"]
[null,null,null,null,0,"","",null,null,null,null,null,0,"","",null,null,null,null,null,null,null,null,null,null,null,"Choose from list on Degree Sheet"]
[null,null,null,null,0,"","",null,null,null,null,null,0,"","",null,null,null,null,null,null,null,null,null,null,null,null,null,null,{"$f":"IF(AG40<>\"\",AG40,3)*IF(AC40=\"A\",4,IF(AC40=\"B\",3,IF(AC40=\"C\",2,IF(AC40=\"D\",1,IF(AND(AC40>=0,AC40<=4,ISNUMBER(AC40)),AC40,0)))))","v":0},{"$f":"IF(OR(AC40=\"A\",AC40=\"B\",AC40=\"C\",AC40=\"D\",AC40=\"F\",AND(AC40>=0,AC40<=4,ISNUMBER(AC40))),IF(AG40<>\"\",AG40,3),\"\")","v":""},{"$f":"IF(OR(AC40=\"A\",AC40=\"B\",AC40=\"C\",AC40=\"D\",AC40=\"P\",AND(AC40>=0,AC40<=4,ISNUMBER(AC40))),IF(AG40<>\"\",AG40,3),\"\")","v":""}]
[null,null,null,null,0,"","",null,null,null,null,null,0,"","",null,null,null,null,null,null,null,null,null,null,null,null,null,null,{"$f":"IF(AG41<>\"\",AG41,3)*IF(AC41=\"A\",4,IF(AC41=\"B\",3,IF(AC41=\"C\",2,IF(AC41=\"D\",1,IF(AND(AC41>=0,AC41<=4,ISNUMBER(AC41)),AC41,0)))))","v":0},{"$f":"IF(OR(AC41=\"A\",AC41=\"B\",AC41=\"C\",AC41=\"D\",AC41=\"F\",AND(AC41>=0,AC41<=4,ISNUMBER(AC41))),IF(AG41<>\"\",AG41,3),\"\")","v":""},{"$f":"IF(OR(AC41=\"A\",AC41=\"B\",AC41=\"C\",AC41=\"D\",AC41=\"P\",AND(AC41>=0,AC41<=4,ISNUMBER(AC41))),IF(AG41<>\"\",AG41,3),\"\")","v":""}]
[null,null,null,null,0,"","",null,null,null,null,null,0,"","",null,null,null,null,null,null,null,null,null,null,null,null,null,null,{"$f":"IF(AG42<>\"\",AG42,3)*IF(AC42=\"A\",4,IF(AC42=\"B\",3,IF(AC42=\"C\",2,IF(AC42=\"D\",1,IF(AND(AC42>=0,AC42<=4,ISNUMBER(AC42)),AC42,0)))))","v":0},{"$f":"IF(OR(AC42=\"A\",AC42=\"B\",AC42=\"C\",AC42=\"D\",AC42=\"F\",AND(AC42>=0,AC42<=4,ISNUMBER(AC42))),IF(AG42<>\"\",AG42,3),\"\")","v":""},{"$f":"IF(OR(AC42=\"A\",AC42=\"B\",AC42=\"C\",AC42=\"D\",AC42=\"P\",AND(AC42>=0,AC42<=4,ISNUMBER(AC42))),IF(AG42<>\"\",AG42,3),\"\")","v":""}]
[null,null,null,null,0,"","",null,null,null,null,null,0,"","",null,null,null,null,null,null,null,null,null,null,null,null,null,null,{"$f":"IF(AG43<>\"\",AG43,3)*IF(AC43=\"A\",4,IF(AC43=\"B\",3,IF(AC43=\"C\",2,IF(AC43=\"D\",1,IF(AND(AC43>=0,AC43<=4,ISNUMBER(AC43)),AC43,0)))))","v":0},{"$f":"IF(OR(AC43=\"A\",AC43=\"B\",AC43=\"C\",AC43=\"D\",AC43=\"F\",AND(AC43>=0,AC43<=4,ISNUMBER(AC43))),IF(AG43<>\"\",AG43,3),\"\")","v":""},{"$f":"IF(OR(AC43=\"A\",AC43=\"B\",AC43=\"C\",AC43=\"D\",AC43=\"P\",AND(AC43>=0,AC43<=4,ISNUMBER(AC43))),IF(AG43<>\"\",AG43,3),\"\")","v":""}]
[null,null,null,null,{"$f":"D44*IF(OR(C44=\"A\",C44=\"RA\"),4,IF(OR(C44=\"B\",C44=\"RB\"),3,IF(OR(C44=\"C\",C44=\"RC\"),2,IF(OR(C44=\"D\",C44=\"RD\"),1,IF(AND(C44>=0,C44<=4,ISNUMBER(C44)),C44,0)))))","v":0},{"$f":"IF(OR(C44=\"\",D44=\"\"),\"\",IF(OR(C44=\"A\",C44=\"B\",C44=\"C\",C44=\"D\",C44=\"F\",C44=\"RA\",C44=\"RB\",C44=\"RC\",C44=\"RD\",C44=\"RF\",AND(C44>=0,C44<=4,ISNUMBER(C44))),D44,\"\"))","v":""},{"$f":"IF(OR(C44=\"\",D44=\"\"),\"\",IF(OR(C44=\"A\",C44=\"B\",C44=\"C\",C44=\"D\",C44=\"P\",AND(C44>=0,C44<=4,ISNUMBER(C44))),D44,\"\"))","v":""},null,null,null,null,null,{"$f":"L44*IF(OR(K44=\"A\",K44=\"RA\"),4,IF(OR(K44=\"B\",K44=\"RB\"),3,IF(OR(K44=\"C\",K44=\"RC\"),2,IF(OR(K44=\"D\",K44=\"RD\"),1,IF(AND(K44>=0,K44=4,ISNUMBER(K44)),K44,0)))))","v":0},{"$f":"IF(OR(K44=\"\",L44=\"\"),\"\",IF(OR(K44=\"A\",K44=\"B\",K44=\"C\",K44=\"D\",K44=\"F\",K44=\"RA\",K44=\"RB\",K44=\"RC\",K44=\"RD\",K44=\"RF\",AND(K44>=0,K44<=4,ISNUMBER(K44))),L44,\"\"))","v":""},{"$f":"IF(OR(K44=\"\",L44=\"\"),\"\",IF(OR(K44=\"A\",K44=\"B\",K44=\"C\",K44=\"D\",K44=\"P\",AND(K44>=0,K44<=4,ISNUMBER(K44))),L44,\"\"))","v":""},null,null,null,null,null,null,null,null,null,null,null,null,null,null,{"$f":"IF(AG44<>\"\",AG44,3)*IF(AC44=\"A\",4,IF(AC44=\"B\",3,IF(AC44=\"C\",2,IF(AC44=\"D\",1,IF(AND(AC44>=0,AC44<=4,ISNUMBER(AC44)),AC44,0)))))","v":0},{"$f":"IF(OR(AC44=\"A\",AC44=\"B\",AC44=\"C\",AC44=\"D\",AC44=\"F\",AND(AC44>=0,AC44<=4,ISNUMBER(AC44))),IF(AG44<>\"\",AG44,3),\"\")","v":""},{"$f":"IF(OR(AC44=\"A\",AC44=\"B\",AC44=\"C\",AC44=\"D\",AC44=\"P\",AND(AC44>=0,AC44<=4,ISNUMBER(AC44))),IF(AG44<>\"\",AG44,3),\"\")","v":""}]
[null,null,null,null,0,"","",null,null,null,null,null,0,"","",null,null,null,null,null,null,null,null,null,null,null,null,null,null,0,"",""]
[null,null,null,null,0,"","",null,null,null,null,null,0,"","",null,null,null,null,null,null,null,null,null,null,null,null,null,null,0,"",""]
[null,null,null,null,null,null,null,null,null,null,null,null,null,null,null,null,null,null,null,null,null,null,null,null,null,null,null,null,null,{"$f":"IF(AG47<>\"\",AG47,3)*IF(AC47=\"A\",4,IF(AC47=\"B\",3,IF(AC47=\"C\",2,IF(AC47=\"D\",1,IF(AND(AC47>=0,AC47<=4,ISNUMBER(AC47)),AC47,0)))))","v":0},{"$f":"IF(OR(AC47=\"A\",AC47=\"B\",AC47=\"C\",AC47=\"D\",AC47=\"F\",AND(AC47>=0,AC47<=4,ISNUMBER(AC47))),IF(AG47<>\"\",AG47,3),\"\")","v":""},{"$f":"IF(OR(AC47=\"A\",AC47=\"B\",AC47=\"C\",AC47=\"D\",AC47=\"P\",AND(AC47>=0,AC47<=4,ISNUMBER(AC47))),IF(AG47<>\"\",AG47,3),\"\")","v":""}]

{"sheet":"GRAD CHECK","index":1,"n_rows":45,"n_cols":6,"rows_kept":45,"cut":false,"hidden":false,"merged":[[20,2,20,3],[0,0,0,5],[1,0,1,5],[2,0,2,5],[6,1,6,3],[6,4,6,5],[9,1,9,3],[12,1,12,3],[12,4,12,6],[13,1,13,2],[15,1,15,2],[18,1,18,2],[44,1,44,8],[24,1,24,5],[27,1,27,2],[28,1,28,3],[28,4,28,5],[38,1,38,8],[41,1,41,8]]}
["GRADUATION CHECK"]
["By"]
["COLLEGE OF AGRICULTURE SCIENCES AND NATURAL RESOURCES"]
[]
[]
["Name:",null,null,null,"Date:"]
[null,{"$f":"'ANSI-INTL'!B1:Q1","v":"Name, Student's"}]
[]
["ID:",null,null,null,"Graduation Date:"]
[null,{"$f":"'ANSI-INTL'!S1","v":"999-99-999"},null,null,{"$f":"'ANSI-INTL'!Q20","v":"00:00:00"}]
[]
["EMAIL:",null,null,null,"Major:"]
[null,null,null,null,{"$f":"'ANSI-INTL'!Z1","v":"ANSI-INTL"}]
[]
["Advisor:",null,null,null,"Grad/Ret GPA:"]
[null,{"$f":"'ANSI-INTL'!AG1","v":"Advisor'sName"},null,null,{"$f":"'ANSI-INTL'!Q23","v":"N/A"}]
[]
[null,"REMINDER:",null,null,"Upper Division GPA:"]
[null,null,null,null,{"$f":"'ANSI-INTL'!Q26","v":"N/A"}]
["Total Hours to Date:",null,{"$f":"'ANSI-INTL'!Q22","v":0},null,"Total  Upper Div Hours to Date:",{"$f":"'ANSI-INTL'!Q24","v":0}]
["Current Enrollment:",null,null,null,"Total  Upper Div Points to Date:",{"$f":"'ANSI-INTL'!Q25","v":0}]
[]
["Deficiencies/Remaining Hours:"]
[]
[]
[]
["Hours Needed from a 4 yr. School: ",null,null,null,"Upper Div. hours & points needed: "]
[]
[]
[]
["Number of hours needed to complete requirements:"]
[null,null,null,null,"(hrs. = current courses + deficiencies)"]
[]
[]
[]
[]
[]
["APPROVED BY:"]
[null,"________________________________________________________________________ Adviser"]
[]
[]
[null,"_______________________________________________________________ Department Head"]
[]
[]
[null,"________________________________________________________________________Dean"]

{"sheet":"ADVISOR'S NOTES","index":2,"n_rows":1,"n_cols":2,"rows_kept":1,"cut":false,"hidden":false,"merged":[]}
["DATE","NOTES"]