{"text_format":"1","workbook":"xlsx","n_sheets":3,"sheets":["ANSI-PVAS","GRAD CHECK","ADVISOR'S NOTES"],"not_rendered":{"charts":0,"images":0,"macros":0,"external_links":0,"defined_names":2,"comments":1,"pivot_tables":0},"unopened":[],"bounds":{"document_bytes":16777216,"sheet_cells":100000,"rows_first":2000,"rows_last":500,"rows_between":2000,"halvings":0,"cell_chars":16384,"cell_head_chars":4096},"cells_cut":0,"cells_raw":0,"read":"whole","date_system":"1900"}

{"sheet":"ANSI-PVAS","index":0,"n_rows":44,"n_cols":35,"rows_kept":44,"cut":false,"hidden":false,"merged":[[8,2,8,3],[8,8,8,11],[7,23,7,24],[7,33,7,34],[9,2,9,3],[9,8,9,11],[8,23,8,24],[8,33,8,34],[7,2,7,3],[7,8,7,11],[0,18,0,24],[0,32,0,34],[6,2,6,3],[6,8,6,11],[6,23,6,24],[0,1,0,16],[10,2,10,3],[10,8,10,11],[9,23,9,24],[9,33,9,34],[11,2,11,3],[11,8,11,11],[10,23,10,24],[10,33,10,34],[12,2,12,3],[12,8,12,11],[11,23,11,24],[11,33,11,34],[12,23,12,24],[12,33,12,34],[13,2,13,3],[13,8,13,11],[14,2,14,3],[14,8,14,11],[13,23,13,24],[15,2,15,3],[15,8,15,11],[14,23,14,24],[17,2,17,3],[17,8,17,11],[15,23,15,24],[18,2,18,3],[18,8,18,11],[16,23,16,24],[19,2,19,3],[19,8,19,11],[17,23,17,24],[19,16,19,22],[16,2,16,3],[16,8,16,11],[20,2,20,3],[20,8,20,11],[21,2,21,3],[21,8,21,11],[22,2,22,3],[22,8,22,11],[37,33,37,34],[38,33,38,34],[40,33,40,34],[17,33,17,34],[21,16,21,17],[19,33,19,34],[18,33,18,34],[29,33,29,34],[34,33,34,34],[35,33,35,34],[36,33,36,34],[39,33,39,34],[31,33,31,34],[32,33,32,34],[33,33,33,34],[22,16,22,17],[30,33,30,34],[24,0,24,11],[23,16,23,17],[24,16,24,17],[25,16,25,17],[26,16,26,17],[27,16,27,17],[23,2,23,3],[23,8,23,11]]}
["NAME:","Name, Student's",null,null,null,null,null,null,null,null,null,null,null,null,null,null,null,"ID:","999-99-999",null,null,null,null,null,null,"ANSI-PVAS",null,null,"ADV:",null,null,null,"AdvisorName"]
[]
["General Eduction Requirements: 46 Hours",null,null,null,null,null,null,null,null,null,null,null,null,null,null,null,"College/Dept. Requirements: 28 Hours",null,null,null,null,null,null,null,null,null,"Major Requirements: 46 Hours",null,null,null,null,null,null,null,"2013-14"]
[]
["Course",null,"Grade",null,"GPts","GPACr","GrCr",null,null,"Deviation",null,null,null,null,null,null,"Course",null,"Grade","GPts","GPACr","GrCr",null,"Deviation",null,null,"Course",null,"Grade","GPts","GPACr","GrCr",null,"Deviation"]
[]
["ENGL ",1113,null,null,{"$f":"IF(H7<>\"\",H7,3)*IF(C7=\"A\",4,IF(C7=\"B\",3,IF(C7=\"C\",2,IF(C7=\"D\",1,IF(AND(C7>=0,C7<=4,ISNUMBER(C7)),C7,0)))))","v":0},{"$f":"IF(OR(C7=\"A\",C7=\"B\",C7=\"C\",C7=\"D\",C7=\"F\",AND(C7>=0,C7<=4,ISNUMBER(C7))),IF(H7<>\"\",H7,3),\"\")","v":""},{"$f":"IF(OR(C7=\"A\",C7=\"B\",C7=\"C\",C7=\"D\",C7=\"P\",AND(C7>=0,C7<=4,ISNUMBER(C7))),IF(H7<>\"\",H7,3),\"\")","v":""},null,null,null,null,null,null,null,null,null,"AG",1011,null,{"$f":"IF(W7<>\"\",W7,3)*IF(S7=\"A\",4,IF(S7=\"B\",3,IF(S7=\"C\",2,IF(S7=\"D\",1,IF(AND(S7>=0,S7<=4,ISNUMBER(S7)),S7,0)))))","v":0},{"$f":"IF(OR(S7=\"A\",S7=\"B\",S7=\"C\",S7=\"D\",S7=\"F\",AND(S7>=0,S7<=4,ISNUMBER(S7))),IF(W7<>\"\",W7,3),\"\")","v":""},{"$f":"IF(OR(S7=\"A\",S7=\"B\",S7=\"C\",S7=\"D\",S7=\"P\",AND(S7>=0,S7<=4,ISNUMBER(S7))),IF(W7<>\"\",W7,3),\"\")","v":""},1,null,null,null,"Core Courses: 18 Hours"]
["ENGL ",1213,null,null,{"$f":"IF(H8<>\"\",H8,3)*IF(C8=\"A\",4,IF(C8=\"B\",3,IF(C8=\"C\",2,IF(C8=\"D\",1,IF(AND(C8>=0,C8<=4,ISNUMBER(C8)),C8,0)))))","v":0},{"$f":"IF(OR(C8=\"A\",C8=\"B\",C8=\"C\",C8=\"D\",C8=\"F\",AND(C8>=0,C8<=4,ISNUMBER(C8))),IF(H8<>\"\",H8,3),\"\")","v":""},{"$f":"IF(OR(C8=\"A\",C8=\"B\",C8=\"C\",C8=\"D\",C8=\"P\",AND(C8>=0,C8<=4,ISNUMBER(C8))),IF(H8<>\"\",H8,3),\"\")","v":""},null,null,null,null,null,null,null,null,null,"PLNT",1213,null,{"$f":"IF(W8<>\"\",W8,3)*IF(S8=\"A\",4,IF(S8=\"B\",3,IF(S8=\"C\",2,IF(S8=\"D\",1,IF(AND(S8>=0,S8<=4,ISNUMBER(S8)),S8,0)))))","v":0},{"$f":"IF(OR(S8=\"A\",S8=\"B\",S8=\"C\",S8=\"D\",S8=\"F\",AND(S8>=0,S8<=4,ISNUMBER(S8))),IF(W8<>\"\",W8,3),\"\")","v":""},{"$f":"IF(OR(S8=\"A\",S8=\"B\",S8=\"C\",S8=\"D\",S8=\"P\",AND(S8>=0,S8<=4,ISNUMBER(S8))),IF(W8<>\"\",W8,3),\"\")","v":""},null,null,null,null,"ANSI",3423,null,{"$f":"IF(AG8<>\"\",AG8,3)*IF(AC8=\"A\",4,IF(AC8=\"B\",3,IF(AC8=\"C\",2,IF(AC8=\"D\",1,IF(AND(AC8>=0,AC8<=4,ISNUMBER(AC8)),AC8,0)))))","v":0},{"$f":"IF(OR(AC8=\"A\",AC8=\"B\",AC8=\"C\",AC8=\"D\",AC8=\"F\",AND(AC8>=0,AC8<=4,ISNUMBER(AC8))),IF(AG8<>\"\",AG8,3),\"\")","v":""},{"$f":"IF(OR(AC8=\"A\",AC8=\"B\",AC8=\"C\",AC8=\"D\",AC8=\"P\",AND(AC8>=0,AC8<=4,ISNUMBER(AC8))),IF(AG8<>\"\",AG8,3),\"\")","v":""}]
["ENGL ",3323,null,null,0,"","",null,null,null,null,null,null,null,null,null,"ANSI",1124,null,0,"","",4,null,null,null,"ANSI",3543,null,0,"",""]
["HIST",1103,null,null,0,"","",null,null,null,null,null,null,null,null,null,"ANSI",2253,null,0,"","",null,null,null,null,"ANSI",3903,null,0,"",""]
["POLS",1113,null,null,0,"","",null,null,null,null,null,null,null,null,null,"MICR",2123,null,0,"","",null,null,null,null,"ANSI",3433,null,0,"",""]
["MATH",1513,null,null,0,"","",null,null,null,null,null,null,null,null,null,"MICR",2132,null,0,"","",2,null,null,null,"ANSI",3443,null,0,"",""]
["MATH",1613,null,null,0,"","",null,null,null,null,null,null,null,null,null,"PHYS",1114,null,0,"","",4,null,null,null,"ANSI",3653,null,0,"",""]
["(H)",null,null,null,0,"","",null,null,null,null,null,null,null,null,null,"PHYS",1214,null,0,"","",4,null,null,null,null,null,null,0,"",""]
["(H)",null,null,null,0,"","",null,null,null,null,null,null,null,null,null,"ZOOL",1604,null,0,"","",4,null,null,null,null,null,null,0,"",""]
["BIOL",1114,null,null,0,"","",4,null,null,null,null,null,null,null,null,null,null,null,0,"",""]
["CHEM",1314,null,null,{"$f":"IF(H17<>\"\",H17,3)*IF(C17=\"A\",4,IF(C17=\"B\",3,IF(C17=\"C\",2,IF(C17=\"D\",1,IF(AND(C17>=0,C17<=4,ISNUMBER(C17)),C17,0)))))","v":0},{"$f":"IF(OR(C17=\"A\",C17=\"B\",C17=\"C\",C17=\"D\",C17=\"F\",AND(C17>=0,C17<=4,ISNUMBER(C17))),IF(H17<>\"\",H17,3),\"\")","v":""},{"$f":"IF(OR(C17=\"A\",C17=\"B\",C17=\"C\",C17=\"D\",C17=\"P\",AND(C17>=0,C17<=4,ISNUMBER(C17))),IF(H17<>\"\",H17,3),\"\")","v":""},4,null,null,null,null,null,null,null,null,null,null,null,0,"","",null,null,null,null,"8 HOURS ADDITIONAL CORE"]
["CHEM",1515,null,null,0,"","",5,null,null,null,null,null,null,null,null,null,null,null,0,"","",null,null,null,null,"BIOC",3653,null,{"$f":"IF(AG18<>\"\",AG18,3)*IF(AC18=\"A\",4,IF(AC18=\"B\",3,IF(AC18=\"C\",2,IF(AC18=\"D\",1,IF(AND(AC18>=0,AC18<=4,ISNUMBER(AC18)),AC18,0)))))","v":0},{"$f":"IF(OR(AC18=\"A\",AC18=\"B\",AC18=\"C\",AC18=\"D\",AC18=\"F\",AND(AC18>=0,AC18<=4,ISNUMBER(AC18))),IF(AG18<>\"\",AG18,3),\"\")","v":""},{"$f":"IF(OR(AC18=\"A\",AC18=\"B\",AC18=\"C\",AC18=\"D\",AC18=\"P\",AND(AC18>=0,AC18<=4,ISNUMBER(AC18))),IF(AG18<>\"\",AG18,3),\"\")","v":""}]
["AGEC",1113,null,null,0,"","",null,null,null,null,null,null,null,null,null,null,null,null,null,null,null,null,null,null,null,"CHEM",3015,null,{"$f":"IF(AG19<>\"\",AG19,3)*IF(AC19=\"A\",4,IF(AC19=\"B\",3,IF(AC19=\"C\",2,IF(AC19=\"D\",1,IF(AND(AC19>=0,AC19<=4,ISNUMBER(AC19)),AC19,0)))))","v":0},{"$f":"IF(OR(AC19=\"A\",AC19=\"B\",AC19=\"C\",AC19=\"D\",AC19=\"F\",AND(AC19>=0,AC19<=4,ISNUMBER(AC19))),IF(AG19<>\"\",AG19,3),\"\")","v":""},{"$f":"IF(OR(AC19=\"A\",AC19=\"B\",AC19=\"C\",AC19=\"D\",AC19=\"P\",AND(AC19>=0,AC19<=4,ISNUMBER(AC19))),IF(AG19<>\"\",AG19,3),\"\")","v":""},5]
["SPCH",2713,null,null,0,"","",null,null,null,null,null,null,null,null,null,null,null,null,null,null,null,null,"Graduate Semester",null,null,null,null,null,0,"",""]
["(I)",null,null,null,0,"","",null,null,null,null,null,null,null,null,null,"Credits and GPAs as of this date:",null,null,null,null,null,null,null,null,null,"RELATED COURSES 20 HOURS FROM:"]
["(D)",null,null,null,0,"","",null,null,null,null,null,null,null,null,null,{"$f":"SUM(G7:G24,V7:V17,AF7:AF15,AF18:AF20,AF30:AF41,G29:G44,O29:O44)","v":0},null,"Hours for graduation"]
[null,null,null,null,0,"","",null,null,null,null,null,null,null,null,null,{"$f":"IF(SUM(F7:F24,U7:U18,AE8:AE15,AE18:AE20,AE30:AE41, F29:F44,N29:N44)=0,\"N/A\",ROUNDDOWN(SUM(E7:E24,T7:T18,AD8:AD15,AD18:AD20,AD30:AD41,E29:E44,M29:M44)/SUM(F7:F24,U7:U18,AE8:AE15,AE18:AE20,AE30:AE41,F29:F44,N29:N44),2))","v":"N/A"},null,"Grad/Ret GPA"]
[null,null,null,null,0,"","",null,null,null,null,null,null,null,null,null,{"$f":"SUMIF(B7:B24,\">2999\",F7:F24)+SUMIF(B29:B44,\">2999\",F29:F44)+SUMIF(J29:J44,\">2999\",N29:N44)+SUMIF(R7:R17,\">2999\",U7:U17)+SUMIF(AB7:AB15,\">2999\",AE7:AE15)+SUMIF(AB18:AB20,\">2999\",AE18:AE20)+SUMIF(AB26:AB41,\">2999\",AE26:AE41)","v":0},null,"UPPER DIV HOURS (40)"]
[null,null,null,null,null,null,null,null,null,null,null,null,null,null,null,null,{"$f":"SUMIF(B7:B24,\">2999\",E7:E24)+SUMIF(B29:B44,\">2999\",E29:E44)+SUMIF(J29:J44,\">2999\",M29:M44)+SUMIF(R7:R18,\">2999\",T7:T18)+SUMIF(AB8:AB15,\">2999\",AD8:AD15)+SUMIF(AB18:AB20,\">2999\",AD18:AD20)+SUMIF(AB26:AB41,\">2999\",AD26:AD41)","v":0},null,"Upper div points (100)"]
["Elective Hours:",null,null,null,null,null,null,null,null,null,null,null,null,null,null,null,{"$f":"IF(SUM(Q25)=0,\"N/A\",Q25/Q24)","v":"N/A"},null,"Upper div GPA"]
["General Elect",null,null,null,null,null,null,null,"Ag Elect ",null,null,null,null,null,null,null,null,null,"60 Senior College Hours"]
["Course",null,"Grd","Cr",null,null,null,null,"Course",null,"Grd","Cr","GPts","GPACr","GrCr",null,120,null,"HOURS NEEDED"]
[null,null,null,null,{"$f":"D29*IF(OR(C29=\"A\",C29=\"RA\"),4,IF(OR(C29=\"B\",C29=\"RB\"),3,IF(OR(C29=\"C\",C29=\"RC\"),2,IF(OR(C29=\"D\",C29=\"RD\"),1,IF(AND(C29>=0,C29<=4,ISNUMBER(C29)),C29,0)))))","v":0},{"$f":"IF(OR(C29=\"\",D29=\"\"),\"\",IF(OR(C29=\"A\",C29=\"B\",C29=\"C\",C29=\"D\",C29=\"F\",C29=\"RA\",C29=\"RB\",C29=\"RC\",C29=\"RD\",C29=\"RF\",AND(C29>=0,C29<=4,ISNUMBER(C29))),D29,\"\"))","v":""},{"$f":"IF(OR(C29=\"\",D29=\"\"),\"\",IF(OR(C29=\"A\",C29=\"B\",C29=\"C\",C29=\"D\",C29=\"P\",AND(C29>=0,C29<=4,ISNUMBER(C29))),D29,\"\"))","v":""},null,null,null,null,null,{"$f":"L29*IF(OR(K29=\"A\",K29=\"RA\"),4,IF(OR(K29=\"B\",K29=\"RB\"),3,IF(OR(K29=\"C\",K29=\"RC\"),2,IF(OR(K29=\"D\",K29=\"RD\"),1,IF(AND(K29>=0,K29=4,ISNUMBER(K29)),K29,0)))))","v":0},{"$f":"IF(OR(K29=\"\",L29=\"\"),\"\",IF(OR(K29=\"A\",K29=\"B\",K29=\"C\",K29=\"D\",K29=\"F\",K29=\"RA\",K29=\"RB\",K29=\"RC\",K29=\"RD\",K29=\"RF\",AND(K29>=0,K29<=4,ISNUMBER(K29))),L29,\"\"))","v":""},{"$f":"IF(OR(K29=\"\",L29=\"\"),\"\",IF(OR(K29=\"A\",K29=\"B\",K29=\"C\",K29=\"D\",K29=\"P\",AND(K29>=0,K29<=4,ISNUMBER(K29))),L29,\"\"))","v":""},null,"NOTES:"]
[null,null,null,null,0,"","",null,null,null,null,null,0,"","",null,null,null,null,null,null,null,null,null,null,null,"ANSI ",4863,null,{"$f":"IF(AG30<>\"\",AG30,3)*IF(AC30=\"A\",4,IF(AC30=\"B\",3,IF(AC30=\"C\",2,IF(AC30=\"D\",1,IF(AND(AC30>=0,AC30<=4,ISNUMBER(AC30)),AC30,0)))))","v":0},{"$f":"IF(OR(AC30=\"A\",AC30=\"B\",AC30=\"C\",AC30=\"D\",AC30=\"F\",AND(AC30>=0,AC30<=4,ISNUMBER(AC30))),IF(AG30<>\"\",AG30,3),\"\")","v":""},{"$f":"IF(OR(AC30=\"A\",AC30=\"B\",AC30=\"C\",AC30=\"D\",AC30=\"P\",AND(AC30>=0,AC30<=4,ISNUMBER(AC30))),IF(AG30<>\"\",AG30,3),\"\")","v":""}]
[null,null,null,null,0,"","",null,null,null,null,null,0,"","",null,null,null,null,null,null,null,null,null,null,null,"ANSI ",null,null,0,"","",null,"4000 LEVEL"]
[null,null,null,null,0,"","",null,null,null,null,null,0,"","",null,null,null,null,null,null,null,null,null,null,null,null,null,null,{"$f":"IF(AG32<>\"\",AG32,3)*IF(AC32=\"A\",4,IF(AC32=\"B\",3,IF(AC32=\"C\",2,IF(AC32=\"D\",1,IF(AND(AC32>=0,AC32<=4,ISNUMBER(AC32)),AC32,0)))))","v":0},{"$f":"IF(OR(AC32=\"A\",AC32=\"B\",AC32=\"C\",AC32=\"D\",AC32=\"F\",AND(AC32>=0,AC32<=4,ISNUMBER(AC32))),IF(AG32<>\"\",AG32,3),\"\")","v":""},{"$f":"IF(OR(AC32=\"A\",AC32=\"B\",AC32=\"C\",AC32=\"D\",AC32=\"P\",AND(AC32>=0,AC32<=4,ISNUMBER(AC32))),IF(AG32<>\"\",AG32,3),\"\")","v":""}]
[null,null,null,null,0,"","",null,null,null,null,null,0,"","",null,null,null,null,null,null,null,null,null,null,null,null,null,null,0,"",""]
[null,null,null,null,0,"","",null,null,null,null,null,0,"","",null,null,null,null,null,null,null,null,null,null,null,null,null,null,0,"",""]
[null,null,null,null,0,"","",null,null,null,null,null,0,"","",null,null,null,null,null,null,null,null,null,null,null,null,null,null,0,"",""]
[null,null,null,null,0,"","",null,null,null,null,null,0,"","",null,null,null,null,null,null,null,null,null,null,null,null,null,null,0,"",""]
[null,null,null,null,0,"","",null,null,null,null,null,0,"","",null,null,null,null,null,null,null,null,null,null,null,null,null,null,0,"",""]
[null,null,null,null,0,"","",null,null,null,null,null,0,"","",null,null,null,null,null,null,null,null,null,null,null,null,null,null,0,"",""]
[null,null,null,null,0,"","",null,null,null,null,null,0,"","",null,null,null,null,null,null,null,null,null,null,null,null,null,null,{"$f":"IF(AG39<>\"\",AG39,3)*IF(AC39=\"A\",4,IF(AC39=\"B\",3,IF(AC39=\"C\",2,IF(AC39=\"D\",1,IF(AND(AC39>=0,AC39<=4,ISNUMBER(AC39)),AC39,0)))))","v":0},{"$f":"IF(OR(AC39=\"A\",AC39=\"B\",AC39=\"C\",AC39=\"D\",AC39=\"F\",AND(AC39>=0,AC39<=4,ISNUMBER(AC39))),IF(AG39<>\"\",AG39,3),\"\")","v":""},{"$f":"IF(OR(AC39=\"A\",AC39=\"B\",AC39=\"C\",AC39=\"D\",AC39=\"P\",AND(AC39>=0,AC39<=4,ISNUMBER(AC39))),IF(AG39<>\"\",AG39,3),\"\")","v":""}]
[null,null,null,null,0,"","",null,null,null,null,null,0,"","",null,null,null,null,null,null,null,null,null,null,null,null,null,null,{"$f":"IF(AG40<>\"\",AG40,3)*IF(AC40=\"A\",4,IF(AC40=\"B\",3,IF(AC40=\"C\",2,IF(AC40=\"D\",1,IF(AND(AC40>=0,AC40<=4,ISNUMBER(AC40)),AC40,0)))))","v":0},{"$f":"IF(OR(AC40=\"A\",AC40=\"B\",AC40=\"C\",AC40=\"D\",AC40=\"F\",AND(AC40>=0,AC40<=4,ISNUMBER(AC40))),IF(AG40<>\"\",AG40,3),\"\")","v":""},{"$f":"IF(OR(AC40=\"A\",AC40=\"B\",AC40=\"C\",AC40=\"D\",AC40=\"P\",AND(AC40>=0,AC40<=4,ISNUMBER(AC40))),IF(AG40<>\"\",AG40,3),\"\")","v":""}]
[null,null,null,null,0,"","",null,null,null,null,null,0,"","",null,null,null,null,null,null,null,null,null,null,null,null,null,null,0,"",""]
[null,null,null,null,0,"","",null,null,null,null,null,0,"",""]
[null,null,null,null,0,"","",null,null,null,null,null,0,"",""]
[null,null,null,null,0,"","",null,null,null,null,null,0,"",""]

{"sheet":"GRAD CHECK","index":1,"n_rows":45,"n_cols":6,"rows_kept":45,"cut":false,"hidden":false,"merged":[[44,1,44,8],[24,1,24,5],[27,1,27,2],[28,1,28,3],[28,4,28,5],[38,1,38,8],[41,1,41,8],[20,2,20,3],[0,0,0,5],[1,0,1,5],[2,0,2,5],[6,1,6,3],[6,4,6,5],[9,1,9,3],[12,1,12,3],[12,4,12,6],[13,1,13,2],[15,1,15,2],[17,1,18,3]]}
["GRADUATION CHECK"]
["By"]
["COLLEGE OF AGRICULTURE SCIENCES AND NATURAL RESOURCES"]
[]
[]
["Name:",null,null,null,"Date:"]
[null,{"$f":"'ANSI-PVAS'!B1","v":"Name, Student's"}]
[]
["ID:",null,null,null,"Graduation Date:"]
[null,{"$f":"'ANSI-PVAS'!S1","v":"999-99-999"},null,null,{"$f":"'ANSI-PVAS'!Q20","v":"00:00:00"}]
[]
["EMAIL:",null,null,null,"Major:"]
[null,null,null,null,{"$f":"'ANSI-PVAS'!Z1","v":"ANSI-PVAS"}]
[]
["Advisor:",null,null,null,"Grad/Ret GPA:"]
[null,{"$f":"'ANSI-PVAS'!AG1","v":"AdvisorName"},null,null,{"$f":"'ANSI-PVAS'!Q23","v":"N/A"}]
[]
[null,"REMINDER:",null,null,"Upper Division GPA:"]
[null,null,null,null,{"$f":"'ANSI-PVAS'!Q26","v":"N/A"}]
["Total Hours to Date:",null,{"$f":"'ANSI-PVAS'!Q22","v":0},null,"Total  Upper Div Hours to Date:",{"$f":"'ANSI-PVAS'!Q24","v":0}]
["Current Enrollment:",null,null,null,"Total  Upper Div Points to Date:",{"$f":"'ANSI-PVAS'!Q25","v":0}]
[]
["Deficiencies/Remaining Hours:"]
[]
[]
[]
["Hours Needed from a 4 yr. School: ",null,null,null,"Upper Div. hours & points needed: "]
[]
[]
[]
["Number of hours needed to complete requirements:"]
[null,null,null,null,"(hrs. = current courses + deficiencies)"]
[]
[]
[]
[]
[]
["APPROVED BY:"]
[null,"________________________________________________________________________ Adviser"]
[]
[]
[null,"_______________________________________________________________ Department Head"]
[]
[]
[null,"________________________________________________________________________Dean"]

{"sheet":"ADVISOR'S NOTES","index":2,"n_rows":1,"n_cols":2,"rows_kept":1,"cut":false,"hidden":false,"merged":[]}
["DATE","NOTES"]