{"text_format":"1","workbook":"xlsx","n_sheets":3,"sheets":["AGLE","GRAD CHECK","ADVISOR'S NOTES"],"not_rendered":{"charts":0,"images":0,"macros":0,"external_links":0,"defined_names":2,"comments":1,"pivot_tables":0},"unopened":[],"bounds":{"document_bytes":16777216,"sheet_cells":100000,"rows_first":2000,"rows_last":500,"rows_between":2000,"halvings":0,"cell_chars":16384,"cell_head_chars":4096},"cells_cut":0,"cells_raw":0,"read":"whole","date_system":"1900"}

{"sheet":"AGLE","index":0,"n_rows":43,"n_cols":35,"rows_kept":43,"cut":false,"hidden":false,"merged":[[41,33,41,34],[11,2,11,3],[11,8,11,11],[7,2,7,3],[7,8,7,11],[21,2,21,3],[21,8,21,11],[10,23,10,24],[38,33,38,34],[36,33,36,34],[35,33,35,34],[39,33,39,34],[40,33,40,34],[37,33,37,34],[23,0,23,11],[30,33,30,34],[31,33,31,34],[32,33,32,34],[33,33,33,34],[34,33,34,34],[22,16,22,17],[22,2,22,3],[22,8,22,11],[24,33,24,34],[20,2,20,3],[20,8,20,11],[20,16,20,17],[21,16,21,17],[23,33,23,34],[22,33,22,34],[21,33,21,34],[19,2,19,3],[19,8,19,11],[19,16,19,17],[15,43,15,44],[18,2,18,3],[18,8,18,11],[17,16,17,17],[17,2,17,3],[17,8,17,11],[18,16,18,17],[17,33,17,34],[15,33,15,34],[16,33,16,34],[18,33,18,34],[15,2,15,3],[15,8,15,11],[16,2,16,3],[16,8,16,11],[16,16,16,17],[13,33,13,34],[12,2,12,3],[12,8,12,11],[12,33,12,34],[14,33,14,34],[13,2,13,3],[13,8,13,11],[12,23,12,24],[14,2,14,3],[14,8,14,11],[14,16,14,22],[11,33,11,34],[10,2,10,3],[10,8,10,11],[9,23,9,24],[10,33,10,34],[11,23,11,24],[7,23,7,24],[7,33,7,34],[9,2,9,3],[9,8,9,11],[8,23,8,24],[8,33,8,34],[8,2,8,3],[8,8,8,11],[9,33,9,34],[0,1,0,16],[0,18,0,24],[0,32,0,34],[6,2,6,3],[6,8,6,11],[6,23,6,24]]}
["NAME:","LNAME, FNAME",null,null,null,null,null,null,null,null,null,null,null,null,null,null,null,"ID:","999-99-999",null,null,null,null,null,null,"AGLE-GEN",null,null,"ADV:",null,null,null,"LNAME"]
[]
["General Eduction Requirements: 42 Hours",null,null,null,null,null,null,null,null,null,null,null,null,null,null,null,"College/Dept. Requirements: 18 Hours",null,null,null,null,null,null,null,null,null,"Major Requirements: 60 Hours",null,null,null,null,null,null,null,"2014-15"]
[]
["Course",null,"Grade",null,"GPts","GPACr","GrCr",null,null,"Deviation",null,null,null,null,null,null,"Course",null,"Grade","GPts","GPACr","GrCr",null,"Deviation",null,null,"Course",null,"Grade","GPts","GPACr","GrCr",null,"Deviation"]
[]
["ENGL ",1113,null,null,{"$f":"IF(H7<>\"\",H7,3)*IF(C7=\"A\",4,IF(C7=\"B\",3,IF(C7=\"C\",2,IF(C7=\"D\",1,IF(AND(C7>=0,C7<=4,ISNUMBER(C7)),C7,0)))))","v":0},{"$f":"IF(OR(C7=\"A\",C7=\"B\",C7=\"C\",C7=\"D\",C7=\"F\",AND(C7>=0,C7<=4,ISNUMBER(C7))),IF(H7<>\"\",H7,3),\"\")","v":""},{"$f":"IF(OR(C7=\"A\",C7=\"B\",C7=\"C\",C7=\"D\",C7=\"P\",AND(C7>=0,C7<=4,ISNUMBER(C7))),IF(H7<>\"\",H7,3),\"\")","v":""},null,null,null,null,null,null,null,null,null,"AG",1011,null,{"$f":"IF(W7<>\"\",W7,3)*IF(S7=\"A\",4,IF(S7=\"B\",3,IF(S7=\"C\",2,IF(S7=\"D\",1,IF(AND(S7>=0,S7<=4,ISNUMBER(S7)),S7,0)))))","v":0},{"$f":"IF(OR(S7=\"A\",S7=\"B\",S7=\"C\",S7=\"D\",S7=\"F\",AND(S7>=0,S7<=4,ISNUMBER(S7))),IF(W7<>\"\",W7,3),\"\")","v":""},{"$f":"IF(OR(S7=\"A\",S7=\"B\",S7=\"C\",S7=\"D\",S7=\"P\",AND(S7>=0,S7<=4,ISNUMBER(S7))),IF(W7<>\"\",W7,3),\"\")","v":""},1,null,null,null,"Core Courses: 33 Hours"]
["ENGL ",1213,null,null,{"$f":"IF(H8<>\"\",H8,3)*IF(C8=\"A\",4,IF(C8=\"B\",3,IF(C8=\"C\",2,IF(C8=\"D\",1,IF(AND(C8>=0,C8<=4,ISNUMBER(C8)),C8,0)))))","v":0},{"$f":"IF(OR(C8=\"A\",C8=\"B\",C8=\"C\",C8=\"D\",C8=\"F\",AND(C8>=0,C8<=4,ISNUMBER(C8))),IF(H8<>\"\",H8,3),\"\")","v":""},{"$f":"IF(OR(C8=\"A\",C8=\"B\",C8=\"C\",C8=\"D\",C8=\"P\",AND(C8>=0,C8<=4,ISNUMBER(C8))),IF(H8<>\"\",H8,3),\"\")","v":""},null,null,null,null,null,null,null,null,null,"ANSI",1124,null,{"$f":"IF(W8<>\"\",W8,3)*IF(S8=\"A\",4,IF(S8=\"B\",3,IF(S8=\"C\",2,IF(S8=\"D\",1,IF(AND(S8>=0,S8<=4,ISNUMBER(S8)),S8,0)))))","v":0},{"$f":"IF(OR(S8=\"A\",S8=\"B\",S8=\"C\",S8=\"D\",S8=\"F\",AND(S8>=0,S8<=4,ISNUMBER(S8))),IF(W8<>\"\",W8,3),\"\")","v":""},{"$f":"IF(OR(S8=\"A\",S8=\"B\",S8=\"C\",S8=\"D\",S8=\"P\",AND(S8>=0,S8<=4,ISNUMBER(S8))),IF(W8<>\"\",W8,3),\"\")","v":""},4,null,null,null,"AGCM",3103,null,{"$f":"IF(AG8<>\"\",AG8,3)*IF(AC8=\"A\",4,IF(AC8=\"B\",3,IF(AC8=\"C\",2,IF(AC8=\"D\",1,IF(AND(AC8>=0,AC8<=4,ISNUMBER(AC8)),AC8,0)))))","v":0},{"$f":"IF(OR(AC8=\"A\",AC8=\"B\",AC8=\"C\",AC8=\"D\",AC8=\"F\",AND(AC8>=0,AC8<=4,ISNUMBER(AC8))),IF(AG8<>\"\",AG8,3),\"\")","v":""},{"$f":"IF(OR(AC8=\"A\",AC8=\"B\",AC8=\"C\",AC8=\"D\",AC8=\"P\",AND(AC8>=0,AC8<=4,ISNUMBER(AC8))),IF(AG8<>\"\",AG8,3),\"\")","v":""}]
["SPCH",2713,null,null,0,"","",null,null,null,null,null,null,null,null,null,"ENTO",2003,null,0,"","",null,null,null,null,"AGLE",1511,null,0,"","",1]
["HIST",1103,null,null,0,"","",null,null,null,null,null,null,null,null,null,"FDSC",1133,null,0,"","",null,null,null,null,"AGLE",2303,null,0,"",""]
["POLS",1113,null,null,0,"","",null,null,null,null,null,null,null,null,null,"SOIL",2124,null,{"$f":"IF(W11<>\"\",W11,3)*IF(S11=\"A\",4,IF(S11=\"B\",3,IF(S11=\"C\",2,IF(S11=\"D\",1,IF(AND(S11>=0,S11<=4,ISNUMBER(S11)),S11,0)))))","v":0},{"$f":"IF(OR(S11=\"A\",S11=\"B\",S11=\"C\",S11=\"D\",S11=\"F\",AND(S11>=0,S11<=4,ISNUMBER(S11))),IF(W11<>\"\",W11,3),\"\")","v":""},{"$f":"IF(OR(S11=\"A\",S11=\"B\",S11=\"C\",S11=\"D\",S11=\"P\",AND(S11>=0,S11<=4,ISNUMBER(S11))),IF(W11<>\"\",W11,3),\"\")","v":""},4,null,null,null,"AGLE",2403,null,0,"",""]
["MATH",1483,null,null,{"$f":"IF(H12<>\"\",H12,3)*IF(C12=\"A\",4,IF(C12=\"B\",3,IF(C12=\"C\",2,IF(C12=\"D\",1,IF(AND(C12>=0,C12<=4,ISNUMBER(C12)),C12,0)))))","v":0},{"$f":"IF(OR(C12=\"A\",C12=\"B\",C12=\"C\",C12=\"D\",C12=\"F\",AND(C12>=0,C12<=4,ISNUMBER(C12))),IF(H12<>\"\",H12,3),\"\")","v":""},{"$f":"IF(OR(C12=\"A\",C12=\"B\",C12=\"C\",C12=\"D\",C12=\"P\",AND(C12>=0,C12<=4,ISNUMBER(C12))),IF(H12<>\"\",H12,3),\"\")","v":""},null,null,null,null,null,null,null,null,null,"PLNT",1213,null,0,"","",null,null,null,null,"AGLE",3101,null,0,"","",1]
["MATH",1493,null,null,0,"","",null,null,null,null,null,null,null,null,null,null,null,null,0,"","",null,null,null,null,"AGLE",3303,null,0,"",""]
["(H)",null,null,null,0,"","",null,null,null,null,null,null,null,null,null,null,null,null,null,null,null,null,null,null,null,"AGLE",3403,null,0,"",""]
["(H)",null,null,null,0,"","",null,null,null,null,null,null,null,null,null,null,null,null,null,null,null,null,"Graduate Semester",null,null,"AGLE",4101,null,0,"","",1]
["BIOL",1114,null,null,0,"","",4,null,null,null,null,null,null,null,null,"Credits and GPAs as of this date:",null,null,null,null,null,null,null,null,null,"AGLE",4203,null,0,"",""]
["CHEM",1215,null,null,0,"","",5,null,null,null,null,null,null,null,null,{"$f":"SUM(G7:G23,V7:V13,AF8:AF24,G28:G43,AF31:AF39,O28:O43)","v":0},null,"Hours for graduation",null,null,null,null,null,null,null,"AGLE",4300,null,0,"","",6]
["AGEC",1113,null,null,0,"","",4,null,null,null,null,null,null,null,null,{"$f":"IF(SUM(F7:F23,U7:U13,AE8:AE24,AE31:AF39,F28:F43,N28:N43)=0,\"N/A\",ROUNDDOWN(SUM(E7:E23,T7:T13,AD8:AD24,AD31:AD39,E28:E43,M28:M43)/SUM(F7:F23,U7:U13,AE8:AE24,F28:F43,N28:N43,AE31:AE39),2))","v":"N/A"},null,"Grad/Ret GPA",null,null,null,null,null,null,null,"AGLE",3803,null,0,"",""]
["PSYC",1113,null,null,0,"","",null,null,null,null,null,null,null,null,null,{"$f":"SUMIF(B7:B23,\">2999\",F7:F23)+SUMIF(B28:B43,\">2999\",F28:F43)+SUMIF(J28:J43,\">2999\",N28:N43)+SUMIF(R7:R13,\">2999\",U7:U13)+SUMIF(AB8:AB24,\">2999\",AE8:AE24)+SUMIF(AB31:AB39,\">2999\",AE31:AE39)","v":0},null,"UPPER DIV HOURS (40)",null,null,null,null,null,null,null,"NREM",2013,null,0,"",""]
["(D)",null,null,null,0,"","",null,null,null,null,null,null,null,null,null,{"$f":"SUMIF(B7:B23,\">2999\",E7:E23)+SUMIF(B28:B43,\">2999\",E28:E43)+SUMIF(J28:J43,\">2999\",L28:L43)+SUMIF(R7:R13,\">2999\",T7:V13)+SUMIF(AB8:AB24,\">2999\",AD8:AD24)+SUMIF(AB31:AB39,\">2999\",AD31:AD39)","v":0},null,"Upper div points (100)"]
["(I)",null,null,null,0,"","",null,null,null,null,null,null,null,null,null,{"$f":"IF(SUM(Q20)=0,\"N/A\",Q20/Q19)","v":"N/A"},null,"Upper div GPA",null,null,null,null,null,null,null,"Additional Requirements: 9 Hours"]
[null,null,null,null,{"$f":"IF(H22<>\"\",H22,3)*IF(C22=\"A\",4,IF(C22=\"B\",3,IF(C22=\"C\",2,IF(C22=\"D\",1,IF(AND(C22>=0,C22<=4,ISNUMBER(C22)),C22,0)))))","v":0},{"$f":"IF(OR(C22=\"A\",C22=\"B\",C22=\"C\",C22=\"D\",C22=\"F\",AND(C22>=0,C22<=4,ISNUMBER(C22))),IF(H22<>\"\",H22,3),\"\")","v":""},{"$f":"IF(OR(C22=\"A\",C22=\"B\",C22=\"C\",C22=\"D\",C22=\"P\",AND(C22>=0,C22<=4,ISNUMBER(C22))),IF(H22<>\"\",H22,3),\"\")","v":""},null,null,null,null,null,null,null,null,null,null,null,"60 Senior College Hours",null,null,null,null,null,null,null,"AGEC",null,null,{"$f":"IF(AG22<>\"\",AG22,3)*IF(AC22=\"A\",4,IF(AC22=\"B\",3,IF(AC22=\"C\",2,IF(AC22=\"D\",1,IF(AND(AC22>=0,AC22<=4,ISNUMBER(AC22)),AC22,0)))))","v":0},{"$f":"IF(OR(AC22=\"A\",AC22=\"B\",AC22=\"C\",AC22=\"D\",AC22=\"F\",AND(AC22>=0,AC22<=4,ISNUMBER(AC22))),IF(AG22<>\"\",AG22,3),\"\")","v":""},{"$f":"IF(OR(AC22=\"A\",AC22=\"B\",AC22=\"C\",AC22=\"D\",AC22=\"P\",AND(AC22>=0,AC22<=4,ISNUMBER(AC22))),IF(AG22<>\"\",AG22,3),\"\")","v":""}]
[null,null,null,null,0,"","",null,null,null,null,null,null,null,null,null,120,null,"HOURS NEEDED",null,null,null,null,null,null,null,"AGEC",null,null,0,"",""]
[null,null,null,null,null,null,null,null,null,null,null,null,null,null,null,null,null,null,null,null,null,null,null,null,null,null,"AGLE",null,null,0,"",""]
["Elective Hours:",null,null,null,null,null,null,null,null,null,null,null,null,null,null,null,"NOTES:"]
["Non-Ag",null,null,null,null,null,null,null,"Ag Elect",null,null,null,null,null,null,null,null,null,null,null,null,null,null,null,null,null,"Related Courses: 18 Hours"]
["Course",null,"Grd","Cr",null,null,null,null,"Course",null,"Grd","Cr","GPts","GPACr","GrCr"]
[null,null,null,null,{"$f":"D28*IF(OR(C28=\"A\",C28=\"RA\"),4,IF(OR(C28=\"B\",C28=\"RB\"),3,IF(OR(C28=\"C\",C28=\"RC\"),2,IF(OR(C28=\"D\",C28=\"RD\"),1,IF(AND(C28>=0,C28<=4,ISNUMBER(C28)),C28,0)))))","v":0},{"$f":"IF(OR(C28=\"\",D28=\"\"),\"\",IF(OR(C28=\"A\",C28=\"B\",C28=\"C\",C28=\"D\",C28=\"F\",C28=\"RA\",C28=\"RB\",C28=\"RC\",C28=\"RD\",C28=\"RF\",AND(C28>=0,C28<=4,ISNUMBER(C28))),D28,\"\"))","v":""},{"$f":"IF(OR(C28=\"\",D28=\"\"),\"\",IF(OR(C28=\"A\",C28=\"B\",C28=\"C\",C28=\"D\",C28=\"P\",AND(C28>=0,C28<=4,ISNUMBER(C28))),D28,\"\"))","v":""},null,null,null,null,null,{"$f":"L28*IF(OR(K28=\"A\",K28=\"RA\"),4,IF(OR(K28=\"B\",K28=\"RB\"),3,IF(OR(K28=\"C\",K28=\"RC\"),2,IF(OR(K28=\"D\",K28=\"RD\"),1,IF(AND(K28>=0,K28<=4,ISNUMBER(K28)),K28,0)))))","v":0},{"$f":"IF(OR(K28=\"\",L28=\"\"),\"\",IF(OR(K28=\"A\",K28=\"B\",K28=\"C\",K28=\"D\",K28=\"F\",K28=\"RA\",K28=\"RB\",K28=\"RC\",K28=\"RD\",K28=\"RF\",AND(K28>=0,K28<=4,ISNUMBER(K28))),L28,\"\"))","v":""},{"$f":"IF(OR(K28=\"\",L28=\"\"),\"\",IF(OR(K28=\"A\",K28=\"B\",K28=\"C\",K28=\"D\",K28=\"P\",AND(K28>=0,K28<=4,ISNUMBER(K28))),L28,\"\"))","v":""}]
[null,null,null,null,0,"","",null,null,null,null,null,0,"",""]
[null,null,null,null,0,"","",null,null,null,null,null,0,"",""]
[null,null,null,null,0,"","",null,null,null,null,null,0,"","",null,null,null,null,null,null,null,null,null,null,null,null,null,null,{"$f":"IF(AG31<>\"\",AG31,3)*IF(AC31=\"A\",4,IF(AC31=\"B\",3,IF(AC31=\"C\",2,IF(AC31=\"D\",1,IF(AND(AC31>=0,AC31<=4,ISNUMBER(AC31)),AC31,0)))))","v":0},{"$f":"IF(OR(AC31=\"A\",AC31=\"B\",AC31=\"C\",AC31=\"D\",AC31=\"F\",AND(AC31>=0,AC31<=4,ISNUMBER(AC31))),IF(AG31<>\"\",AG31,3),\"\")","v":""},{"$f":"IF(OR(AC31=\"A\",AC31=\"B\",AC31=\"C\",AC31=\"D\",AC31=\"P\",AND(AC31>=0,AC31<=4,ISNUMBER(AC31))),IF(AG31<>\"\",AG31,3),\"\")","v":""}]
[null,null,null,null,0,"","",null,null,null,null,null,0,"","",null,null,null,null,null,null,null,null,null,null,null,null,null,null,0,"",""]
[null,null,null,null,0,"","",null,null,null,null,null,0,"","",null,null,null,null,null,null,null,null,null,null,null,null,null,null,0,"",""]
[null,null,null,null,0,"","",null,null,null,null,null,0,"","",null,null,null,null,null,null,null,null,null,null,null,null,null,null,0,"",""]
[null,null,null,null,0,"","",null,null,null,null,null,0,"","",null,null,null,null,null,null,null,null,null,null,null,null,null,null,0,"",""]
[null,null,null,null,0,"","",null,null,null,null,null,0,"","",null,null,null,null,null,null,null,null,null,null,null,null,null,null,0,"",""]
[null,null,null,null,0,"","",null,null,null,null,null,0,"","",null,null,null,null,null,null,null,null,null,null,null,null,null,null,0,"",""]
[null,null,null,null,0,"","",null,null,null,null,null,0,"","",null,null,null,null,null,null,null,null,null,null,null,null,null,null,0,"",""]
[null,null,null,null,0,"","",null,null,null,null,null,0,"","",null,null,null,null,null,null,null,null,null,null,null,null,null,null,{"$f":"IF(AG39<>\"\",AG39,3)*IF(AC39=\"A\",4,IF(AC39=\"B\",3,IF(AC39=\"C\",2,IF(AC39=\"D\",1,IF(AND(AC39>=0,AC39<=4,ISNUMBER(AC39)),AC39,0)))))","v":0},{"$f":"IF(OR(AC39=\"A\",AC39=\"B\",AC39=\"C\",AC39=\"D\",AC39=\"F\",AND(AC39>=0,AC39<=4,ISNUMBER(AC39))),IF(AG39<>\"\",AG39,3),\"\")","v":""},{"$f":"IF(OR(AC39=\"A\",AC39=\"B\",AC39=\"C\",AC39=\"D\",AC39=\"P\",AND(AC39>=0,AC39<=4,ISNUMBER(AC39))),IF(AG39<>\"\",AG39,3),\"\")","v":""}]
[null,null,null,null,0,"","",null,null,null,null,null,0,"",""]
[null,null,null,null,0,"","",null,null,null,null,null,0,"",""]
[null,null,null,null,0,"","",null,null,null,null,null,0,"",""]
[null,null,null,null,0,"","",null,null,null,null,null,0,"",""]

{"sheet":"GRAD CHECK","index":1,"n_rows":45,"n_cols":6,"rows_kept":45,"cut":false,"hidden":false,"merged":[[44,1,44,8],[24,1,24,5],[27,1,27,2],[28,1,28,3],[28,4,28,5],[38,1,38,8],[41,1,41,8],[20,2,20,3],[0,0,0,5],[1,0,1,5],[2,0,2,5],[6,1,6,3],[6,4,6,5],[9,1,9,3],[12,1,12,3],[12,4,12,6],[13,1,13,2],[15,1,15,2],[18,1,18,2]]}
["GRADUATION CHECK"]
["By"]
["COLLEGE OF AGRICULTURE SCIENCES AND NATURAL RESOURCES"]
[]
[]
["Name:",null,null,null,"Date:"]
[null,{"$f":"AGLE!$B$1","v":"LNAME, FNAME"},null,null,"2014-01-29"]
[]
["ID:",null,null,null,"Graduation Date:"]
[null,{"$f":"AGLE!$S$1","v":"999-99-999"},null,null,{"$f":"AGLE!Q15","v":"00:00:00"}]
[]
["EMAIL:",null,null,null,"Major:"]
[null,"WKEELIN@OKSTATE.EDU",null,null,{"$f":"AGLE!$Z$1","v":"AGLE-GEN"}]
[]
["Advisor:",null,null,null,"Grad/Ret GPA:"]
[null,{"$f":"AGLE!$AG$1","v":"LNAME"},null,null,{"$f":"AGLE!$Q$18","v":"N/A"}]
[]
[null,"REMINDER:",null,null,"Upper Division GPA:"]
[null,null,null,null,{"$f":"AGLE!$Q$21","v":"N/A"}]
["Total Hours to Date:",null,{"$f":"AGLE!$Q$17","v":0},null,"Total  Upper Div Hours to Date:",{"$f":"AGLE!$Q$19","v":0}]
["Current Enrollment:",null,"13 HOURS SP14",null,"Total  Upper Div Points to Date:",{"$f":"AGLE!$Q$20","v":0}]
[]
["Deficiencies/Remaining Hours:"]
[]
[null,"NONE"]
[]
["Hours Needed from a 4 yr. School: ",null,null,null,"Upper Div. hours & points needed: "]
[]
[null,"OK",null,null,"4 HOURS"]
[]
["Number of hours needed to complete requirements:",null,null,null,"13 HOURS"]
[null,null,null,null,"(hrs. = current courses + deficiencies)"]
[]
[]
[]
[]
[]
["APPROVED BY:"]
[null,"________________________________________________________________________ Adviser"]
[]
[]
[null,"_______________________________________________________________ Department Head"]
[]
[]
[null,"________________________________________________________________________Dean"]

{"sheet":"ADVISOR'S NOTES","index":2,"n_rows":1,"n_cols":2,"rows_kept":1,"cut":false,"hidden":false,"merged":[]}
["DATE","NOTES"]