{"text_format":"1","workbook":"xlsx","n_sheets":4,"sheets":["PAS-SAWR","GRAD CHECK","ADVISOR'S NOTES","CourseLeaf Degree Sheet"],"not_rendered":{"charts":0,"images":2,"macros":0,"external_links":0,"defined_names":3,"comments":1,"pivot_tables":0},"unopened":[],"bounds":{"document_bytes":16777216,"sheet_cells":100000,"rows_first":2000,"rows_last":500,"rows_between":2000,"halvings":0,"cell_chars":16384,"cell_head_chars":4096},"cells_cut":0,"cells_raw":0,"read":"whole","date_system":"1900"}

{"sheet":"PAS-SAWR","index":0,"n_rows":43,"n_cols":36,"rows_kept":43,"cut":false,"hidden":false,"merged":[[38,34,38,35],[35,34,35,35],[36,34,36,35],[37,34,37,35],[31,34,31,35],[32,34,32,35],[33,34,33,35],[42,34,42,35],[43,34,43,35],[44,34,44,35],[45,34,45,35],[39,34,39,35],[40,34,40,35],[41,34,41,35],[16,24,16,25],[19,9,19,12],[18,17,18,23],[14,3,14,4],[14,9,14,12],[15,3,15,4],[15,9,15,12],[15,24,15,25],[18,3,18,4],[18,9,18,12],[19,3,19,4],[20,17,20,18],[21,17,21,18],[17,3,17,4],[17,9,17,12],[13,3,13,4],[13,9,13,12],[16,3,16,4],[16,9,16,12],[21,3,21,4],[21,9,21,12],[20,3,20,4],[20,9,20,12],[9,9,9,12],[10,3,10,4],[10,9,10,12],[14,24,14,25],[11,3,11,4],[11,9,11,12],[9,3,9,4],[13,24,13,25],[11,24,11,25],[10,24,10,25],[9,24,9,25],[12,24,12,25],[12,3,12,4],[12,9,12,12],[0,2,0,17],[0,19,0,25],[0,33,0,35],[6,3,6,4],[6,9,6,12],[6,24,6,25],[0,26,0,28],[7,3,7,4],[7,9,7,12],[7,24,7,25],[8,3,8,4],[8,9,8,12],[8,24,8,25],[23,1,23,12],[22,17,22,18],[24,17,24,18],[22,3,22,4],[22,9,22,12],[20,34,20,35],[21,34,21,35],[34,34,34,35],[25,34,25,35],[26,34,26,35],[27,34,27,35],[28,34,28,35],[29,34,29,35],[30,34,30,35],[25,17,25,18],[26,17,26,18],[27,17,27,18],[23,17,23,18],[8,34,8,35],[9,34,9,35],[10,34,10,35],[11,34,11,35],[12,34,12,35],[13,34,13,35],[14,34,14,35],[15,34,15,35],[16,34,16,35],[17,34,17,35],[18,34,18,35],[19,34,19,35]]}
[null,"NAME:","STUDENT NAME",null,null,null,null,null,null,null,null,null,null,null,null,null,null,null,"ID:","999-99-999",null,null,null,null,null,null,"PASS-SAWR",null,null,"ADV:",null,null,null,"AdvisorName"]
[]
[null,"General Education Requirements: 40 Hours",null,null,null,null,null,null,null,null,null,null,null,null,null,null,null,"College/Dept. Requirements: 30 Hours",null,null,null,null,null,null,null,null,null,"Major Requirements: 50 Hours",null,null,null,null,null,null,null,"2019-20"]
[]
[null,"Course",null,"Grade",null,"GPts","GPACr","GrCr",null,null,"Deviation",null,null,null,null,null,null,"Course",null,"Grade","GPts","GPACr","GrCr",null,"Deviation",null,null,"Course",null,"Grade","GPts","GPACr","GrCr",null,"Deviation"]
[]
[null,"ENGL ",1113,null,null,{"$f":"IF(I7<>\"\",I7,3)*IF(D7=\"A\",4,IF(D7=\"B\",3,IF(D7=\"C\",2,IF(D7=\"D\",1,IF(AND(D7>=0,D7<=4,ISNUMBER(D7)),D7,0)))))","v":0},{"$f":"IF(OR(D7=\"A\",D7=\"B\",D7=\"C\",D7=\"D\",D7=\"F\",AND(D7>=0,D7<=4,ISNUMBER(D7))),IF(I7<>\"\",I7,3),\"\")","v":""},{"$f":"IF(OR(D7=\"A\",D7=\"B\",D7=\"C\",D7=\"D\",D7=\"P\",AND(D7>=0,D7<=4,ISNUMBER(D7))),IF(I7<>\"\",I7,3),\"\")","v":""},null,null,null,null,null,null,null,null,null,"AG",1011,null,{"$f":"IF(X7<>\"\",X7,3)*IF(T7=\"A\",4,IF(T7=\"B\",3,IF(T7=\"C\",2,IF(T7=\"D\",1,IF(AND(T7>=0,T7<=4,ISNUMBER(T7)),T7,0)))))","v":0},{"$f":"IF(OR(T7=\"A\",T7=\"B\",T7=\"C\",T7=\"D\",T7=\"F\",AND(T7>=0,T7<=4,ISNUMBER(T7))),IF(X7<>\"\",X7,3),\"\")","v":""},{"$f":"IF(OR(T7=\"A\",T7=\"B\",T7=\"C\",T7=\"D\",T7=\"P\",AND(T7>=0,T7<=4,ISNUMBER(T7))),IF(X7<>\"\",X7,3),\"\")","v":""},1,null,null,null,"Core Courses: 39 Hours"]
[null,"ENGL ",1213,null,null,0,"","",null,null,null,null,null,null,null,null,null,"AGCM ",3103,null,{"$f":"IF(X8<>\"\",X8,3)*IF(T8=\"A\",4,IF(T8=\"B\",3,IF(T8=\"C\",2,IF(T8=\"D\",1,IF(AND(T8>=0,T8<=4,ISNUMBER(T8)),T8,0)))))","v":0},{"$f":"IF(OR(T8=\"A\",T8=\"B\",T8=\"C\",T8=\"D\",T8=\"F\",AND(T8>=0,T8<=4,ISNUMBER(T8))),IF(X8<>\"\",X8,3),\"\")","v":""},{"$f":"IF(OR(T8=\"A\",T8=\"B\",T8=\"C\",T8=\"D\",T8=\"P\",AND(T8>=0,T8<=4,ISNUMBER(T8))),IF(X8<>\"\",X8,3),\"\")","v":""}]
[null,"HIST",1103,null,null,0,"","",null,null,null,null,null,null,null,null,null,"ENVR",1113,null,0,"","",null,null,null,null,"PLNT",1101,null,{"$f":"IF(AH9<>\"\",AH9,3)*IF(AD9=\"A\",4,IF(AD9=\"B\",3,IF(AD9=\"C\",2,IF(AD9=\"D\",1,IF(AND(AD9>=0,AD9<=4,ISNUMBER(AD9)),AD9,0)))))","v":0},{"$f":"IF(OR(AD9=\"A\",AD9=\"B\",AD9=\"C\",AD9=\"D\",AD9=\"F\",AND(AD9>=0,AD9<=4,ISNUMBER(AD9))),IF(AH9<>\"\",AH9,3),\"\")","v":""},{"$f":"IF(OR(AD9=\"A\",AD9=\"B\",AD9=\"C\",AD9=\"D\",AD9=\"P\",AND(AD9>=0,AD9<=4,ISNUMBER(AD9))),IF(AH9<>\"\",AH9,3),\"\")","v":""},1]
[null,"POLS",1113,null,null,0,"","",null,null,null,null,null,null,null,null,null,"SOIL",2124,null,0,"","",4,null,null,null,"PLNT",1213,null,0,"",""]
[null,"STAT",2013,null,null,0,"","",null,null,null,null,null,null,null,null,null,"BIOL",1114,null,{"$f":"IF(X11<>\"\",X11,3)*IF(T11=\"A\",4,IF(T11=\"B\",3,IF(T11=\"C\",2,IF(T11=\"D\",1,IF(AND(T11>=0,T11<=4,ISNUMBER(T11)),T11,0)))))","v":0},{"$f":"IF(OR(T11=\"A\",T11=\"B\",T11=\"C\",T11=\"D\",T11=\"F\",AND(T11>=0,T11<=4,ISNUMBER(T11))),IF(X11<>\"\",X11,3),\"\")","v":""},{"$f":"IF(OR(T11=\"A\",T11=\"B\",T11=\"C\",T11=\"D\",T11=\"P\",AND(T11>=0,T11<=4,ISNUMBER(T11))),IF(X11<>\"\",X11,3),\"\")","v":""},4,null,null,null,"PLNT",2041,null,{"$f":"IF(AH11<>\"\",AH11,3)*IF(AD11=\"A\",4,IF(AD11=\"B\",3,IF(AD11=\"C\",2,IF(AD11=\"D\",1,IF(AND(AD11>=0,AD11<=4,ISNUMBER(AD11)),AD11,0)))))","v":0},{"$f":"IF(OR(AD11=\"A\",AD11=\"B\",AD11=\"C\",AD11=\"D\",AD11=\"F\",AND(AD11>=0,AD11<=4,ISNUMBER(AD11))),IF(AH11<>\"\",AH11,3),\"\")","v":""},{"$f":"IF(OR(AD11=\"A\",AD11=\"B\",AD11=\"C\",AD11=\"D\",AD11=\"P\",AND(AD11>=0,AD11<=4,ISNUMBER(AD11))),IF(AH11<>\"\",AH11,3),\"\")","v":""},1]
[null,"(H)",null,null,null,0,"","",null,null,null,null,null,null,null,null,null,"CHEM",1515,null,0,"","",5,null,null,null,"PLNT",4571,null,{"$f":"IF(AH12<>\"\",AH12,3)*IF(AD12=\"A\",4,IF(AD12=\"B\",3,IF(AD12=\"C\",2,IF(AD12=\"D\",1,IF(AND(AD12>=0,AD12<=4,ISNUMBER(AD12)),AD12,0)))))","v":0},{"$f":"IF(OR(AD12=\"A\",AD12=\"B\",AD12=\"C\",AD12=\"D\",AD12=\"F\",AND(AD12>=0,AD12<=4,ISNUMBER(AD12))),IF(AH12<>\"\",AH12,3),\"\")","v":""},{"$f":"IF(OR(AD12=\"A\",AD12=\"B\",AD12=\"C\",AD12=\"D\",AD12=\"P\",AND(AD12>=0,AD12<=4,ISNUMBER(AD12))),IF(AH12<>\"\",AH12,3),\"\")","v":""},1]
[null,"(H)",null,null,null,0,"","",null,null,null,null,null,null,null,null,null,"PHYS",1114,null,0,"","",4,null,null,null,"PLNT",4080,null,0,"","",3]
[null,"(N)",null,null,null,0,"","",null,null,null,null,null,null,null,null,null,"MATH",1513,null,{"$f":"IF(X14<>\"\",X14,3)*IF(T14=\"A\",4,IF(T14=\"B\",3,IF(T14=\"C\",2,IF(T14=\"D\",1,IF(AND(T14>=0,T14<=4,ISNUMBER(T14)),T14,0)))))","v":0},{"$f":"IF(OR(T14=\"A\",T14=\"B\",T14=\"C\",T14=\"D\",T14=\"F\",AND(T14>=0,T14<=4,ISNUMBER(T14))),IF(X14<>\"\",X14,3),\"\")","v":""},{"$f":"IF(OR(T14=\"A\",T14=\"B\",T14=\"C\",T14=\"D\",T14=\"P\",AND(T14>=0,T14<=4,ISNUMBER(T14))),IF(X14<>\"\",X14,3),\"\")","v":""},null,null,null,null,"SOIL",3433,null,0,"",""]
[null,"CHEM",1314,null,null,0,"","",4,null,null,null,null,null,null,null,null,"AGCM",3203,null,0,"","",null,null,null,null,"SOIL",4234,null,{"$f":"IF(AH15<>\"\",AH15,3)*IF(AD15=\"A\",4,IF(AD15=\"B\",3,IF(AD15=\"C\",2,IF(AD15=\"D\",1,IF(AND(AD15>=0,AD15<=4,ISNUMBER(AD15)),AD15,0)))))","v":0},{"$f":"IF(OR(AD15=\"A\",AD15=\"B\",AD15=\"C\",AD15=\"D\",AD15=\"F\",AND(AD15>=0,AD15<=4,ISNUMBER(AD15))),IF(AH15<>\"\",AH15,3),\"\")","v":""},{"$f":"IF(OR(AD15=\"A\",AD15=\"B\",AD15=\"C\",AD15=\"D\",AD15=\"P\",AND(AD15>=0,AD15<=4,ISNUMBER(AD15))),IF(AH15<>\"\",AH15,3),\"\")","v":""},4]
[null,"AGEC",1113,null,null,0,"","",null,null,null,null,null,null,null,null,null,null,null,null,0,"","",null,null,null,null,"SOIL",4463,null,{"$f":"IF(AH16<>\"\",AH16,3)*IF(AD16=\"A\",4,IF(AD16=\"B\",3,IF(AD16=\"C\",2,IF(AD16=\"D\",1,IF(AND(AD16>=0,AD16<=4,ISNUMBER(AD16)),AD16,0)))))","v":0},{"$f":"IF(OR(AD16=\"A\",AD16=\"B\",AD16=\"C\",AD16=\"D\",AD16=\"F\",AND(AD16>=0,AD16<=4,ISNUMBER(AD16))),IF(AH16<>\"\",AH16,3),\"\")","v":""},{"$f":"IF(OR(AD16=\"A\",AD16=\"B\",AD16=\"C\",AD16=\"D\",AD16=\"P\",AND(AD16>=0,AD16<=4,ISNUMBER(AD16))),IF(AH16<>\"\",AH16,3),\"\")","v":""}]
[null,"GENED",null,null,null,{"$f":"IF(I17<>\"\",I17,3)*IF(D17=\"A\",4,IF(D17=\"B\",3,IF(D17=\"C\",2,IF(D17=\"D\",1,IF(AND(D17>=0,D17<=4,ISNUMBER(D17)),D17,0)))))","v":0},{"$f":"IF(OR(D17=\"A\",D17=\"B\",D17=\"C\",D17=\"D\",D17=\"F\",AND(D17>=0,D17<=4,ISNUMBER(D17))),IF(I17<>\"\",I17,3),\"\")","v":""},{"$f":"IF(OR(D17=\"A\",D17=\"B\",D17=\"C\",D17=\"D\",D17=\"P\",AND(D17>=0,D17<=4,ISNUMBER(D17))),IF(I17<>\"\",I17,3),\"\")","v":""},null,null,null,null,null,null,null,null,null,null,null,null,null,null,"",null,null,null,null,"SOIL",4483,null,0,"",""]
[null,"GENED",null,null,null,0,"","",null,null,null,null,null,null,null,null,null,null,null,null,null,null,null,null,null,null,null,"SOIL",4683,null,0,"",""]
[null,"GENED",null,null,null,0,"","",null,null,null,null,null,null,null,null,null,null,null,null,null,null,null,null,"Graduate Semester",null,null,"SOIL",4893,null,0,"",""]
[null,"(D)",null,null,null,0,"","",null,null,null,null,null,null,null,null,null,"Credits and GPAs as of this date:",null,null,null,null,null,null,null,null,null,"GEOG",2344,null,{"$f":"IF(AH20<>\"\",AH20,3)*IF(AD20=\"A\",4,IF(AD20=\"B\",3,IF(AD20=\"C\",2,IF(AD20=\"D\",1,IF(AND(AD20>=0,AD20<=4,ISNUMBER(AD20)),AD20,0)))))","v":0},{"$f":"IF(OR(AD20=\"A\",AD20=\"B\",AD20=\"C\",AD20=\"D\",AD20=\"F\",AND(AD20>=0,AD20<=4,ISNUMBER(AD20))),IF(AH20<>\"\",AH20,3),\"\")","v":""},{"$f":"IF(OR(AD20=\"A\",AD20=\"B\",AD20=\"C\",AD20=\"D\",AD20=\"P\",AND(AD20>=0,AD20<=4,ISNUMBER(AD20))),IF(AH20<>\"\",AH20,3),\"\")","v":""},4]
[null,"(I)",null,null,null,0,"","",null,null,null,null,null,null,null,null,null,{"$f":"SUM(H7:H23,W7:W16,AG9:AG22,AG26:AG38,H28:H43,P28:P43)","v":0},null,"Hours for graduation",null,null,null,null,null,null,null,"GEOL",1114,null,{"$f":"IF(AH21<>\"\",AH21,3)*IF(AD21=\"A\",4,IF(AD21=\"B\",3,IF(AD21=\"C\",2,IF(AD21=\"D\",1,IF(AND(AD21>=0,AD21<=4,ISNUMBER(AD21)),AD21,0)))))","v":0},{"$f":"IF(OR(AD21=\"A\",AD21=\"B\",AD21=\"C\",AD21=\"D\",AD21=\"F\",AND(AD21>=0,AD21<=4,ISNUMBER(AD21))),IF(AH21<>\"\",AH21,3),\"\")","v":""},{"$f":"IF(OR(AD21=\"A\",AD21=\"B\",AD21=\"C\",AD21=\"D\",AD21=\"P\",AND(AD21>=0,AD21<=4,ISNUMBER(AD21))),IF(AH21<>\"\",AH21,3),\"\")","v":""},4]
[null,null,null,null,null,0,"","",null,null,null,null,null,null,null,null,null,{"$f":"IF(SUM(G7:G23,V7:V16,AF9:AF22,AF26:AF39,G28:G43,O28:O43)=0,\"N/A\",ROUNDDOWN(SUM(F7:F23,U7:U16,AE9:AE22,AE26:AE39,F28:F43,N28:N43)/SUM(G7:G23,V7:V16,AF9:AF22,AF26:AF39,G28:G43,O28:O43),2))","v":"N/A"},null,"Grad/Ret GPA",null,null,null,null,null,null,null,"GEOL",4453,null,0,"",""]
[null,null,null,null,null,0,"","",null,null,null,null,null,null,null,null,null,{"$f":"SUMIF(C7:C23,\">2999\",H7:H23)+SUMIF(C28:C43,\">2999\",H28:H43)+SUMIF(K28:K43,\">2999\",P28:P43)+SUMIF(S7:S16,\">2999\",W7:W16)+SUMIF(AC9:AC22,\">2999\",AG9:AG22)+SUMIF(AC26:AC39,\">2999\",AG26:AG39)","v":0},null,"EARNED U/D HOURS (40)"]
[null,null,null,null,null,null,null,null,null,null,null,null,null,null,null,null,null,{"$f":"SUMIF(C7:C23,\">2999\",G7:G23)+SUMIF(C28:C43,\">2999\",G28:G43)+SUMIF(K28:K43,\">2999\",O28:O43)+SUMIF(S7:S16,\">2999\",V7:V16)+SUMIF(AC9:AC22,\">2999\",AF9:AF22)+SUMIF(AC27:AC40,\">2999\",AF27:AF40)","v":0},null,"GPA U/D HOURS",null,null,null,null,null,null,null,"Choose one Emphasis Area: 11 Hours"]
[null,"General Elective Hours:",null,null,null,null,null,null,null,null,null,null,null,null,null,null,null,{"$f":"SUMIF(C7:C23,\">2999\",F7:F23)+SUMIF(C28:C43,\">2999\",F28:F43)+SUMIF(K28:K43,\">2999\",N28:N43)+SUMIF(S7:S16,\">2999\",U7:U16)+SUMIF(AC9:AC22,\">2999\",AE9:AE22)+SUMIF(AC26:AC38,\">2999\",AE26:AE38)","v":0},null,"Upper div points (100)"]
[null,"Non-Ag",null,null,null,null,null,null,null,"Ag Elect ",null,null,null,null,null,null,null,{"$f":"IF(SUM(R25)=0,\"N/A\",R25/R24)","v":"N/A"},null,"Upper div GPA",null,null,null,null,null,null,null,null,null,null,{"$f":"IF(AH26<>\"\",AH26,3)*IF(AD26=\"A\",4,IF(AD26=\"B\",3,IF(AD26=\"C\",2,IF(AD26=\"D\",1,IF(AND(AD26>=0,AD26<=4,ISNUMBER(AD26)),AD26,0)))))","v":0},{"$f":"IF(OR(AD26=\"A\",AD26=\"B\",AD26=\"C\",AD26=\"D\",AD26=\"F\",AND(AD26>=0,AD26<=4,ISNUMBER(AD26))),IF(AH26<>\"\",AH26,3),\"\")","v":""},{"$f":"IF(OR(AD26=\"A\",AD26=\"B\",AD26=\"C\",AD26=\"D\",AD26=\"P\",AND(AD26>=0,AD26<=4,ISNUMBER(AD26))),IF(AH26<>\"\",AH26,3),\"\")","v":""}]
[null,"Course",null,"Grd","Cr",null,null,null,null,"Course",null,"Grd","Cr","GPts","GPACr","GrCr",null,null,null,"60 Senior College Hours",null,null,null,null,null,null,null,null,null,null,{"$f":"IF(AH27<>\"\",AH27,3)*IF(AD27=\"A\",4,IF(AD27=\"B\",3,IF(AD27=\"C\",2,IF(AD27=\"D\",1,IF(AND(AD27>=0,AD27<=4,ISNUMBER(AD27)),AD27,0)))))","v":0},{"$f":"IF(OR(AD27=\"A\",AD27=\"B\",AD27=\"C\",AD27=\"D\",AD27=\"F\",AND(AD27>=0,AD27<=4,ISNUMBER(AD27))),IF(AH27<>\"\",AH27,3),\"\")","v":""},{"$f":"IF(OR(AD27=\"A\",AD27=\"B\",AD27=\"C\",AD27=\"D\",AD27=\"P\",AND(AD27>=0,AD27<=4,ISNUMBER(AD27))),IF(AH27<>\"\",AH27,3),\"\")","v":""}]
[null,null,null,null,null,{"$f":"E28*IF(OR(D28=\"A\",D28=\"RA\"),4,IF(OR(D28=\"B\",D28=\"RB\"),3,IF(OR(D28=\"C\",D28=\"RC\"),2,IF(OR(D28=\"D\",D28=\"RD\"),1,IF(AND(D28>=0,D28<=4,ISNUMBER(D28)),D28,0)))))","v":0},{"$f":"IF(OR(D28=\"\",E28=\"\"),\"\",IF(OR(D28=\"A\",D28=\"B\",D28=\"C\",D28=\"D\",D28=\"F\",D28=\"RA\",D28=\"RB\",D28=\"RC\",D28=\"RD\",D28=\"RF\",AND(D28>=0,D28<=4,ISNUMBER(D28))),E28,\"\"))","v":""},{"$f":"IF(OR(D28=\"\",E28=\"\"),\"\",IF(OR(D28=\"A\",D28=\"B\",D28=\"C\",D28=\"D\",D28=\"P\",AND(D28>=0,D28<=4,ISNUMBER(D28))),E28,\"\"))","v":""},null,null,null,null,null,{"$f":"M28*IF(OR(L28=\"A\",L28=\"RA\"),4,IF(OR(L28=\"B\",L28=\"RB\"),3,IF(OR(L28=\"C\",L28=\"RC\"),2,IF(OR(L28=\"D\",L28=\"RD\"),1,IF(AND(L28>=0,L28=4,ISNUMBER(L28)),L28,0)))))","v":0},{"$f":"IF(OR(L28=\"\",M28=\"\"),\"\",IF(OR(L28=\"A\",L28=\"B\",L28=\"C\",L28=\"D\",L28=\"F\",L28=\"RA\",L28=\"RB\",L28=\"RC\",L28=\"RD\",L28=\"RF\",AND(L28>=0,L28<=4,ISNUMBER(L28))),M28,\"\"))","v":""},{"$f":"IF(OR(L28=\"\",M28=\"\"),\"\",IF(OR(L28=\"A\",L28=\"B\",L28=\"C\",L28=\"D\",L28=\"P\",AND(L28>=0,L28<=4,ISNUMBER(L28))),M28,\"\"))","v":""},null,120,null,"HOURS NEEDED",null,null,null,null,null,null,null,null,null,null,0,"",{"$f":"IF(OR(AD28=\"A\",AD28=\"B\",AD28=\"C\",AD28=\"D\",AD28=\"P\",AND(AD28>=0,AD28<=4,ISNUMBER(AD28))),IF(AH28<>\"\",AH28,3),\"\")","v":""}]
[null,null,null,null,null,0,"","",null,null,null,null,null,0,"","",null,null,null,null,null,null,null,null,null,null,null,null,null,null,{"$f":"IF(AH29<>\"\",AH29,3)*IF(AD29=\"A\",4,IF(AD29=\"B\",3,IF(AD29=\"C\",2,IF(AD29=\"D\",1,IF(AND(AD29>=0,AD29<=4,ISNUMBER(AD29)),AD29,0)))))","v":0},{"$f":"IF(OR(AD29=\"A\",AD29=\"B\",AD29=\"C\",AD29=\"D\",AD29=\"F\",AND(AD29>=0,AD29<=4,ISNUMBER(AD29))),IF(AH29<>\"\",AH29,3),\"\")","v":""},{"$f":"IF(OR(AD29=\"A\",AD29=\"B\",AD29=\"C\",AD29=\"D\",AD29=\"P\",AND(AD29>=0,AD29<=4,ISNUMBER(AD29))),IF(AH29<>\"\",AH29,3),\"\")","v":""}]
[null,null,null,null,null,0,"","",null,null,null,null,null,0,"","",null,"NOTES:",null,null,null,null,null,null,null,null,null,null,null,null,0,"","",2]
[null,null,null,null,null,0,"","",null,null,null,null,null,0,"","",null,null,null,null,null,null,null,null,null,null,null,null,null,null,0,"",""]
[null,null,null,null,null,0,"","",null,null,null,null,null,0,"","",null,null,null,null,null,null,null,null,null,null,null,null,null,null,0,"",""]
[null,null,null,null,null,0,"","",null,null,null,null,null,0,"","",null,null,null,null,null,null,null,null,null,null,null,null,null,null,{"$f":"IF(AH33<>\"\",AH33,3)*IF(AD33=\"A\",4,IF(AD33=\"B\",3,IF(AD33=\"C\",2,IF(AD33=\"D\",1,IF(AND(AD33>=0,AD33<=4,ISNUMBER(AD33)),AD33,0)))))","v":0},{"$f":"IF(OR(AD33=\"A\",AD33=\"B\",AD33=\"C\",AD33=\"D\",AD33=\"F\",AND(AD33>=0,AD33<=4,ISNUMBER(AD33))),IF(AH33<>\"\",AH33,3),\"\")","v":""},{"$f":"IF(OR(AD33=\"A\",AD33=\"B\",AD33=\"C\",AD33=\"D\",AD33=\"P\",AND(AD33>=0,AD33<=4,ISNUMBER(AD33))),IF(AH33<>\"\",AH33,3),\"\")","v":""}]
[null,null,null,null,null,0,"","",null,null,null,null,null,0,"","",null,null,null,null,null,null,null,null,null,null,null,null,null,null,0,"",""]
[null,null,null,null,null,0,"","",null,null,null,null,null,0,"","",null,null,null,null,null,null,null,null,null,null,null,null,null,null,0,"",""]
[null,null,null,null,null,0,"","",null,null,null,null,null,0,"","",null,null,null,null,null,null,null,null,null,null,null,null,null,null,{"$f":"IF(AH36<>\"\",AH36,3)*IF(AD36=\"A\",4,IF(AD36=\"B\",3,IF(AD36=\"C\",2,IF(AD36=\"D\",1,IF(AND(AD36>=0,AD36<=4,ISNUMBER(AD36)),AD36,0)))))","v":0},{"$f":"IF(OR(AD36=\"A\",AD36=\"B\",AD36=\"C\",AD36=\"D\",AD36=\"F\",AND(AD36>=0,AD36<=4,ISNUMBER(AD36))),IF(AH36<>\"\",AH36,3),\"\")","v":""},{"$f":"IF(OR(AD36=\"A\",AD36=\"B\",AD36=\"C\",AD36=\"D\",AD36=\"P\",AND(AD36>=0,AD36<=4,ISNUMBER(AD36))),IF(AH36<>\"\",AH36,3),\"\")","v":""}]
[null,null,null,null,null,0,"","",null,null,null,null,null,0,"","",null,null,null,null,null,null,null,null,null,null,null,null,null,null,0,"",""]
[null,null,null,null,null,0,"","",null,null,null,null,null,0,"","",null,null,null,null,null,null,null,null,null,null,null,null,null,null,0,"",""]
[null,null,null,null,null,0,"","",null,null,null,null,null,0,"","",null,null,null,null,null,null,null,null,null,null,null,null,null,null,0,"",""]
[null,null,null,null,null,0,"","",null,null,null,null,null,0,"",""]
[null,null,null,null,null,0,"","",null,null,null,null,null,0,"",""]
[null,null,null,null,null,0,"","",null,null,null,null,null,0,"",""]
[null,null,null,null,null,0,"","",null,null,null,null,null,0,"",""]

{"sheet":"GRAD CHECK","index":1,"n_rows":45,"n_cols":6,"rows_kept":45,"cut":false,"hidden":false,"merged":[[20,2,20,3],[0,0,0,5],[1,0,1,5],[2,0,2,5],[6,1,6,3],[6,4,6,5],[9,1,9,3],[12,1,12,3],[12,4,12,6],[13,1,13,2],[15,1,15,2],[18,1,18,2],[44,1,44,8],[24,1,24,5],[27,1,27,2],[28,1,28,3],[28,4,28,5],[38,1,38,8],[41,1,41,8]]}
["GRADUATION CHECK"]
["By"]
["COLLEGE OF AGRICULTURAL SCIENCES AND NATURAL RESOURCES"]
[]
[]
["Name:",null,null,null,"Date:"]
[null,{"$f":"'PAS-SAWR'!C1","v":"STUDENT NAME"}]
[]
["ID:",null,null,null,"Graduation Date:"]
[null,{"$f":"'PAS-SAWR'!T1","v":"999-99-999"},null,null,{"$f":"'PAS-SAWR'!R19","v":"00:00:00"}]
[]
["EMAIL:",null,null,null,"Major:"]
[null,null,null,null,{"$f":"'PAS-SAWR'!AA1","v":"PASS-SAWR"}]
[]
["Advisor:",null,null,null,"Grad/Ret GPA:"]
[null,{"$f":"'PAS-SAWR'!AH1","v":"AdvisorName"},null,null,{"$f":"'PAS-SAWR'!R22","v":"N/A"}]
[]
[null,"REMINDER:",null,null,"Upper Division GPA:"]
[null,null,null,null,{"$f":"'PAS-SAWR'!R26","v":"N/A"}]
["Total Hours to Date:",null,{"$f":"'PAS-SAWR'!R21","v":0},null,"Total  Upper Div Hours to Date:",{"$f":"'PAS-SAWR'!R23","v":0}]
["Current Enrollment:",null,null,null,"Total  Upper Div Points to Date:",{"$f":"'PAS-SAWR'!R25","v":0}]
[]
["Deficiencies/Remaining Hours:"]
[]
[]
[]
["Hours Needed from a 4 yr. School: ",null,null,null,"Upper Div. hours & points needed: "]
[]
[]
[]
["Number of hours needed to complete requirements:"]
[null,null,null,null,"(hrs. = current courses + deficiencies)"]
[]
[]
[]
[]
[]
["APPROVED BY:"]
[null,"________________________________________________________________________ Adviser/Date Signed"]
[]
[]
[null,"_______________________________________________________________ Department Head/Date Signed"]
[]
[]
[null,"____________________________________________________________________ Assoc. Dean/Date Signed"]

{"sheet":"ADVISOR'S NOTES","index":2,"n_rows":1,"n_cols":2,"rows_kept":1,"cut":false,"hidden":false,"merged":[]}
["DATE","NOTES"]

{"sheet":"CourseLeaf Degree Sheet","index":3,"n_rows":0,"n_cols":0,"rows_kept":0,"cut":false,"hidden":false,"merged":[]}