{"text_format":"1","workbook":"xlsx","n_sheets":4,"sheets":["LM","GRAD CHECK","ADVISOR'S NOTES","CourseLeaf Degree Sheet"],"not_rendered":{"charts":0,"images":2,"macros":0,"external_links":0,"defined_names":3,"comments":1,"pivot_tables":0},"unopened":[],"bounds":{"document_bytes":16777216,"sheet_cells":100000,"rows_first":2000,"rows_last":500,"rows_between":2000,"halvings":0,"cell_chars":16384,"cell_head_chars":4096},"cells_cut":0,"cells_raw":0,"read":"whole","date_system":"1900"}

{"sheet":"LM","index":0,"n_rows":43,"n_cols":35,"rows_kept":43,"cut":false,"hidden":false,"merged":[[0,1,0,16],[0,18,0,24],[0,32,0,34],[6,2,6,3],[6,8,6,11],[6,23,6,24],[0,25,0,27],[7,2,7,3],[7,8,7,11],[7,23,7,24],[8,33,8,34],[8,2,8,3],[8,8,8,11],[17,2,17,3],[17,8,17,11],[15,16,15,17],[12,23,12,24],[9,2,9,3],[9,8,9,11],[10,23,10,24],[12,2,12,3],[12,8,12,11],[10,2,10,3],[10,8,10,11],[11,2,11,3],[11,8,11,11],[16,16,16,17],[16,2,16,3],[16,8,16,11],[15,2,15,3],[15,8,15,11],[13,2,13,3],[13,8,13,11],[14,2,14,3],[14,8,14,11],[13,16,13,18],[23,0,23,11],[17,16,17,17],[19,16,19,17],[20,16,20,17],[21,2,21,3],[21,8,21,11],[20,2,20,3],[20,8,20,11],[21,16,21,17],[22,2,22,3],[22,8,22,11],[18,2,18,3],[18,8,18,11],[19,2,19,3],[19,8,19,11],[18,16,18,17],[48,33,48,34],[49,33,49,34],[50,33,50,34],[51,33,51,34],[22,16,22,17],[45,33,45,34],[46,33,46,34],[47,33,47,34]]}
["NAME:","LNAME, FNAME",null,null,null,null,null,null,null,null,null,null,null,null,null,null,null,"ID:","999-99-999",null,null,null,null,null,null,"LM",null,null,"ADV:",null,null,null,"ADVISOR"]
[]
["General Eduction Requirements: 41 Hours",null,null,null,null,null,null,null,null,null,null,null,null,null,null,null,"College/Dept. Requirements: 14 Hours",null,null,null,null,null,null,null,null,null,"Major Requirements: 65 Hours",null,null,null,null,null,null,null,"2019-20"]
[]
["Course",null,"Grade",null,"GPts","GPACr","GrCr",null,null,"Deviation",null,null,null,null,null,null,"Course",null,"Grade","GPts","GPACr","GrCr",null,"Deviation",null,null,"Course",null,"Grade","GPts","GPACr","GrCr",null,"Deviation"]
[]
["ENGL ",1113,null,null,{"$f":"IF(H7<>\"\",H7,3)*IF(C7=\"A\",4,IF(C7=\"B\",3,IF(C7=\"C\",2,IF(C7=\"D\",1,IF(AND(C7>=0,C7<=4,ISNUMBER(C7)),C7,0)))))","v":0},{"$f":"IF(OR(C7=\"A\",C7=\"B\",C7=\"C\",C7=\"D\",C7=\"F\",AND(C7>=0,C7<=4,ISNUMBER(C7))),IF(H7<>\"\",H7,3),\"\")","v":""},{"$f":"IF(OR(C7=\"A\",C7=\"B\",C7=\"C\",C7=\"D\",C7=\"P\",AND(C7>=0,C7<=4,ISNUMBER(C7))),IF(H7<>\"\",H7,3),\"\")","v":""},null,null,null,null,null,null,null,null,null,"AG",1011,null,{"$f":"IF(W7<>\"\",W7,3)*IF(S7=\"A\",4,IF(S7=\"B\",3,IF(S7=\"C\",2,IF(S7=\"D\",1,IF(AND(S7>=0,S7<=4,ISNUMBER(S7)),S7,0)))))","v":0},{"$f":"IF(OR(S7=\"A\",S7=\"B\",S7=\"C\",S7=\"D\",S7=\"F\",AND(S7>=0,S7<=4,ISNUMBER(S7))),IF(W7<>\"\",W7,3),\"\")","v":""},{"$f":"IF(OR(S7=\"A\",S7=\"B\",S7=\"C\",S7=\"D\",S7=\"P\",AND(S7>=0,S7<=4,ISNUMBER(S7))),IF(W7<>\"\",W7,3),\"\")","v":""},1,null,null,null,"Core Courses: 56 Hours"]
["ENGL ",1213,null,null,0,"","",null,null,null,null,null,null,null,null,null,"AGEC",1113,null,{"$f":"IF(W8<>\"\",W8,3)*IF(S8=\"A\",4,IF(S8=\"B\",3,IF(S8=\"C\",2,IF(S8=\"D\",1,IF(AND(S8>=0,S8<=4,ISNUMBER(S8)),S8,0)))))","v":0},{"$f":"IF(OR(S8=\"A\",S8=\"B\",S8=\"C\",S8=\"D\",S8=\"F\",AND(S8>=0,S8<=4,ISNUMBER(S8))),IF(W8<>\"\",W8,3),\"\")","v":""},{"$f":"IF(OR(S8=\"A\",S8=\"B\",S8=\"C\",S8=\"D\",S8=\"P\",AND(S8>=0,S8<=4,ISNUMBER(S8))),IF(W8<>\"\",W8,3),\"\")","v":""}]
["HIST",1103,null,null,0,"","",null,null,null,null,null,null,null,null,null,"SOIL",2124,null,{"$f":"IF(W9<>\"\",W9,3)*IF(S9=\"A\",4,IF(S9=\"B\",3,IF(S9=\"C\",2,IF(S9=\"D\",1,IF(AND(S9>=0,S9<=4,ISNUMBER(S9)),S9,0)))))","v":0},{"$f":"IF(OR(S9=\"A\",S9=\"B\",S9=\"C\",S9=\"D\",S9=\"F\",AND(S9>=0,S9<=4,ISNUMBER(S9))),IF(W9<>\"\",W9,3),\"\")","v":""},{"$f":"IF(OR(S9=\"A\",S9=\"B\",S9=\"C\",S9=\"D\",S9=\"P\",AND(S9>=0,S9<=4,ISNUMBER(S9))),IF(W9<>\"\",W9,3),\"\")","v":""},4,null,null,null,"ACCT",2103,null,{"$f":"IF(AG9<>\"\",AG9,3)*IF(AC9=\"A\",4,IF(AC9=\"B\",3,IF(AC9=\"C\",2,IF(AC9=\"D\",1,IF(AND(AC9>=0,AC9<=4,ISNUMBER(AC9)),AC9,0)))))","v":0},{"$f":"IF(OR(AC9=\"A\",AC9=\"B\",AC9=\"C\",AC9=\"D\",AC9=\"F\",AND(AC9>=0,AC9<=4,ISNUMBER(AC9))),IF(AG9<>\"\",AG9,3),\"\")","v":""},{"$f":"IF(OR(AC9=\"A\",AC9=\"B\",AC9=\"C\",AC9=\"D\",AC9=\"P\",AND(AC9>=0,AC9<=4,ISNUMBER(AC9))),IF(AG9<>\"\",AG9,3),\"\")","v":""}]
["POLS",1113,null,null,0,"","",null,null,null,null,null,null,null,null,null,"AGCM",3203,null,{"$f":"IF(W10<>\"\",W10,3)*IF(S10=\"A\",4,IF(S10=\"B\",3,IF(S10=\"C\",2,IF(S10=\"D\",1,IF(AND(S10>=0,S10<=4,ISNUMBER(S10)),S10,0)))))","v":0},{"$f":"IF(OR(S10=\"A\",S10=\"B\",S10=\"C\",S10=\"D\",S10=\"F\",AND(S10>=0,S10<=4,ISNUMBER(S10))),IF(W10<>\"\",W10,3),\"\")","v":""},{"$f":"IF(OR(S10=\"A\",S10=\"B\",S10=\"C\",S10=\"D\",S10=\"P\",AND(S10>=0,S10<=4,ISNUMBER(S10))),IF(W10<>\"\",W10,3),\"\")","v":""},null,null,null,null,"HORT",2010,null,0,"","",2]
["MATH",1583,null,null,0,"","",null,null,null,null,null,null,null,null,null,"BCOM",3113,null,0,"","",null,null,null,null,"HORT",2513,null,0,"",""]
["(H)",null,null,null,0,"","",null,null,null,null,null,null,null,null,null,null,null,null,null,null,null,null,null,null,null,"HORT",2613,null,0,"",""]
["(H)",null,null,null,0,"","",null,null,null,null,null,null,null,null,null,null,null,null,null,null,"",null,null,null,null,"HORT",3013,null,0,"",""]
["BIOL",1114,null,null,0,"","",4,null,null,null,null,null,null,null,null,null,null,null,null,null,null,null,"Graduate Semester",null,null,"HORT",3153,null,0,"",""]
["CHEM",1314,null,null,0,"","",4,null,null,null,null,null,null,null,null,"Credits and GPAs as of this date:",null,null,null,null,null,null,null,null,null,"HORT",3513,null,{"$f":"IF(AG15<>\"\",AG15,3)*IF(AC15=\"A\",4,IF(AC15=\"B\",3,IF(AC15=\"C\",2,IF(AC15=\"D\",1,IF(AND(AC15>=0,AC15<=4,ISNUMBER(AC15)),AC15,0)))))","v":0},{"$f":"IF(OR(AC15=\"A\",AC15=\"B\",AC15=\"C\",AC15=\"D\",AC15=\"F\",AND(AC15>=0,AC15<=4,ISNUMBER(AC15))),IF(AG15<>\"\",AG15,3),\"\")","v":""},{"$f":"IF(OR(AC15=\"A\",AC15=\"B\",AC15=\"C\",AC15=\"D\",AC15=\"P\",AND(AC15>=0,AC15<=4,ISNUMBER(AC15))),IF(AG15<>\"\",AG15,3),\"\")","v":""}]
["HORT",1013,null,null,{"$f":"IF(H16<>\"\",H16,3)*IF(C16=\"A\",4,IF(C16=\"B\",3,IF(C16=\"C\",2,IF(C16=\"D\",1,IF(AND(C16>=0,C16<=4,ISNUMBER(C16)),C16,0)))))","v":0},{"$f":"IF(OR(C16=\"A\",C16=\"B\",C16=\"C\",C16=\"D\",C16=\"F\",AND(C16>=0,C16<=4,ISNUMBER(C16))),IF(H16<>\"\",H16,3),\"\")","v":""},{"$f":"IF(OR(C16=\"A\",C16=\"B\",C16=\"C\",C16=\"D\",C16=\"P\",AND(C16>=0,C16<=4,ISNUMBER(C16))),IF(H16<>\"\",H16,3),\"\")","v":""},null,null,null,null,null,null,null,null,null,{"$f":"SUM(G7:G23,V7:V11,AF9:AF26,AF31:AF33,AF37:AF39,G28:G43,O28:O43)","v":0},null,"Hours for graduation",null,null,null,null,null,null,null,"HORT",3612,null,0,"","",2]
["(S)",null,null,null,0,"","",null,null,null,null,null,null,null,null,null,{"$f":"IF(SUM(F7:F23,U7:U11,AE9:AE26,AE31:AE33,AE37:AE39,F28:F43,N28:N43)=0,\"N/A\",ROUNDDOWN(SUM(E7:E23,T7:T11,AD9:AD26,AD31:AD33,AD37:AD39,E28:E43,M28:M43)/SUM(F7:F23,U7:U11,AE9:AE26,AE31:AE33,AE37:AE39,F28:F43,N28:N43),2))","v":"N/A"},null,"Grad/Ret GPA",null,null,null,null,null,null,null,"LA",2213,null,0,"",""]
["GENED",null,null,null,{"$f":"IF(H18<>\"\",H18,3)*IF(C18=\"A\",4,IF(C18=\"B\",3,IF(C18=\"C\",2,IF(C18=\"D\",1,IF(AND(C18>=0,C18<=4,ISNUMBER(C18)),C18,0)))))","v":0},{"$f":"IF(OR(C18=\"A\",C18=\"B\",C18=\"C\",C18=\"D\",C18=\"F\",AND(C18>=0,C18<=4,ISNUMBER(C18))),IF(H18<>\"\",H18,3),\"\")","v":""},{"$f":"IF(OR(C18=\"A\",C18=\"B\",C18=\"C\",C18=\"D\",C18=\"P\",AND(C18>=0,C18<=4,ISNUMBER(C18))),IF(H18<>\"\",H18,3),\"\")","v":""},null,null,null,null,null,null,null,null,null,{"$f":"SUMIF(B7:B23,\">2999\",G7:G23)+SUMIF(B28:B43,\">2999\",G28:G43)+SUMIF(J28:J43,\">2999\",O28:O43)+SUMIF(R7:R11,\">2999\",V7:V11)+SUMIF(AB9:AB26,\">2999\",AF9:AF26)+SUMIF(AB31:AB33,\">2999\",AF31:AF33)+SUMIF(AB37:AB39,\">2999\",AF37:AF39)","v":0},null,"EARNED U/D HOURS (40)",null,null,null,null,null,null,null,"LA",2223,null,{"$f":"IF(AG18<>\"\",AG18,3)*IF(AC18=\"A\",4,IF(AC18=\"B\",3,IF(AC18=\"C\",2,IF(AC18=\"D\",1,IF(AND(AC18>=0,AC18<=4,ISNUMBER(AC18)),AC18,0)))))","v":0},{"$f":"IF(OR(AC18=\"A\",AC18=\"B\",AC18=\"C\",AC18=\"D\",AC18=\"F\",AND(AC18>=0,AC18<=4,ISNUMBER(AC18))),IF(AG18<>\"\",AG18,3),\"\")","v":""},{"$f":"IF(OR(AC18=\"A\",AC18=\"B\",AC18=\"C\",AC18=\"D\",AC18=\"P\",AND(AC18>=0,AC18<=4,ISNUMBER(AC18))),IF(AG18<>\"\",AG18,3),\"\")","v":""}]
["GENED",null,null,null,0,"","",null,null,null,null,null,null,null,null,null,{"$f":"SUMIF(B7:B23,\">2999\",F7:F23)+SUMIF(B28:B43,\">2999\",F28:F43)+SUMIF(J28:J43,\">2999\",N28:N43)+SUMIF(R7:R11,\">2999\",U7:U11)+SUMIF(AB9:AB26,\">2999\",AE9:AE26)+SUMIF(AB31:AB33,\">2999\",AE31:AE33)+SUMIF(AB37:AB39,\">2999\",AE37:AE39)","v":0},null,"GPA U/D HOURS",null,null,null,null,null,null,null,"LA",2323,null,0,"",""]
["(D)",null,null,null,0,"","",null,null,null,null,null,null,null,null,null,{"$f":"SUMIF(B7:B23,\">2999\",E7:E23)+SUMIF(B28:B43,\">2999\",E28:E43)+SUMIF(J28:J43,\">2999\",M28:M43)+SUMIF(R7:R11,\">2999\",T7:T11)+SUMIF(AB9:AB26,\">2999\",AD9:AD26)+SUMIF(AB31:AB33,\">2999\",AD31:AD33)+SUMIF(AB37:AB39,\">2999\",AD37:AD39)","v":0},null,"Upper div points (100)",null,null,null,null,null,null,null,"LA",3315,null,0,"","",5]
["(I)",null,null,null,0,"","",null,null,null,null,null,null,null,null,null,{"$f":"IF(SUM(Q20)=0,\"N/A\",Q20/Q19)","v":"N/A"},null,"Upper div GPA",null,null,null,null,null,null,null,"LA",3884,null,0,"","",4]
[null,null,null,null,0,"","",null,null,null,null,null,null,null,null,null,null,null,"60 Senior College Hours",null,null,null,null,null,null,null,"LA",4894,null,{"$f":"IF(AG22<>\"\",AG22,3)*IF(AC22=\"A\",4,IF(AC22=\"B\",3,IF(AC22=\"C\",2,IF(AC22=\"D\",1,IF(AND(AC22>=0,AC22<=4,ISNUMBER(AC22)),AC22,0)))))","v":0},{"$f":"IF(OR(AC22=\"A\",AC22=\"B\",AC22=\"C\",AC22=\"D\",AC22=\"F\",AND(AC22>=0,AC22<=4,ISNUMBER(AC22))),IF(AG22<>\"\",AG22,3),\"\")","v":""},{"$f":"IF(OR(AC22=\"A\",AC22=\"B\",AC22=\"C\",AC22=\"D\",AC22=\"P\",AND(AC22>=0,AC22<=4,ISNUMBER(AC22))),IF(AG22<>\"\",AG22,3),\"\")","v":""},4]
[null,null,null,null,0,"","",null,null,null,null,null,null,null,null,null,120,null,"HOURS NEEDED",null,null,null,null,null,null,null,"LSB",3213,null,0,"",""]
[null,null,null,null,null,null,null,null,null,null,null,null,null,null,null,null,null,null,null,null,null,null,null,null,null,null,"AST",2313,null,0,"",""]
[" Elective Hours:",null,null,null,null,null,null,null,null,null,null,null,null,null,null,null,"NOTES:",null,null,null,null,null,null,null,null,null,"MKTG",3213,null,0,"",""]
["Non-Ag",null,null,null,null,null,null,null,"Ag Elect ",null,null,null,null,null,null,null,null,null,null,null,null,null,null,null,null,null,"SPAN",null,null,{"$f":"IF(AG26<>\"\",AG26,3)*IF(AC26=\"A\",4,IF(AC26=\"B\",3,IF(AC26=\"C\",2,IF(AC26=\"D\",1,IF(AND(AC26>=0,AC26<=4,ISNUMBER(AC26)),AC26,0)))))","v":0},{"$f":"IF(OR(AC26=\"A\",AC26=\"B\",AC26=\"C\",AC26=\"D\",AC26=\"F\",AND(AC26>=0,AC26<=4,ISNUMBER(AC26))),IF(AG26<>\"\",AG26,3),\"\")","v":""},{"$f":"IF(OR(AC26=\"A\",AC26=\"B\",AC26=\"C\",AC26=\"D\",AC26=\"P\",AND(AC26>=0,AC26<=4,ISNUMBER(AC26))),IF(AG26<>\"\",AG26,3),\"\")","v":""},3]
["Course",null,"Grd","Cr",null,null,null,null,"Course",null,"Grd","Cr","GPts","GPACr","GrCr",null,null,null,null,null,null,null,null,null,null,null,null,null,null,{"$f":"IF(AG27<>\"\",AG27,3)*IF(AC27=\"A\",4,IF(AC27=\"B\",3,IF(AC27=\"C\",2,IF(AC27=\"D\",1,IF(AND(AC27>=0,AC27<=4,ISNUMBER(AC27)),AC27,0)))))","v":0},{"$f":"IF(OR(AC27=\"A\",AC27=\"B\",AC27=\"C\",AC27=\"D\",AC27=\"F\",AND(AC27>=0,AC27<=4,ISNUMBER(AC27))),IF(AG27<>\"\",AG27,3),\"\")","v":""},{"$f":"IF(OR(AC27=\"A\",AC27=\"B\",AC27=\"C\",AC27=\"D\",AC27=\"P\",AND(AC27>=0,AC27<=4,ISNUMBER(AC27))),IF(AG27<>\"\",AG27,3),\"\")","v":""}]
[null,null,null,null,{"$f":"D28*IF(OR(C28=\"A\",C28=\"RA\"),4,IF(OR(C28=\"B\",C28=\"RB\"),3,IF(OR(C28=\"C\",C28=\"RC\"),2,IF(OR(C28=\"D\",C28=\"RD\"),1,IF(AND(C28>=0,C28<=4,ISNUMBER(C28)),C28,0)))))","v":0},{"$f":"IF(OR(C28=\"\",D28=\"\"),\"\",IF(OR(C28=\"A\",C28=\"B\",C28=\"C\",C28=\"D\",C28=\"F\",C28=\"RA\",C28=\"RB\",C28=\"RC\",C28=\"RD\",C28=\"RF\",AND(C28>=0,C28<=4,ISNUMBER(C28))),D28,\"\"))","v":""},{"$f":"IF(OR(C28=\"\",D28=\"\"),\"\",IF(OR(C28=\"A\",C28=\"B\",C28=\"C\",C28=\"D\",C28=\"P\",AND(C28>=0,C28<=4,ISNUMBER(C28))),D28,\"\"))","v":""},null,null,null,null,null,{"$f":"L28*IF(OR(K28=\"A\",K28=\"RA\"),4,IF(OR(K28=\"B\",K28=\"RB\"),3,IF(OR(K28=\"C\",K28=\"RC\"),2,IF(OR(K28=\"D\",K28=\"RD\"),1,IF(AND(K28>=0,K28=4,ISNUMBER(K28)),K28,0)))))","v":0},{"$f":"IF(OR(K28=\"\",L28=\"\"),\"\",IF(OR(K28=\"A\",K28=\"B\",K28=\"C\",K28=\"D\",K28=\"F\",K28=\"RA\",K28=\"RB\",K28=\"RC\",K28=\"RD\",K28=\"RF\",AND(K28>=0,K28<=4,ISNUMBER(K28))),L28,\"\"))","v":""},{"$f":"IF(OR(K28=\"\",L28=\"\"),\"\",IF(OR(K28=\"A\",K28=\"B\",K28=\"C\",K28=\"D\",K28=\"P\",AND(K28>=0,K28<=4,ISNUMBER(K28))),L28,\"\"))","v":""},null,null,null,null,null,null,null,null,null,null,null,"Related Courses: 9 Hours"]
[null,null,null,null,0,"","",null,null,null,null,null,0,"",""]
[null,null,null,null,0,"","",null,null,null,null,null,0,"","",null,null,null,null,null,null,null,null,null,null,null,"Management Emphasis."]
[null,null,null,null,{"$f":"D31*IF(OR(C31=\"A\",C31=\"RA\"),4,IF(OR(C31=\"B\",C31=\"RB\"),3,IF(OR(C31=\"C\",C31=\"RC\"),2,IF(OR(C31=\"D\",C31=\"RD\"),1,IF(AND(C31>=0,C31<=4,ISNUMBER(C31)),C31,0)))))","v":0},{"$f":"IF(OR(C31=\"\",D31=\"\"),\"\",IF(OR(C31=\"A\",C31=\"B\",C31=\"C\",C31=\"D\",C31=\"F\",C31=\"RA\",C31=\"RB\",C31=\"RC\",C31=\"RD\",C31=\"RF\",AND(C31>=0,C31<=4,ISNUMBER(C31))),D31,\"\"))","v":""},{"$f":"IF(OR(C31=\"\",D31=\"\"),\"\",IF(OR(C31=\"A\",C31=\"B\",C31=\"C\",C31=\"D\",C31=\"P\",AND(C31>=0,C31<=4,ISNUMBER(C31))),D31,\"\"))","v":""},null,null,null,null,null,0,"","",null,null,null,null,null,null,null,null,null,null,null,"ACCT",2203,null,{"$f":"IF(AG31<>\"\",AG31,3)*IF(AC31=\"A\",4,IF(AC31=\"B\",3,IF(AC31=\"C\",2,IF(AC31=\"D\",1,IF(AND(AC31>=0,AC31<=4,ISNUMBER(AC31)),AC31,0)))))","v":0},{"$f":"IF(OR(AC31=\"A\",AC31=\"B\",AC31=\"C\",AC31=\"D\",AC31=\"F\",AND(AC31>=0,AC31<=4,ISNUMBER(AC31))),IF(AG31<>\"\",AG31,3),\"\")","v":""},{"$f":"IF(OR(AC31=\"A\",AC31=\"B\",AC31=\"C\",AC31=\"D\",AC31=\"P\",AND(AC31>=0,AC31<=4,ISNUMBER(AC31))),IF(AG31<>\"\",AG31,3),\"\")","v":""}]
[null,null,null,null,0,"","",null,null,null,null,null,0,"","",null,null,null,null,null,null,null,null,null,null,null,"MGMT",3013,null,0,"",""]
[null,null,null,null,0,"","",null,null,null,null,null,0,"","",null,null,null,null,null,null,null,null,null,null,null,"MGMT",3123,null,0,"",""]
[null,null,null,null,0,"","",null,null,null,null,null,0,"","",null,null,null,null,null,null,null,null,null,null,null,"(take MGMT 3313 and 4073 to complete minor)"]
[null,null,null,null,0,"","",null,null,null,null,null,0,"",""]
[null,null,null,null,0,"","",null,null,null,null,null,0,"","",null,null,null,null,null,null,null,null,null,null,null,"Design Emphasis"]
[null,null,null,null,0,"","",null,null,null,null,null,0,"","",null,null,null,null,null,null,null,null,null,null,null,"LA",3325,null,{"$f":"IF(AG37<>\"\",AG37,3)*IF(AC37=\"A\",4,IF(AC37=\"B\",3,IF(AC37=\"C\",2,IF(AC37=\"D\",1,IF(AND(AC37>=0,AC37<=4,ISNUMBER(AC37)),AC37,0)))))","v":0},{"$f":"IF(OR(AC37=\"A\",AC37=\"B\",AC37=\"C\",AC37=\"D\",AC37=\"F\",AND(AC37>=0,AC37<=4,ISNUMBER(AC37))),IF(AG37<>\"\",AG37,3),\"\")","v":""},{"$f":"IF(OR(AC37=\"A\",AC37=\"B\",AC37=\"C\",AC37=\"D\",AC37=\"P\",AND(AC37>=0,AC37<=4,ISNUMBER(AC37))),IF(AG37<>\"\",AG37,3),\"\")","v":""},5]
[null,null,null,null,0,"","",null,null,null,null,null,0,"","",null,null,null,null,null,null,null,null,null,null,null,"LA",4034,null,0,"","",4]
[null,null,null,null,0,"","",null,null,null,null,null,0,"","",null,null,null,null,null,null,null,null,null,null,null,null,null,null,0,"",""]
[null,null,null,null,0,"","",null,null,null,null,null,0,"",""]
[null,null,null,null,0,"","",null,null,null,null,null,0,"",""]
[null,null,null,null,0,"","",null,null,null,null,null,0,"",""]
[null,null,null,null,0,"","",null,null,null,null,null,0,"",""]

{"sheet":"GRAD CHECK","index":1,"n_rows":45,"n_cols":6,"rows_kept":45,"cut":false,"hidden":false,"merged":[[44,1,44,8],[24,1,24,5],[27,1,27,2],[28,1,28,3],[28,4,28,5],[38,1,38,8],[41,1,41,8],[20,2,20,3],[0,0,0,5],[1,0,1,5],[2,0,2,5],[6,1,6,3],[6,4,6,5],[9,1,9,3],[12,1,12,3],[12,4,12,6],[13,1,13,2],[15,1,15,2],[17,1,18,3]]}
["GRADUATION CHECK"]
["By"]
["COLLEGE OF AGRICULTURAL SCIENCES AND NATURAL RESOURCES"]
[]
[]
["Name:",null,null,null,"Date:"]
[null,{"$f":"LM!B1","v":"LNAME, FNAME"}]
[]
["ID:",null,null,null,"Graduation Date:"]
[null,{"$f":"LM!S1","v":"999-99-999"},null,null,{"$f":"LM!Q14","v":"00:00:00"}]
[]
["EMAIL:",null,null,null,"Major:"]
[null,null,null,null,{"$f":"LM!Z1","v":"LM"}]
[]
["Advisor:",null,null,null,"Grad/Ret GPA:"]
[null,{"$f":"LM!AG1","v":"ADVISOR"},null,null,{"$f":"LM!Q17","v":"N/A"}]
[]
[null,"REMINDER:",null,null,"Upper Division GPA:"]
[null,null,null,null,{"$f":"LM!Q21","v":"N/A"}]
["Total Hours to Date:",null,{"$f":"LM!Q16","v":0},null,"Total  Upper Div Hours to Date:",{"$f":"LM!Q18","v":0}]
["Current Enrollment:",null,null,null,"Total  Upper Div Points to Date:",{"$f":"LM!Q20","v":0}]
[]
["Deficiencies/Remaining Hours:"]
[]
[]
[]
["Hours Needed from a 4 yr. School: ",null,null,null,"Upper Div. hours & points needed: "]
[]
[]
[]
["Number of hours needed to complete requirements:"]
[null,null,null,null,"(hrs. = current courses + deficiencies)"]
[]
[]
[]
[]
[]
["APPROVED BY:"]
[null,"________________________________________________________________________ Adviser/Date Signed"]
[]
[]
[null,"_______________________________________________________________ Department Head/Date Signed"]
[]
[]
[null,"____________________________________________________________________ Assoc. Dean/Date Signed"]

{"sheet":"ADVISOR'S NOTES","index":2,"n_rows":1,"n_cols":2,"rows_kept":1,"cut":false,"hidden":false,"merged":[]}
["DATE","NOTES"]

{"sheet":"CourseLeaf Degree Sheet","index":3,"n_rows":0,"n_cols":0,"rows_kept":0,"cut":false,"hidden":false,"merged":[]}