{"text_format":"1","workbook":"xlsx","n_sheets":4,"sheets":["ENVR-NRES","GRAD CHECK","ADVISOR'S NOTES","CourseLeaf Degree Sheet"],"not_rendered":{"charts":0,"images":2,"macros":0,"external_links":0,"defined_names":3,"comments":1,"pivot_tables":0},"unopened":[],"bounds":{"document_bytes":16777216,"sheet_cells":100000,"rows_first":2000,"rows_last":500,"rows_between":2000,"halvings":0,"cell_chars":16384,"cell_head_chars":4096},"cells_cut":0,"cells_raw":0,"read":"whole","date_system":"1900"}

{"sheet":"ENVR-NRES","index":0,"n_rows":44,"n_cols":35,"rows_kept":44,"cut":false,"hidden":false,"merged":[[7,2,7,3],[7,8,7,11],[7,33,7,34],[8,2,8,3],[8,8,8,11],[8,33,8,34],[0,18,0,24],[0,32,0,34],[6,2,6,3],[6,8,6,11],[6,23,6,24],[0,1,0,16],[9,2,9,3],[9,8,9,11],[9,33,9,34],[10,2,10,3],[10,8,10,11],[11,2,11,3],[11,8,11,11],[12,2,12,3],[12,8,12,11],[13,2,13,3],[13,8,13,11],[19,2,19,3],[19,8,19,11],[20,2,20,3],[20,8,20,11],[12,33,12,34],[14,2,14,3],[14,8,14,11],[15,2,15,3],[15,8,15,11],[16,2,16,3],[16,8,16,11],[18,2,18,3],[18,8,18,11],[17,2,17,3],[17,8,17,11],[19,16,19,22],[28,16,28,17],[24,16,24,17],[37,33,37,34],[10,33,10,34],[17,33,17,34],[11,33,11,34],[24,0,24,11],[23,16,23,17],[25,16,25,17],[26,16,26,17],[27,16,27,17],[22,2,22,3],[22,8,22,11],[21,16,21,17],[23,2,23,3],[23,8,23,11],[22,16,22,17],[21,2,21,3],[21,8,21,11]]}
["NAME:","LNAME, FNAME",null,null,null,null,null,null,null,null,null,null,null,null,null,null,null,"ID:","999-99-999",null,null,null,null,null,null,"ENVR-NRES",null,null,"ADV:",null,null,null,"ADVISOR"]
[]
["General Education Requirements: 40 Hours",null,null,null,null,null,null,null,null,null,null,null,null,null,null,null,"College/Dept. Requirements: 40 Hours",null,null,null,null,null,null,null,null,null,"Major Requirements: 44 Hours",null,null,null,null,null,null,null,"2019-20"]
[]
["Course",null,"Grade",null,"GPts","GPACr","GrCr",null,null,"Deviation",null,null,null,null,null,null,"Course",null,"Grade","GPts","GPACr","GrCr",null,"Deviation",null,null,"Course",null,"Grade","GPts","GPACr","GrCr",null,"Deviation"]
[]
["ENGL ",1113,null,null,{"$f":"IF(H7<>\"\",H7,3)*IF(C7=\"A\",4,IF(C7=\"B\",3,IF(C7=\"C\",2,IF(C7=\"D\",1,IF(AND(C7>=0,C7<=4,ISNUMBER(C7)),C7,0)))))","v":0},{"$f":"IF(OR(C7=\"A\",C7=\"B\",C7=\"C\",C7=\"D\",C7=\"F\",AND(C7>=0,C7<=4,ISNUMBER(C7))),IF(H7<>\"\",H7,3),\"\")","v":""},{"$f":"IF(OR(C7=\"A\",C7=\"B\",C7=\"C\",C7=\"D\",C7=\"P\",AND(C7>=0,C7<=4,ISNUMBER(C7))),IF(H7<>\"\",H7,3),\"\")","v":""},null,null,null,null,null,null,null,null,null,"AG",1011,null,{"$f":"IF(W7<>\"\",W7,3)*IF(S7=\"A\",4,IF(S7=\"B\",3,IF(S7=\"C\",2,IF(S7=\"D\",1,IF(AND(S7>=0,S7<=4,ISNUMBER(S7)),S7,0)))))","v":0},{"$f":"IF(OR(S7=\"A\",S7=\"B\",S7=\"C\",S7=\"D\",S7=\"F\",AND(S7>=0,S7<=4,ISNUMBER(S7))),IF(W7<>\"\",W7,3),\"\")","v":""},{"$f":"IF(OR(S7=\"A\",S7=\"B\",S7=\"C\",S7=\"D\",S7=\"P\",AND(S7>=0,S7<=4,ISNUMBER(S7))),IF(W7<>\"\",W7,3),\"\")","v":""},1,null,null,null,"Core Courses: 23 Hours"]
["ENGL ",1213,null,null,0,"","",null,null,null,null,null,null,null,null,null,"ENVR",1113,null,0,"","",null,null,null,null,"AGEC",3503,null,{"$f":"IF(AG8<>\"\",AG8,3)*IF(AC8=\"A\",4,IF(AC8=\"B\",3,IF(AC8=\"C\",2,IF(AC8=\"D\",1,IF(AND(AC8>=0,AC8<=4,ISNUMBER(AC8)),AC8,0)))))","v":0},{"$f":"IF(OR(AC8=\"A\",AC8=\"B\",AC8=\"C\",AC8=\"D\",AC8=\"F\",AND(AC8>=0,AC8<=4,ISNUMBER(AC8))),IF(AG8<>\"\",AG8,3),\"\")","v":""},{"$f":"IF(OR(AC8=\"A\",AC8=\"B\",AC8=\"C\",AC8=\"D\",AC8=\"P\",AND(AC8>=0,AC8<=4,ISNUMBER(AC8))),IF(AG8<>\"\",AG8,3),\"\")","v":""}]
["HIST",1103,null,null,0,"","",null,null,null,null,null,null,null,null,null,"SOIL",2124,null,0,"","",4,null,null,null,"BIOL",3034,null,0,"","",4]
["POLS",1113,null,null,0,"","",null,null,null,null,null,null,null,null,null,"CHEM",3013,null,{"$f":"IF(W10<>\"\",W10,3)*IF(S10=\"A\",4,IF(S10=\"B\",3,IF(S10=\"C\",2,IF(S10=\"D\",1,IF(AND(S10>=0,S10<=4,ISNUMBER(S10)),S10,0)))))","v":0},{"$f":"IF(OR(S10=\"A\",S10=\"B\",S10=\"C\",S10=\"D\",S10=\"F\",AND(S10>=0,S10<=4,ISNUMBER(S10))),IF(W10<>\"\",W10,3),\"\")","v":""},{"$f":"IF(OR(S10=\"A\",S10=\"B\",S10=\"C\",S10=\"D\",S10=\"P\",AND(S10>=0,S10<=4,ISNUMBER(S10))),IF(W10<>\"\",W10,3),\"\")","v":""},null,null,null,null,"ENVR",3113,null,0,"",""]
["STAT",2013,null,null,0,"","",null,null,null,null,null,null,null,null,null,"PBIO ",1404,null,0,"","",4,null,null,null,"ENVR",4811,null,{"$f":"IF(AG11<>\"\",AG11,3)*IF(AC11=\"A\",4,IF(AC11=\"B\",3,IF(AC11=\"C\",2,IF(AC11=\"D\",1,IF(AND(AC11>=0,AC11<=4,ISNUMBER(AC11)),AC11,0)))))","v":0},{"$f":"IF(OR(AC11=\"A\",AC11=\"B\",AC11=\"C\",AC11=\"D\",AC11=\"F\",AND(AC11>=0,AC11<=4,ISNUMBER(AC11))),IF(AG11<>\"\",AG11,3),\"\")","v":""},{"$f":"IF(OR(AC11=\"A\",AC11=\"B\",AC11=\"C\",AC11=\"D\",AC11=\"P\",AND(AC11>=0,AC11<=4,ISNUMBER(AC11))),IF(AG11<>\"\",AG11,3),\"\")","v":""},1]
["(H)",null,null,null,0,"","",null,null,null,null,null,null,null,null,null,"CHEM",1314,null,{"$f":"IF(W12<>\"\",W12,3)*IF(S12=\"A\",4,IF(S12=\"B\",3,IF(S12=\"C\",2,IF(S12=\"D\",1,IF(AND(S12>=0,S12<=4,ISNUMBER(S12)),S12,0)))))","v":0},{"$f":"IF(OR(S12=\"A\",S12=\"B\",S12=\"C\",S12=\"D\",S12=\"F\",AND(S12>=0,S12<=4,ISNUMBER(S12))),IF(W12<>\"\",W12,3),\"\")","v":""},{"$f":"IF(OR(S12=\"A\",S12=\"B\",S12=\"C\",S12=\"D\",S12=\"P\",AND(S12>=0,S12<=4,ISNUMBER(S12))),IF(W12<>\"\",W12,3),\"\")","v":""},4,null,null,null,"ENVR",4813,null,{"$f":"IF(AG12<>\"\",AG12,3)*IF(AC12=\"A\",4,IF(AC12=\"B\",3,IF(AC12=\"C\",2,IF(AC12=\"D\",1,IF(AND(AC12>=0,AC12<=4,ISNUMBER(AC12)),AC12,0)))))","v":0},{"$f":"IF(OR(AC12=\"A\",AC12=\"B\",AC12=\"C\",AC12=\"D\",AC12=\"F\",AND(AC12>=0,AC12<=4,ISNUMBER(AC12))),IF(AG12<>\"\",AG12,3),\"\")","v":""},{"$f":"IF(OR(AC12=\"A\",AC12=\"B\",AC12=\"C\",AC12=\"D\",AC12=\"P\",AND(AC12>=0,AC12<=4,ISNUMBER(AC12))),IF(AG12<>\"\",AG12,3),\"\")","v":""}]
["(H)",null,null,null,0,"","",null,null,null,null,null,null,null,null,null,"CHEM",1515,null,0,"","",5,null,null,null,"NREM",4043,null,{"$f":"IF(AG13<>\"\",AG13,3)*IF(AC13=\"A\",4,IF(AC13=\"B\",3,IF(AC13=\"C\",2,IF(AC13=\"D\",1,IF(AND(AC13>=0,AC13<=4,ISNUMBER(AC13)),AC13,0)))))","v":0},{"$f":"IF(OR(AC13=\"A\",AC13=\"B\",AC13=\"C\",AC13=\"D\",AC13=\"F\",AND(AC13>=0,AC13<=4,ISNUMBER(AC13))),IF(AG13<>\"\",AG13,3),\"\")","v":""},{"$f":"IF(OR(AC13=\"A\",AC13=\"B\",AC13=\"C\",AC13=\"D\",AC13=\"P\",AND(AC13>=0,AC13<=4,ISNUMBER(AC13))),IF(AG13<>\"\",AG13,3),\"\")","v":""}]
["(N)",null,null,null,{"$f":"IF(H14<>\"\",H14,3)*IF(C14=\"A\",4,IF(C14=\"B\",3,IF(C14=\"C\",2,IF(C14=\"D\",1,IF(AND(C14>=0,C14<=4,ISNUMBER(C14)),C14,0)))))","v":0},{"$f":"IF(OR(C14=\"A\",C14=\"B\",C14=\"C\",C14=\"D\",C14=\"F\",AND(C14>=0,C14<=4,ISNUMBER(C14))),IF(H14<>\"\",H14,3),\"\")","v":""},{"$f":"IF(OR(C14=\"A\",C14=\"B\",C14=\"C\",C14=\"D\",C14=\"P\",AND(C14>=0,C14<=4,ISNUMBER(C14))),IF(H14<>\"\",H14,3),\"\")","v":""},null,null,null,null,null,null,null,null,null,"PHYS",1114,null,{"$f":"IF(W14<>\"\",W14,3)*IF(S14=\"A\",4,IF(S14=\"B\",3,IF(S14=\"C\",2,IF(S14=\"D\",1,IF(AND(S14>=0,S14<=4,ISNUMBER(S14)),S14,0)))))","v":0},{"$f":"IF(OR(S14=\"A\",S14=\"B\",S14=\"C\",S14=\"D\",S14=\"F\",AND(S14>=0,S14<=4,ISNUMBER(S14))),IF(W14<>\"\",W14,3),\"\")","v":""},{"$f":"IF(OR(S14=\"A\",S14=\"B\",S14=\"C\",S14=\"D\",S14=\"P\",AND(S14>=0,S14<=4,ISNUMBER(S14))),IF(W14<>\"\",W14,3),\"\")","v":""},4,null,null,null,"NREM",4443,null,{"$f":"IF(AG14<>\"\",AG14,3)*IF(AC14=\"A\",4,IF(AC14=\"B\",3,IF(AC14=\"C\",2,IF(AC14=\"D\",1,IF(AND(AC14>=0,AC14<=4,ISNUMBER(AC14)),AC14,0)))))","v":0},{"$f":"IF(OR(AC14=\"A\",AC14=\"B\",AC14=\"C\",AC14=\"D\",AC14=\"F\",AND(AC14>=0,AC14<=4,ISNUMBER(AC14))),IF(AG14<>\"\",AG14,3),\"\")","v":""},{"$f":"IF(OR(AC14=\"A\",AC14=\"B\",AC14=\"C\",AC14=\"D\",AC14=\"P\",AND(AC14>=0,AC14<=4,ISNUMBER(AC14))),IF(AG14<>\"\",AG14,3),\"\")","v":""}]
["BIOL",1114,null,null,0,"","",4,null,null,null,null,null,null,null,null,"PHYS",1214,null,0,"","",4,null,null,null,"ENVR",4893,null,{"$f":"IF(AG15<>\"\",AG15,3)*IF(AC15=\"A\",4,IF(AC15=\"B\",3,IF(AC15=\"C\",2,IF(AC15=\"D\",1,IF(AND(AC15>=0,AC15<=4,ISNUMBER(AC15)),AC15,0)))))","v":0},{"$f":"IF(OR(AC15=\"A\",AC15=\"B\",AC15=\"C\",AC15=\"D\",AC15=\"F\",AND(AC15>=0,AC15<=4,ISNUMBER(AC15))),IF(AG15<>\"\",AG15,3),\"\")","v":""},{"$f":"IF(OR(AC15=\"A\",AC15=\"B\",AC15=\"C\",AC15=\"D\",AC15=\"P\",AND(AC15>=0,AC15<=4,ISNUMBER(AC15))),IF(AG15<>\"\",AG15,3),\"\")","v":""}]
["AGEC",1113,null,null,0,"","",null,null,null,null,null,null,null,null,null,"MATH",1715,null,0,"","",5]
["AGCM",3203,null,null,0,"","",null,null,null,null,null,null,null,null,null,"AGCM",3103,null,0,"","",null,null,null,null,"6 HOURS ADDITIONAL CORE"]
["GENED",null,null,null,{"$f":"IF(H18<>\"\",H18,3)*IF(C18=\"A\",4,IF(C18=\"B\",3,IF(C18=\"C\",2,IF(C18=\"D\",1,IF(AND(C18>=0,C18<=4,ISNUMBER(C18)),C18,0)))))","v":0},{"$f":"IF(OR(C18=\"A\",C18=\"B\",C18=\"C\",C18=\"D\",C18=\"F\",AND(C18>=0,C18<=4,ISNUMBER(C18))),IF(H18<>\"\",H18,3),\"\")","v":""},{"$f":"IF(OR(C18=\"A\",C18=\"B\",C18=\"C\",C18=\"D\",C18=\"P\",AND(C18>=0,C18<=4,ISNUMBER(C18))),IF(H18<>\"\",H18,3),\"\")","v":""},null,null,null,null,null,null,null,null,null,null,null,null,{"$f":"IF(W18<>\"\",W18,3)*IF(S18=\"A\",4,IF(S18=\"B\",3,IF(S18=\"C\",2,IF(S18=\"D\",1,IF(AND(S18>=0,S18<=4,ISNUMBER(S18)),S18,0)))))","v":0},{"$f":"IF(OR(S18=\"A\",S18=\"B\",S18=\"C\",S18=\"D\",S18=\"F\",AND(S18>=0,S18<=4,ISNUMBER(S18))),IF(W18<>\"\",W18,3),\"\")","v":""},{"$f":"IF(OR(S18=\"A\",S18=\"B\",S18=\"C\",S18=\"D\",S18=\"P\",AND(S18>=0,S18<=4,ISNUMBER(S18))),IF(W18<>\"\",W18,3),\"\")","v":""},null,null,null,null,"NREM",3613,null,{"$f":"IF(AG18<>\"\",AG18,3)*IF(AC18=\"A\",4,IF(AC18=\"B\",3,IF(AC18=\"C\",2,IF(AC18=\"D\",1,IF(AND(AC18>=0,AC18<=4,ISNUMBER(AC18)),AC18,0)))))","v":0},{"$f":"IF(OR(AC18=\"A\",AC18=\"B\",AC18=\"C\",AC18=\"D\",AC18=\"F\",AND(AC18>=0,AC18<=4,ISNUMBER(AC18))),IF(AG18<>\"\",AG18,3),\"\")","v":""},{"$f":"IF(OR(AC18=\"A\",AC18=\"B\",AC18=\"C\",AC18=\"D\",AC18=\"P\",AND(AC18>=0,AC18<=4,ISNUMBER(AC18))),IF(AG18<>\"\",AG18,3),\"\")","v":""}]
["GENED",null,null,null,0,"","",null,null,null,null,null,null,null,null,null,null,null,null,null,null,null,null,null,null,null,"ENVR",4363,null,{"$f":"IF(AG19<>\"\",AG19,3)*IF(AC19=\"A\",4,IF(AC19=\"B\",3,IF(AC19=\"C\",2,IF(AC19=\"D\",1,IF(AND(AC19>=0,AC19<=4,ISNUMBER(AC19)),AC19,0)))))","v":0},{"$f":"IF(OR(AC19=\"A\",AC19=\"B\",AC19=\"C\",AC19=\"D\",AC19=\"F\",AND(AC19>=0,AC19<=4,ISNUMBER(AC19))),IF(AG19<>\"\",AG19,3),\"\")","v":""},{"$f":"IF(OR(AC19=\"A\",AC19=\"B\",AC19=\"C\",AC19=\"D\",AC19=\"P\",AND(AC19>=0,AC19<=4,ISNUMBER(AC19))),IF(AG19<>\"\",AG19,3),\"\")","v":""}]
["(I)",null,null,null,0,"","",null,null,null,null,null,null,null,null,null,null,null,null,null,null,null,null,"Graduate Semester"]
["(D)",null,null,null,0,"","",null,null,null,null,null,null,null,null,null,"Credits and GPAs as of this date:",null,null,null,null,null,null,null,null,null,"RELATED COURSES 15 HOURS FROM:6 updiv"]
[null,null,null,null,0,"","",null,null,null,null,null,null,null,null,null,{"$f":"SUM(G7:G24,V7:V18,AF8:AF15,AF18:AF19,AF31:AF36,G29:G44,O29:O44)","v":0},null,"Hours for graduation"]
[null,null,null,null,0,"","",null,null,null,null,null,null,null,null,null,{"$f":"IF(SUM(F7:F24,U7:U18,AE8:AE15,AE18:AE19,AE31:AE36, F29:F44,N29:N44)=0,\"N/A\",ROUNDDOWN(SUM(E7:E24,T7:T18,AD8:AD15,AD18:AD19,AD31:AD36,E29:E44,M29:M44)/SUM(F7:F24,U7:U18,AE8:AE15,AE18:AE19,AE31:AE36,F29:F44,N29:N44),2))","v":"N/A"},null,"Grad/Ret GPA"]
[null,null,null,null,0,"","",null,null,null,null,null,null,null,null,null,{"$f":"SUMIF(B7:B24,\">2999\",G7:G24)+SUMIF(B29:B44,\">2999\",G29:G44)+SUMIF(J29:J44,\">2999\",O29:O44)+SUMIF(R7:R18,\">2999\",V7:V18)+SUMIF(AB8:AB15,\">2999\",AF8:AF15)+SUMIF(AB18:AB19,\">2999\",AF18:AF19)+SUMIF(AB31:AB36,\">2999\",AF31:AF36)","v":0},null,"EARNED U/D HOURS (40)"]
[null,null,null,null,null,null,null,null,null,null,null,null,null,null,null,null,{"$f":"SUMIF(B7:B24,\">2999\",F7:F24)+SUMIF(B29:B44,\">2999\",F29:F44)+SUMIF(J29:J44,\">2999\",N29:N44)+SUMIF(R7:R18,\">2999\",U7:U18)+SUMIF(AB8:AB15,\">2999\",AE8:AE15)+SUMIF(AB18:AB19,\">2999\",AE18:AE19)+SUMIF(AB31:AB36,\">2999\",AE31:AE36)","v":0},null,"GPA U/D HOURS"]
["Elective Hours:",null,null,null,null,null,null,null,null,null,null,null,null,null,null,null,{"$f":"SUMIF(B7:B24,\">2999\",E7:E24)+SUMIF(B29:B44,\">2999\",E29:E44)+SUMIF(J29:J44,\">2999\",M29:M44)+SUMIF(R7:R18,\">2999\",T7:T18)+SUMIF(AB8:AB15,\">2999\",AD8:AD15)+SUMIF(AB18:AB19,\">2999\",AD18:AD19)+SUMIF(AB31:AB36,\">2999\",AD31:AD36)","v":0},null,"Upper div points (100)"]
["Non-Ag",null,null,null,null,null,null,null,"Ag Elect ",null,null,null,null,null,null,null,{"$f":"IF(SUM(Q26)=0,\"N/A\",Q26/Q25)","v":"N/A"},null,"Upper div GPA"]
["Course",null,"Grd","Cr",null,null,null,null,"Course",null,"Grd","Cr","GPts","GPACr","GrCr",null,null,null,"60 Senior College Hours"]
[null,null,null,null,{"$f":"D29*IF(OR(C29=\"A\",C29=\"RA\"),4,IF(OR(C29=\"B\",C29=\"RB\"),3,IF(OR(C29=\"C\",C29=\"RC\"),2,IF(OR(C29=\"D\",C29=\"RD\"),1,IF(AND(C29>=0,C29<=4,ISNUMBER(C29)),C29,0)))))","v":0},{"$f":"IF(OR(C29=\"\",D29=\"\"),\"\",IF(OR(C29=\"A\",C29=\"B\",C29=\"C\",C29=\"D\",C29=\"F\",C29=\"RA\",C29=\"RB\",C29=\"RC\",C29=\"RD\",C29=\"RF\",AND(C29>=0,C29<=4,ISNUMBER(C29))),D29,\"\"))","v":""},{"$f":"IF(OR(C29=\"\",D29=\"\"),\"\",IF(OR(C29=\"A\",C29=\"B\",C29=\"C\",C29=\"D\",C29=\"P\",AND(C29>=0,C29<=4,ISNUMBER(C29))),D29,\"\"))","v":""},null,null,null,null,null,{"$f":"L29*IF(OR(K29=\"A\",K29=\"RA\"),4,IF(OR(K29=\"B\",K29=\"RB\"),3,IF(OR(K29=\"C\",K29=\"RC\"),2,IF(OR(K29=\"D\",K29=\"RD\"),1,IF(AND(K29>=0,K29=4,ISNUMBER(K29)),K29,0)))))","v":0},{"$f":"IF(OR(K29=\"\",L29=\"\"),\"\",IF(OR(K29=\"A\",K29=\"B\",K29=\"C\",K29=\"D\",K29=\"F\",K29=\"RA\",K29=\"RB\",K29=\"RC\",K29=\"RD\",K29=\"RF\",AND(K29>=0,K29<=4,ISNUMBER(K29))),L29,\"\"))","v":""},{"$f":"IF(OR(K29=\"\",L29=\"\"),\"\",IF(OR(K29=\"A\",K29=\"B\",K29=\"C\",K29=\"D\",K29=\"P\",AND(K29>=0,K29<=4,ISNUMBER(K29))),L29,\"\"))","v":""},null,124,null,"HOURS NEEDED"]
[null,null,null,null,0,"","",null,null,null,null,null,0,"","",null,"NOTES:"]
[null,null,null,null,0,"","",null,null,null,null,null,0,"","",null,null,null,null,null,null,null,null,null,null,null,null,null,null,{"$f":"IF(AG31<>\"\",AG31,3)*IF(AC31=\"A\",4,IF(AC31=\"B\",3,IF(AC31=\"C\",2,IF(AC31=\"D\",1,IF(AND(AC31>=0,AC31<=4,ISNUMBER(AC31)),AC31,0)))))","v":0},{"$f":"IF(OR(AC31=\"A\",AC31=\"B\",AC31=\"C\",AC31=\"D\",AC31=\"F\",AND(AC31>=0,AC31<=4,ISNUMBER(AC31))),IF(AG31<>\"\",AG31,3),\"\")","v":""},{"$f":"IF(OR(AC31=\"A\",AC31=\"B\",AC31=\"C\",AC31=\"D\",AC31=\"P\",AND(AC31>=0,AC31<=4,ISNUMBER(AC31))),IF(AG31<>\"\",AG31,3),\"\")","v":""}]
[null,null,null,null,0,"","",null,null,null,null,null,0,"","",null,null,null,null,null,null,null,null,null,null,null,null,null,null,0,"",""]
[null,null,null,null,0,"","",null,null,null,null,null,0,"","",null,null,null,null,null,null,null,null,null,null,null,null,null,null,0,"",""]
[null,null,null,null,0,"","",null,null,null,null,null,0,"","",null,null,null,null,null,null,null,null,null,null,null,null,null,null,0,"",""]
[null,null,null,null,0,"","",null,null,null,null,null,0,"","",null,null,null,null,null,null,null,null,null,null,null,null,null,null,0,"",""]
[null,null,null,null,0,"","",null,null,null,null,null,0,"","",null,null,null,null,null,null,null,null,null,null,null,null,null,null,0,"",""]
[null,null,null,null,0,"","",null,null,null,null,null,0,"",""]
[null,null,null,null,0,"","",null,null,null,null,null,0,"",""]
[null,null,null,null,0,"","",null,null,null,null,null,0,"",""]
[null,null,null,null,0,"","",null,null,null,null,null,0,"",""]
[null,null,null,null,0,"","",null,null,null,null,null,0,"",""]
[null,null,null,null,0,"","",null,null,null,null,null,0,"",""]
[null,null,null,null,0,"","",null,null,null,null,null,0,"",""]
[null,null,null,null,0,"","",null,null,null,null,null,0,"",""]

{"sheet":"GRAD CHECK","index":1,"n_rows":45,"n_cols":6,"rows_kept":45,"cut":false,"hidden":false,"merged":[[20,2,20,3],[0,0,0,5],[1,0,1,5],[2,0,2,5],[6,1,6,3],[6,4,6,5],[9,1,9,3],[12,1,12,3],[12,4,12,6],[13,1,13,2],[15,1,15,2],[18,1,18,2],[44,1,44,8],[24,1,24,5],[27,1,27,2],[28,1,28,3],[28,4,28,5],[38,1,38,8],[41,1,41,8]]}
["GRADUATION CHECK"]
["By"]
["COLLEGE OF AGRICULTURAL SCIENCES AND NATURAL RESOURCES"]
[]
[]
["Name:",null,null,null,"Date:"]
[null,{"$f":"'ENVR-NRES'!B1","v":"LNAME, FNAME"}]
[]
["ID:",null,null,null,"Graduation Date:"]
[null,{"$f":"'ENVR-NRES'!S1","v":"999-99-999"},null,null,{"$f":"'ENVR-NRES'!Q20","v":"00:00:00"}]
[]
["EMAIL:",null,null,null,"Major:"]
[null,null,null,null,{"$f":"'ENVR-NRES'!Z1","v":"ENVR-NRES"}]
[]
["Advisor:",null,null,null,"Grad/Ret GPA:"]
[null,{"$f":"'ENVR-NRES'!AG1","v":"ADVISOR"},null,null,{"$f":"'ENVR-NRES'!Q23","v":"N/A"}]
[]
[null,"REMINDER:",null,null,"Upper Division GPA:"]
[null,null,null,null,{"$f":"'ENVR-NRES'!Q27","v":"N/A"}]
["Total Hours to Date:",null,{"$f":"'ENVR-NRES'!Q22","v":0},null,"Total  Upper Div Hours to Date:",{"$f":"'ENVR-NRES'!Q24","v":0}]
["Current Enrollment:",null,null,null,"Total  Upper Div Points to Date:",{"$f":"'ENVR-NRES'!Q26","v":0}]
[]
["Deficiencies/Remaining Hours:"]
[]
[]
[]
["Hours Needed from a 4 yr. School: ",null,null,null,"Upper Div. hours & points needed: "]
[]
[]
[]
["Number of hours needed to complete requirements:"]
[null,null,null,null,"(hrs. = current courses + deficiencies)"]
[]
[]
[]
[]
[]
["APPROVED BY:"]
[null,"________________________________________________________________________ Adviser/Date Signed"]
[]
[]
[null,"_______________________________________________________________ Department Head/Date Signed"]
[]
[]
[null,"____________________________________________________________________ Assoc. Dean/Date Signed"]

{"sheet":"ADVISOR'S NOTES","index":2,"n_rows":1,"n_cols":2,"rows_kept":1,"cut":false,"hidden":false,"merged":[]}
["DATE","NOTES"]

{"sheet":"CourseLeaf Degree Sheet","index":3,"n_rows":0,"n_cols":0,"rows_kept":0,"cut":false,"hidden":false,"merged":[]}