{"text_format":"1","workbook":"xlsx","n_sheets":4,"sheets":["ANSI-LSMR","GRAD CHECK","ADVISOR'S NOTES","CourseLeaf Degree Sheet"],"not_rendered":{"charts":0,"images":2,"macros":0,"external_links":0,"defined_names":3,"comments":1,"pivot_tables":0},"unopened":[],"bounds":{"document_bytes":16777216,"sheet_cells":100000,"rows_first":2000,"rows_last":500,"rows_between":2000,"halvings":0,"cell_chars":16384,"cell_head_chars":4096},"cells_cut":0,"cells_raw":0,"read":"whole","date_system":"1900"}

{"sheet":"ANSI-LSMR","index":0,"n_rows":42,"n_cols":35,"rows_kept":42,"cut":false,"hidden":false,"merged":[[24,16,24,17],[17,16,17,22],[10,33,10,34],[11,33,11,34],[12,33,12,34],[13,33,13,34],[14,33,14,34],[14,23,14,24],[15,33,15,34],[16,33,16,34],[17,33,17,34],[15,23,15,24],[22,0,22,11],[21,16,21,17],[22,16,22,17],[19,2,19,3],[23,16,23,17],[20,2,20,3],[20,8,20,11],[21,2,21,3],[21,8,21,11],[55,33,55,34],[56,33,56,34],[50,33,50,34],[51,33,51,34],[52,33,52,34],[53,33,53,34],[54,33,54,34],[34,33,34,34],[14,2,14,3],[14,8,14,11],[19,8,19,11],[16,2,16,3],[16,8,16,11],[17,2,17,3],[17,8,17,11],[18,2,18,3],[18,8,18,11],[15,2,15,3],[15,8,15,11],[25,16,25,17],[19,16,19,17],[20,16,20,17],[26,16,26,17],[13,8,13,11],[12,2,12,3],[12,8,12,11],[13,23,13,24],[13,2,13,3],[10,2,10,3],[10,8,10,11],[11,2,11,3],[11,8,11,11],[10,23,10,24],[0,1,0,16],[0,18,0,24],[0,32,0,34],[6,2,6,3],[6,8,6,11],[6,23,6,24],[0,25,0,27],[7,23,7,24],[8,2,8,3],[8,8,8,11],[9,2,9,3],[9,8,9,11],[7,2,7,3],[7,8,7,11],[8,23,8,24],[9,23,9,24],[39,33,39,34],[40,33,40,34],[41,33,41,34],[9,33,9,34],[8,33,8,34],[18,33,18,34],[19,33,19,34],[22,33,22,34],[23,33,23,34],[37,33,37,34],[25,33,25,34],[24,33,24,34],[33,33,33,34],[38,33,38,34],[36,33,36,34],[35,33,35,34]]}
["NAME:","LNAME, FNAME",null,null,null,null,null,null,null,null,null,null,null,null,null,null,null,"ID:","999-99-999",null,null,null,null,null,null,"ANSI-LSMR",null,null,"ADV:",null,null,null,"ADVISOR"]
[]
["General Education Requirements: 40 Hours",null,null,null,null,null,null,null,null,null,null,null,null,null,null,null,"College/Dept. Requirements: 23 Hours",null,null,null,null,null,null,null,null,null,"Major Requirements: 57 Hours",null,null,null,null,null,null,null,"2019-20"]
[]
["Course",null,"Grade",null,"GPts","GPACr","GrCr",null,null,"Deviation",null,null,null,null,null,null,"Course",null,"Grade","GPts","GPACr","GrCr",null,"Deviation",null,null,"Course",null,"Grade","GPts","GPACr","GrCr",null,"Deviation"]
[]
["ENGL ",1113,null,null,{"$f":"IF(H7<>\"\",H7,3)*IF(C7=\"A\",4,IF(C7=\"B\",3,IF(C7=\"C\",2,IF(C7=\"D\",1,IF(AND(C7>=0,C7<=4,ISNUMBER(C7)),C7,0)))))","v":0},{"$f":"IF(OR(C7=\"A\",C7=\"B\",C7=\"C\",C7=\"D\",C7=\"F\",AND(C7>=0,C7<=4,ISNUMBER(C7))),IF(H7<>\"\",H7,3),\"\")","v":""},{"$f":"IF(OR(C7=\"A\",C7=\"B\",C7=\"C\",C7=\"D\",C7=\"P\",AND(C7>=0,C7<=4,ISNUMBER(C7))),IF(H7<>\"\",H7,3),\"\")","v":""},null,null,null,null,null,null,null,null,null,"AG",1011,null,{"$f":"IF(W7<>\"\",W7,3)*IF(S7=\"A\",4,IF(S7=\"B\",3,IF(S7=\"C\",2,IF(S7=\"D\",1,IF(AND(S7>=0,S7<=4,ISNUMBER(S7)),S7,0)))))","v":0},{"$f":"IF(OR(S7=\"A\",S7=\"B\",S7=\"C\",S7=\"D\",S7=\"F\",AND(S7>=0,S7<=4,ISNUMBER(S7))),IF(W7<>\"\",W7,3),\"\")","v":""},{"$f":"IF(OR(S7=\"A\",S7=\"B\",S7=\"C\",S7=\"D\",S7=\"P\",AND(S7>=0,S7<=4,ISNUMBER(S7))),IF(W7<>\"\",W7,3),\"\")","v":""},1,null,null,null,"CORE COURSES 29 HOURS"]
["ENGL ",1213,null,null,{"$f":"IF(H8<>\"\",H8,3)*IF(C8=\"A\",4,IF(C8=\"B\",3,IF(C8=\"C\",2,IF(C8=\"D\",1,IF(AND(C8>=0,C8<=4,ISNUMBER(C8)),C8,0)))))","v":0},{"$f":"IF(OR(C8=\"A\",C8=\"B\",C8=\"C\",C8=\"D\",C8=\"F\",AND(C8>=0,C8<=4,ISNUMBER(C8))),IF(H8<>\"\",H8,3),\"\")","v":""},{"$f":"IF(OR(C8=\"A\",C8=\"B\",C8=\"C\",C8=\"D\",C8=\"P\",AND(C8>=0,C8<=4,ISNUMBER(C8))),IF(H8<>\"\",H8,3),\"\")","v":""},null,null,null,null,null,null,null,null,null,"PLNT",1213,null,{"$f":"IF(W8<>\"\",W8,3)*IF(S8=\"A\",4,IF(S8=\"B\",3,IF(S8=\"C\",2,IF(S8=\"D\",1,IF(AND(S8>=0,S8<=4,ISNUMBER(S8)),S8,0)))))","v":0},{"$f":"IF(OR(S8=\"A\",S8=\"B\",S8=\"C\",S8=\"D\",S8=\"F\",AND(S8>=0,S8<=4,ISNUMBER(S8))),IF(W8<>\"\",W8,3),\"\")","v":""},{"$f":"IF(OR(S8=\"A\",S8=\"B\",S8=\"C\",S8=\"D\",S8=\"P\",AND(S8>=0,S8<=4,ISNUMBER(S8))),IF(W8<>\"\",W8,3),\"\")","v":""}]
["HIST",1103,null,null,0,"","",null,null,null,null,null,null,null,null,null,"ANSI",1124,null,0,"","",4,null,null,null,"ANSI",3242,null,{"$f":"IF(AG9<>\"\",AG9,3)*IF(AC9=\"A\",4,IF(AC9=\"B\",3,IF(AC9=\"C\",2,IF(AC9=\"D\",1,IF(AND(AC9>=0,AC9<=4,ISNUMBER(AC9)),AC9,0)))))","v":0},{"$f":"IF(OR(AC9=\"A\",AC9=\"B\",AC9=\"C\",AC9=\"D\",AC9=\"F\",AND(AC9>=0,AC9<=4,ISNUMBER(AC9))),IF(AG9<>\"\",AG9,3),\"\")","v":""},{"$f":"IF(OR(AC9=\"A\",AC9=\"B\",AC9=\"C\",AC9=\"D\",AC9=\"P\",AND(AC9>=0,AC9<=4,ISNUMBER(AC9))),IF(AG9<>\"\",AG9,3),\"\")","v":""},2]
["POLS",1113,null,null,0,"","",null,null,null,null,null,null,null,null,null,"ANSI",2111,null,{"$f":"IF(W10<>\"\",W10,3)*IF(S10=\"A\",4,IF(S10=\"B\",3,IF(S10=\"C\",2,IF(S10=\"D\",1,IF(AND(S10>=0,S10<=4,ISNUMBER(S10)),S10,0)))))","v":0},{"$f":"IF(OR(S10=\"A\",S10=\"B\",S10=\"C\",S10=\"D\",S10=\"F\",AND(S10>=0,S10<=4,ISNUMBER(S10))),IF(W10<>\"\",W10,3),\"\")","v":""},{"$f":"IF(OR(S10=\"A\",S10=\"B\",S10=\"C\",S10=\"D\",S10=\"P\",AND(S10>=0,S10<=4,ISNUMBER(S10))),IF(W10<>\"\",W10,3),\"\")","v":""},1,null,null,null,"ANSI",3423,null,{"$f":"IF(AG10<>\"\",AG10,3)*IF(AC10=\"A\",4,IF(AC10=\"B\",3,IF(AC10=\"C\",2,IF(AC10=\"D\",1,IF(AND(AC10>=0,AC10<=4,ISNUMBER(AC10)),AC10,0)))))","v":0},{"$f":"IF(OR(AC10=\"A\",AC10=\"B\",AC10=\"C\",AC10=\"D\",AC10=\"F\",AND(AC10>=0,AC10<=4,ISNUMBER(AC10))),IF(AG10<>\"\",AG10,3),\"\")","v":""},{"$f":"IF(OR(AC10=\"A\",AC10=\"B\",AC10=\"C\",AC10=\"D\",AC10=\"P\",AND(AC10>=0,AC10<=4,ISNUMBER(AC10))),IF(AG10<>\"\",AG10,3),\"\")","v":""}]
["MATH",1513,null,null,0,"","",null,null,null,null,null,null,null,null,null,"ANSI",2233,null,0,"","",null,null,null,null,"ANSI",3433,null,{"$f":"IF(AG11<>\"\",AG11,3)*IF(AC11=\"A\",4,IF(AC11=\"B\",3,IF(AC11=\"C\",2,IF(AC11=\"D\",1,IF(AND(AC11>=0,AC11<=4,ISNUMBER(AC11)),AC11,0)))))","v":0},{"$f":"IF(OR(AC11=\"A\",AC11=\"B\",AC11=\"C\",AC11=\"D\",AC11=\"F\",AND(AC11>=0,AC11<=4,ISNUMBER(AC11))),IF(AG11<>\"\",AG11,3),\"\")","v":""},{"$f":"IF(OR(AC11=\"A\",AC11=\"B\",AC11=\"C\",AC11=\"D\",AC11=\"P\",AND(AC11>=0,AC11<=4,ISNUMBER(AC11))),IF(AG11<>\"\",AG11,3),\"\")","v":""}]
["STAT",2013,null,null,0,"","",null,null,null,null,null,null,null,null,null,"CHEM",1314,null,{"$f":"IF(W12<>\"\",W12,3)*IF(S12=\"A\",4,IF(S12=\"B\",3,IF(S12=\"C\",2,IF(S12=\"D\",1,IF(AND(S12>=0,S12<=4,ISNUMBER(S12)),S12,0)))))","v":0},{"$f":"IF(OR(S12=\"A\",S12=\"B\",S12=\"C\",S12=\"D\",S12=\"F\",AND(S12>=0,S12<=4,ISNUMBER(S12))),IF(W12<>\"\",W12,3),\"\")","v":""},{"$f":"IF(OR(S12=\"A\",S12=\"B\",S12=\"C\",S12=\"D\",S12=\"P\",AND(S12>=0,S12<=4,ISNUMBER(S12))),IF(W12<>\"\",W12,3),\"\")","v":""},5,null,null,null,"ANSI",3443,null,{"$f":"IF(AG12<>\"\",AG12,3)*IF(AC12=\"A\",4,IF(AC12=\"B\",3,IF(AC12=\"C\",2,IF(AC12=\"D\",1,IF(AND(AC12>=0,AC12<=4,ISNUMBER(AC12)),AC12,0)))))","v":0},{"$f":"IF(OR(AC12=\"A\",AC12=\"B\",AC12=\"C\",AC12=\"D\",AC12=\"F\",AND(AC12>=0,AC12<=4,ISNUMBER(AC12))),IF(AG12<>\"\",AG12,3),\"\")","v":""},{"$f":"IF(OR(AC12=\"A\",AC12=\"B\",AC12=\"C\",AC12=\"D\",AC12=\"P\",AND(AC12>=0,AC12<=4,ISNUMBER(AC12))),IF(AG12<>\"\",AG12,3),\"\")","v":""}]
["(H)",null,null,null,{"$f":"IF(H13<>\"\",H13,3)*IF(C13=\"A\",4,IF(C13=\"B\",3,IF(C13=\"C\",2,IF(C13=\"D\",1,IF(AND(C13>=0,C13<=4,ISNUMBER(C13)),C13,0)))))","v":0},{"$f":"IF(OR(C13=\"A\",C13=\"B\",C13=\"C\",C13=\"D\",C13=\"F\",AND(C13>=0,C13<=4,ISNUMBER(C13))),IF(H13<>\"\",H13,3),\"\")","v":""},{"$f":"IF(OR(C13=\"A\",C13=\"B\",C13=\"C\",C13=\"D\",C13=\"P\",AND(C13>=0,C13<=4,ISNUMBER(C13))),IF(H13<>\"\",H13,3),\"\")","v":""},null,null,null,null,null,null,null,null,null,"AGCM",3103,null,0,"","",null,null,null,null,"ANSI",3543,null,0,"",""]
["(H)",null,null,null,0,"","",null,null,null,null,null,null,null,null,null,"SPCH",2713,null,0,"","",null,null,null,null,"ANSI",3623,null,0,"",""]
["(N)",null,null,null,0,"","",null,null,null,null,null,null,null,null,null,"ANSI",2112,null,0,"","",2,null,null,null,"ANSI",3653,null,0,"",""]
["BIOL",1114,null,null,0,"","",4,null,null,null,null,null,null,null,null,null,null,null,null,null,null,null,null,null,null,"ANSI",4863,null,{"$f":"IF(AG16<>\"\",AG16,3)*IF(AC16=\"A\",4,IF(AC16=\"B\",3,IF(AC16=\"C\",2,IF(AC16=\"D\",1,IF(AND(AC16>=0,AC16<=4,ISNUMBER(AC16)),AC16,0)))))","v":0},{"$f":"IF(OR(AC16=\"A\",AC16=\"B\",AC16=\"C\",AC16=\"D\",AC16=\"F\",AND(AC16>=0,AC16<=4,ISNUMBER(AC16))),IF(AG16<>\"\",AG16,3),\"\")","v":""},{"$f":"IF(OR(AC16=\"A\",AC16=\"B\",AC16=\"C\",AC16=\"D\",AC16=\"P\",AND(AC16>=0,AC16<=4,ISNUMBER(AC16))),IF(AG16<>\"\",AG16,3),\"\")","v":""}]
["AGEC",1113,null,null,0,"","",null,null,null,null,null,null,null,null,null,null,null,null,null,null,null,null,null,null,null,"ANSI",null,null,0,"",""]
["GENED",null,null,null,0,"","",null,null,null,null,null,null,null,null,null,null,null,null,null,null,null,null,"Graduate Semester",null,null,"ANSI",null,null,0,"",""]
["GENED",null,null,null,{"$f":"IF(H19<>\"\",H19,3)*IF(C19=\"A\",4,IF(C19=\"B\",3,IF(C19=\"C\",2,IF(C19=\"D\",1,IF(AND(C19>=0,C19<=4,ISNUMBER(C19)),C19,0)))))","v":0},{"$f":"IF(OR(C19=\"A\",C19=\"B\",C19=\"C\",C19=\"D\",C19=\"F\",AND(C19>=0,C19<=4,ISNUMBER(C19))),IF(H19<>\"\",H19,3),\"\")","v":""},{"$f":"IF(OR(C19=\"A\",C19=\"B\",C19=\"C\",C19=\"D\",C19=\"P\",AND(C19>=0,C19<=4,ISNUMBER(C19))),IF(H19<>\"\",H19,3),\"\")","v":""},null,null,null,null,null,null,null,null,null,"Credits and GPAs as of this date:"]
["(D)",null,null,null,0,"","",null,null,null,null,null,null,null,null,null,{"$f":"SUM(G7:G22,V7:V16,AF9:AF18,AF24:AF26,AF35:AF42,G27:G42,O27:O42)","v":0},null,"Hours for graduation"]
["(I)",null,null,null,0,"","",null,null,null,null,null,null,null,null,null,{"$f":"IF(SUM(F7:F22,U7:U16,AE9:AE18,,AE24:AE26,AE35:AE42,F27:F42,N27:N42)=0,\"N/A\",ROUNDDOWN(SUM(E7:E22,T7:T16,AD9:AD18,AD35:AD42,AD24:AD26,E27:E42,M27:M42)/SUM(F7:F22,U7:U16,AE24:AE26,AE9:AE18,AE35:AE42,F27:F42,N27:N42),2))","v":"N/A"},null,"Grad/Ret GPA"]
[null,null,null,null,0,"","",null,null,null,null,null,null,null,null,null,{"$f":"SUMIF(B7:B22,\">2999\",G7:G22)+SUMIF(B27:B42,\">2999\",G27:G42)+SUMIF(J27:J42,\">2999\",O27:O42)+SUMIF(R7:R16,\">2999\",V7:V16)+SUMIF(AB9:AB18,\">2999\",AF9:AF18)+SUMIF(AB24:AB26,\">2999\",AF24:AF26)+SUMIF(AB35:AB42,\">2999\",AF35:AF42)","v":0},null,"EARNED U/D HOURS (40)",null,null,null,null,null,null,null,"ADDITIONAL CORE COURSES 9 HOURS"]
[null,null,null,null,null,null,null,null,null,null,null,null,null,null,null,null,{"$f":"SUMIF(B7:B22,\">2999\",F7:F22)+SUMIF(B27:B42,\">2999\",F27:F42)+SUMIF(J27:J42,\">2999\",N27:N42)+SUMIF(R7:R16,\">2999\",U7:U16)+SUMIF(AB9:AB18,\">2999\",AE9:AE18)+SUMIF(AB24:AB26,\">2999\",AE24:AE26)+SUMIF(AB35:AB42,\">2999\",AE35:AE42)","v":0},null,"GPA U/D HOURS "]
["Elective Hours:",null,null,null,null,null,null,null,null,null,null,null,null,null,null,null,{"$f":"SUMIF(B7:B22,\">2999\",E7:E22)+SUMIF(B27:B42,\">2999\",E27:E42)+SUMIF(J27:J42,\">2999\",M27:M42)+SUMIF(R7:R16,\">2999\",T7:T16)+SUMIF(AB9:AB18,\">2999\",AD9:AD18)+SUMIF(AB24:AB26,\">2999\",AD24:AD26)+SUMIF(AB36:AB42,\">2999\",AD36:AD42)","v":0},null,"Upper div points (100)",null,null,null,null,null,null,null,"ACCT",2103,null,{"$f":"IF(AG24<>\"\",AG24,3)*IF(AC24=\"A\",4,IF(AC24=\"B\",3,IF(AC24=\"C\",2,IF(AC24=\"D\",1,IF(AND(AC24>=0,AC24<=4,ISNUMBER(AC24)),AC24,0)))))","v":0},{"$f":"IF(OR(AC24=\"A\",AC24=\"B\",AC24=\"C\",AC24=\"D\",AC24=\"F\",AND(AC24>=0,AC24<=4,ISNUMBER(AC24))),IF(AG24<>\"\",AG24,3),\"\")","v":""},{"$f":"IF(OR(AC24=\"A\",AC24=\"B\",AC24=\"C\",AC24=\"D\",AC24=\"P\",AND(AC24>=0,AC24<=4,ISNUMBER(AC24))),IF(AG24<>\"\",AG24,3),\"\")","v":""}]
["Non-Ag",null,null,null,null,null,null,null,"Ag Elect ",null,null,null,null,null,null,null,{"$f":"IF(SUM(Q24)=0,\"N/A\",Q24/Q23)","v":"N/A"},null,"Upper div GPA",null,null,null,null,null,null,null,"SC",2183,null,0,"",""]
["Course",null,"Grd","Cr",null,null,null,null,"Course",null,"Grd","Cr","GPts","GPACr","GrCr",null,null,null,"60 Senior College Hours",null,null,null,null,null,null,null,"AGEC",3713,null,{"$f":"IF(AG26<>\"\",AG26,3)*IF(AC26=\"A\",4,IF(AC26=\"B\",3,IF(AC26=\"C\",2,IF(AC26=\"D\",1,IF(AND(AC26>=0,AC26<=4,ISNUMBER(AC26)),AC26,0)))))","v":0},{"$f":"IF(OR(AC26=\"A\",AC26=\"B\",AC26=\"C\",AC26=\"D\",AC26=\"F\",AND(AC26>=0,AC26<=4,ISNUMBER(AC26))),IF(AG26<>\"\",AG26,3),\"\")","v":""},{"$f":"IF(OR(AC26=\"A\",AC26=\"B\",AC26=\"C\",AC26=\"D\",AC26=\"P\",AND(AC26>=0,AC26<=4,ISNUMBER(AC26))),IF(AG26<>\"\",AG26,3),\"\")","v":""}]
[null,null,null,null,{"$f":"D27*IF(OR(C27=\"A\",C27=\"RA\"),4,IF(OR(C27=\"B\",C27=\"RB\"),3,IF(OR(C27=\"C\",C27=\"RC\"),2,IF(OR(C27=\"D\",C27=\"RD\"),1,IF(AND(C27>=0,C27<=4,ISNUMBER(C27)),C27,0)))))","v":0},{"$f":"IF(OR(C27=\"\",D27=\"\"),\"\",IF(OR(C27=\"A\",C27=\"B\",C27=\"C\",C27=\"D\",C27=\"F\",C27=\"RA\",C27=\"RB\",C27=\"RC\",C27=\"RD\",C27=\"RF\",AND(C27>=0,C27<=4,ISNUMBER(C27))),D27,\"\"))","v":""},{"$f":"IF(OR(C27=\"\",D27=\"\"),\"\",IF(OR(C27=\"A\",C27=\"B\",C27=\"C\",C27=\"D\",C27=\"P\",AND(C27>=0,C27<=4,ISNUMBER(C27))),D27,\"\"))","v":""},null,null,null,null,null,{"$f":"L27*IF(OR(K27=\"A\",K27=\"RA\"),4,IF(OR(K27=\"B\",K27=\"RB\"),3,IF(OR(K27=\"C\",K27=\"RC\"),2,IF(OR(K27=\"D\",K27=\"RD\"),1,IF(AND(K27>=0,K27=4,ISNUMBER(K27)),K27,0)))))","v":0},{"$f":"IF(OR(K27=\"\",L27=\"\"),\"\",IF(OR(K27=\"A\",K27=\"B\",K27=\"C\",K27=\"D\",K27=\"F\",K27=\"RA\",K27=\"RB\",K27=\"RC\",K27=\"RD\",K27=\"RF\",AND(K27>=0,K27<=4,ISNUMBER(K27))),L27,\"\"))","v":""},{"$f":"IF(OR(K27=\"\",L27=\"\"),\"\",IF(OR(K27=\"A\",K27=\"B\",K27=\"C\",K27=\"D\",K27=\"P\",AND(K27>=0,K27<=4,ISNUMBER(K27))),L27,\"\"))","v":""},null,120,null,"HOURS NEEDED"]
[null,null,null,null,0,"","",null,null,null,null,null,0,"","",null,"NOTES:",null,null,null,null,null,null,null,null,null,"RELATED COURSES 19 HOURS"]
[null,null,null,null,0,"","",null,null,null,null,null,0,"",""]
[null,null,null,null,0,"","",null,null,null,null,null,0,"",""]
[null,null,null,null,0,"","",null,null,null,null,null,0,"",""]
[null,null,null,null,0,"","",null,null,null,null,null,0,"",""]
[null,null,null,null,0,"","",null,null,null,null,null,0,"",""]
[null,null,null,null,0,"","",null,null,null,null,null,0,"","",null,null,null,null,null,null,null,null,null,null,null,null,null,null,{"$f":"IF(AG34<>\"\",AG34,3)*IF(AC34=\"A\",4,IF(AC34=\"B\",3,IF(AC34=\"C\",2,IF(AC34=\"D\",1,IF(AND(AC34>=0,AC34<=4,ISNUMBER(AC34)),AC34,0)))))","v":0},{"$f":"IF(OR(AC34=\"A\",AC34=\"B\",AC34=\"C\",AC34=\"D\",AC34=\"F\",AND(AC34>=0,AC34<=4,ISNUMBER(AC34))),IF(AG34<>\"\",AG34,3),\"\")","v":""},{"$f":"IF(OR(AC34=\"A\",AC34=\"B\",AC34=\"C\",AC34=\"D\",AC34=\"P\",AND(AC34>=0,AC34<=4,ISNUMBER(AC34))),IF(AG34<>\"\",AG34,3),\"\")","v":""}]
[null,null,null,null,0,"","",null,null,null,null,null,0,"",""]
[null,null,null,null,0,"","",null,null,null,null,null,0,"","",null,null,null,null,null,null,null,null,null,null,null,null,null,null,{"$f":"IF(AG36<>\"\",AG36,3)*IF(AC36=\"A\",4,IF(AC36=\"B\",3,IF(AC36=\"C\",2,IF(AC36=\"D\",1,IF(AND(AC36>=0,AC36<=4,ISNUMBER(AC36)),AC36,0)))))","v":0},{"$f":"IF(OR(AC36=\"A\",AC36=\"B\",AC36=\"C\",AC36=\"D\",AC36=\"F\",AND(AC36>=0,AC36<=4,ISNUMBER(AC36))),IF(AG36<>\"\",AG36,3),\"\")","v":""},{"$f":"IF(OR(AC36=\"A\",AC36=\"B\",AC36=\"C\",AC36=\"D\",AC36=\"P\",AND(AC36>=0,AC36<=4,ISNUMBER(AC36))),IF(AG36<>\"\",AG36,3),\"\")","v":""}]
[null,null,null,null,0,"","",null,null,null,null,null,0,"","",null,null,null,null,null,null,null,null,null,null,null,null,null,null,0,"",""]
[null,null,null,null,0,"","",null,null,null,null,null,0,"","",null,null,null,null,null,null,null,null,null,null,null,null,null,null,0,"",""]
[null,null,null,null,0,"","",null,null,null,null,null,0,"","",null,null,null,null,null,null,null,null,null,null,null,null,null,null,0,"",""]
[null,null,null,null,0,"","",null,null,null,null,null,0,"","",null,null,null,null,null,null,null,null,null,null,null,null,null,null,0,"",""]
[null,null,null,null,0,"","",null,null,null,null,null,0,"","",null,null,null,null,null,null,null,null,null,null,null,null,null,null,0,"",""]
[null,null,null,null,0,"","",null,null,null,null,null,0,"","",null,null,null,null,null,null,null,null,null,null,null,null,null,null,0,"","",2]

{"sheet":"GRAD CHECK","index":1,"n_rows":45,"n_cols":6,"rows_kept":45,"cut":false,"hidden":false,"merged":[[44,1,44,8],[24,1,24,5],[27,1,27,2],[28,1,28,3],[28,4,28,5],[38,1,38,8],[41,1,41,8],[20,2,20,3],[0,0,0,5],[1,0,1,5],[2,0,2,5],[6,1,6,3],[6,4,6,5],[9,1,9,3],[12,1,12,3],[12,4,12,6],[13,1,13,2],[15,1,15,2],[17,1,18,3]]}
["GRADUATION CHECK"]
["By"]
["COLLEGE OF AGRICULTURAL SCIENCES AND NATURAL RESOURCES"]
[]
[]
["Name:",null,null,null,"Date:"]
[null,{"$f":"'ANSI-LSMR'!B1","v":"LNAME, FNAME"}]
[]
["ID:",null,null,null,"Graduation Date:"]
[null,{"$f":"'ANSI-LSMR'!S1","v":"999-99-999"},null,null,{"$f":"'ANSI-LSMR'!Q18","v":"00:00:00"}]
[]
["EMAIL:",null,null,null,"Major:"]
[null,null,null,null,{"$f":"'ANSI-LSMR'!Z1","v":"ANSI-LSMR"}]
[]
["Advisor:",null,null,null,"Grad/Ret GPA:"]
[null,{"$f":"'ANSI-LSMR'!AG1","v":"ADVISOR"},null,null,{"$f":"'ANSI-LSMR'!Q21","v":"N/A"}]
[]
[null,"REMINDER:",null,null,"Upper Division GPA:"]
[null,null,null,null,{"$f":"'ANSI-LSMR'!Q25","v":"N/A"}]
["Total Hours to Date:",null,{"$f":"'ANSI-LSMR'!Q20","v":0},null,"Total  Upper Div Hours to Date:",{"$f":"'ANSI-LSMR'!Q22","v":0}]
["Current Enrollment:",null,null,null,"Total  Upper Div Points to Date:",{"$f":"'ANSI-LSMR'!Q23","v":0}]
[]
["Deficiencies/Remaining Hours:"]
[]
[]
[]
["Hours Needed from a 4 yr. School: ",null,null,null,"Upper Div. hours & points needed: "]
[]
[]
[]
["Number of hours needed to complete requirements:"]
[null,null,null,null,"(hrs. = current courses + deficiencies)"]
[]
[]
[]
[]
[]
["APPROVED BY:"]
[null,"________________________________________________________________________ Adviser/Date Signed"]
[]
[]
[null,"_______________________________________________________________ Department Head/Date Signed"]
[]
[]
[null,"____________________________________________________________________ Assoc. Dean/Date Signed"]

{"sheet":"ADVISOR'S NOTES","index":2,"n_rows":1,"n_cols":2,"rows_kept":1,"cut":false,"hidden":false,"merged":[]}
["DATE","NOTES"]

{"sheet":"CourseLeaf Degree Sheet","index":3,"n_rows":0,"n_cols":0,"rows_kept":0,"cut":false,"hidden":false,"merged":[]}