{"text_format":"1","workbook":"xlsx","n_sheets":4,"sheets":["AGED-HRTS","GRAD CHECK ","ADVISOR'S NOTES","CourseLeaf Degree Sheet"],"not_rendered":{"charts":0,"images":2,"macros":0,"external_links":0,"defined_names":2,"comments":1,"pivot_tables":0},"unopened":[],"bounds":{"document_bytes":16777216,"sheet_cells":100000,"rows_first":2000,"rows_last":500,"rows_between":2000,"halvings":0,"cell_chars":16384,"cell_head_chars":4096},"cells_cut":0,"cells_raw":0,"read":"whole","date_system":"1900"}

{"sheet":"AGED-HRTS","index":0,"n_rows":43,"n_cols":35,"rows_kept":43,"cut":false,"hidden":false,"merged":[[13,8,13,11],[12,2,12,3],[12,8,12,11],[14,33,14,34],[14,2,14,3],[14,8,14,11],[13,2,13,3],[13,16,13,18],[15,16,15,17],[16,16,16,17],[18,16,18,17],[19,16,19,17],[17,2,17,3],[17,8,17,11],[18,2,18,3],[18,8,18,11],[16,2,16,3],[16,8,16,11],[17,16,17,17],[53,33,53,34],[49,33,49,34],[36,33,36,34],[50,33,50,34],[51,33,51,34],[52,33,52,34],[37,33,37,34],[38,33,38,34],[31,33,31,34],[32,33,32,34],[33,33,33,34],[34,33,34,34],[35,33,35,34],[27,33,27,34],[28,33,28,34],[22,33,22,34],[19,2,19,3],[19,8,19,11],[20,2,20,3],[20,8,20,11],[23,0,23,11],[21,16,21,17],[22,16,22,17],[20,16,20,17],[24,33,24,34],[25,33,25,34],[26,33,26,34],[16,33,16,34],[8,8,8,11],[15,2,15,3],[15,8,15,11],[11,23,11,24],[9,33,9,34],[10,2,10,3],[10,8,10,11],[10,33,10,34],[10,23,10,24],[15,33,15,34],[13,33,13,34],[12,33,12,34],[11,33,11,34],[11,2,11,3],[11,8,11,11],[8,33,8,34],[9,2,9,3],[9,8,9,11],[8,2,8,3],[0,1,0,16],[0,18,0,24],[0,32,0,34],[6,2,6,3],[6,8,6,11],[6,23,6,24],[0,25,0,27],[7,23,7,24],[8,23,8,24],[7,2,7,3],[7,8,7,11],[9,23,9,24]]}
["NAME:","LNAME, FNAME",null,null,null,null,null,null,null,null,null,null,null,null,null,null,null,"ID:","999-99-999",null,null,null,null,null,null,"AGED-HRTS",null,null,"ADV:",null,null,null,"ADVISOR"]
[]
["General Education Requirements: 40 Hours",null,null,null,null,null,null,null,null,null,null,null,null,null,null,null,"College/Dept. Requirements: 15 Hours",null,null,null,null,null,null,null,null,null,"Major Requirements: 64 Hours",null,null,null,null,null,null,null,"2019-20"]
[]
["Course",null,"Grade",null,"GPts","GPACr","GrCr",null,null,"Deviation",null,null,null,null,null,null,"Course",null,"Grade","GPts","GPACr","GrCr",null,"Deviation",null,null,"Course",null,"Grade","GPts","GPACr","GrCr",null,"Deviation"]
[]
["ENGL ",1113,null,null,{"$f":"IF(H7<>\"\",H7,3)*IF(C7=\"A\",4,IF(C7=\"B\",3,IF(C7=\"C\",2,IF(C7=\"D\",1,IF(AND(C7>=0,C7<=4,ISNUMBER(C7)),C7,0)))))","v":0},{"$f":"IF(OR(C7=\"A\",C7=\"B\",C7=\"C\",C7=\"D\",C7=\"F\",AND(C7>=0,C7<=4,ISNUMBER(C7))),IF(H7<>\"\",H7,3),\"\")","v":""},{"$f":"IF(OR(C7=\"A\",C7=\"B\",C7=\"C\",C7=\"D\",C7=\"P\",AND(C7>=0,C7<=4,ISNUMBER(C7))),IF(H7<>\"\",H7,3),\"\")","v":""},null,null,null,null,null,null,null,null,null,"AG",1011,null,{"$f":"IF(W7<>\"\",W7,3)*IF(S7=\"A\",4,IF(S7=\"B\",3,IF(S7=\"C\",2,IF(S7=\"D\",1,IF(AND(S7>=0,S7<=4,ISNUMBER(S7)),S7,0)))))","v":0},{"$f":"IF(OR(S7=\"A\",S7=\"B\",S7=\"C\",S7=\"D\",S7=\"F\",AND(S7>=0,S7<=4,ISNUMBER(S7))),IF(W7<>\"\",W7,3),\"\")","v":""},{"$f":"IF(OR(S7=\"A\",S7=\"B\",S7=\"C\",S7=\"D\",S7=\"P\",AND(S7>=0,S7<=4,ISNUMBER(S7))),IF(W7<>\"\",W7,3),\"\")","v":""},1,null,null,null,"HORTICULTURE COURSES: 21 HOURS"]
["ENGL ",1213,null,null,{"$f":"IF(H8<>\"\",H8,3)*IF(C8=\"A\",4,IF(C8=\"B\",3,IF(C8=\"C\",2,IF(C8=\"D\",1,IF(AND(C8>=0,C8<=4,ISNUMBER(C8)),C8,0)))))","v":0},{"$f":"IF(OR(C8=\"A\",C8=\"B\",C8=\"C\",C8=\"D\",C8=\"F\",AND(C8>=0,C8<=4,ISNUMBER(C8))),IF(H8<>\"\",H8,3),\"\")","v":""},{"$f":"IF(OR(C8=\"A\",C8=\"B\",C8=\"C\",C8=\"D\",C8=\"P\",AND(C8>=0,C8<=4,ISNUMBER(C8))),IF(H8<>\"\",H8,3),\"\")","v":""},null,null,null,null,null,null,null,null,null,"ANSI",1124,null,{"$f":"IF(W8<>\"\",W8,3)*IF(S8=\"A\",4,IF(S8=\"B\",3,IF(S8=\"C\",2,IF(S8=\"D\",1,IF(AND(S8>=0,S8<=4,ISNUMBER(S8)),S8,0)))))","v":0},{"$f":"IF(OR(S8=\"A\",S8=\"B\",S8=\"C\",S8=\"D\",S8=\"F\",AND(S8>=0,S8<=4,ISNUMBER(S8))),IF(W8<>\"\",W8,3),\"\")","v":""},{"$f":"IF(OR(S8=\"A\",S8=\"B\",S8=\"C\",S8=\"D\",S8=\"P\",AND(S8>=0,S8<=4,ISNUMBER(S8))),IF(W8<>\"\",W8,3),\"\")","v":""},4]
["HIST",1103,null,null,0,"","",null,null,null,null,null,null,null,null,null,"PLNT",1213,null,0,"","",null,null,null,null,"AGED",4713,null,{"$f":"IF(AG9<>\"\",AG9,3)*IF(AC9=\"A\",4,IF(AC9=\"B\",3,IF(AC9=\"C\",2,IF(AC9=\"D\",1,IF(AND(AC9>=0,AC9<=4,ISNUMBER(AC9)),AC9,0)))))","v":0},{"$f":"IF(OR(AC9=\"A\",AC9=\"B\",AC9=\"C\",AC9=\"D\",AC9=\"F\",AND(AC9>=0,AC9<=4,ISNUMBER(AC9))),IF(AG9<>\"\",AG9,3),\"\")","v":""},{"$f":"IF(OR(AC9=\"A\",AC9=\"B\",AC9=\"C\",AC9=\"D\",AC9=\"P\",AND(AC9>=0,AC9<=4,ISNUMBER(AC9))),IF(AG9<>\"\",AG9,3),\"\")","v":""}]
["POLS",1113,null,null,0,"","",null,null,null,null,null,null,null,null,null,"BIOL",1114,null,0,"","",4,null,null,null,"FDSC",1133,null,0,"",""]
["MATH",null,null,null,0,"","",null,null,null,null,null,null,null,null,null,"AGCM",3103,null,0,"","",null,null,null,null,"HORT",1013,null,0,"",""]
["(H)",null,null,null,0,"","",null,null,null,null,null,null,null,null,null,null,null,null,null,null,null,null,null,null,null,"AST",3011,null,{"$f":"IF(AG12<>\"\",AG12,3)*IF(AC12=\"A\",4,IF(AC12=\"B\",3,IF(AC12=\"C\",2,IF(AC12=\"D\",1,IF(AND(AC12>=0,AC12<=4,ISNUMBER(AC12)),AC12,0)))))","v":0},{"$f":"IF(OR(AC12=\"A\",AC12=\"B\",AC12=\"C\",AC12=\"D\",AC12=\"F\",AND(AC12>=0,AC12<=4,ISNUMBER(AC12))),IF(AG12<>\"\",AG12,3),\"\")","v":""},{"$f":"IF(OR(AC12=\"A\",AC12=\"B\",AC12=\"C\",AC12=\"D\",AC12=\"P\",AND(AC12>=0,AC12<=4,ISNUMBER(AC12))),IF(AG12<>\"\",AG12,3),\"\")","v":""},1]
["(H)",null,null,null,0,"","",null,null,null,null,null,null,null,null,null,null,null,null,null,null,null,null,null,null,null,"AST",3211,null,0,"","",1]
["(N)",null,null,null,0,"","",null,null,null,null,null,null,null,null,null,null,null,null,null,null,null,null,"Graduate Semester",null,null,"AST",3222,null,{"$f":"IF(AG14<>\"\",AG14,3)*IF(AC14=\"A\",4,IF(AC14=\"B\",3,IF(AC14=\"C\",2,IF(AC14=\"D\",1,IF(AND(AC14>=0,AC14<=4,ISNUMBER(AC14)),AC14,0)))))","v":0},{"$f":"IF(OR(AC14=\"A\",AC14=\"B\",AC14=\"C\",AC14=\"D\",AC14=\"F\",AND(AC14>=0,AC14<=4,ISNUMBER(AC14))),IF(AG14<>\"\",AG14,3),\"\")","v":""},{"$f":"IF(OR(AC14=\"A\",AC14=\"B\",AC14=\"C\",AC14=\"D\",AC14=\"P\",AND(AC14>=0,AC14<=4,ISNUMBER(AC14))),IF(AG14<>\"\",AG14,3),\"\")","v":""},2]
["CHEM",1314,null,null,0,"","",4,null,null,null,null,null,null,null,null,"Credits and GPAs as of this date:",null,null,null,null,null,null,null,null,null,"AST",4101,null,0,"","",1]
["AGEC",1113,null,null,0,"","",null,null,null,null,null,null,null,null,null,{"$f":"SUM(G7:G21,V7:V12,AF9:AF17,AF25:AF29,AF32:AF39,G28:G43,O28:O43)","v":0},null,"Hours for graduation",null,null,null,null,null,null,null,"NREM",2013,null,0,"",""]
["SPCH",2713,null,null,0,"","",null,null,null,null,null,null,null,null,null,{"$f":"IF(SUM(F7:F21,U7:U12,AE23:AE29,AE32:AE39,AE9:AE17,F28:F43,N28:N43)=0,\"N/A\",ROUNDDOWN(SUM(E7:E21,T7:T12,AD9:AD17,AD23:AD29,AD32:AD39,E28:E43,M28:M43)/SUM(F7:F21,U7:U12,AE9:AE17,AE23:AE29,AE32:AE39,F28:F43,N28:N43),2))","v":"N/A"},null,"Grad/Ret GPA",null,null,null,null,null,null,null,"SOIL",2124,null,0,"","",4]
["GENED",null,null,null,0,"","",null,null,null,null,null,null,null,null,null,{"$f":"SUMIF(B6:B21,\">2999\",G6:G21)+SUMIF(B28:B43,\">2999\",G28:G43)+SUMIF(J28:J43,\">2999\",O28:O43)+SUMIF(R6:R12,\">2999\",V6:V12)+SUMIF(AB9:AB17,\">2999\",AF9:AF17)+SUMIF(AB25:AB29,\">2999\",AF25:AF29)+SUMIF(AB32:AB39,\">2999\",AF32:AF39)","v":0},null,"EARNED U/D HOURS (40)"]
["GENED",null,null,null,0,"","",null,null,null,null,null,null,null,null,null,{"$f":"SUMIF(B7:B21,\">2999\",F7:F21)+SUMIF(B28:B43,\">2999\",F28:F43)+SUMIF(J28:J43,\">2999\",N28:N43)+SUMIF(R7:R12,\">2999\",U7:U12)+SUMIF(AB9:AB17,\">2999\",AE9:AE17)+SUMIF(AB25:AB29,\">2999\",AE25:AE29)+SUMIF(AB32:AB39,\">2999\",AE32:AE39)","v":0},null,"GPA U/D HOURS",null,null,null,null,null,null,null,"HORTICULTURE COURSES: 16 HOURS"]
["(D)",null,null,null,0,"","",null,null,null,null,null,null,null,null,null,{"$f":"SUMIF(B7:B21,\">2999\",E7:E21)+SUMIF(B28:B43,\">2999\",E28:E43)+SUMIF(J28:J43,\">2999\",M28:N43)+SUMIF(R7:R12,\">2999\",T7:T12)+SUMIF(AB9:AB17,\">2999\",AD9:AD17)+SUMIF(AB25:AB29,\">2999\",AD25:AD29)+SUMIF(AB32:AB39,\">2999\",AD32:AD39)","v":0},null,"Upper div points (100)"]
["(I)",null,null,null,0,"","",null,null,null,null,null,null,null,null,null,{"$f":"IF(SUM(Q20)=0,\"N/A\",Q20/Q19)","v":"N/A"},null,"Upper div GPA"]
[null,null,null,null,null,null,null,null,null,null,null,null,null,null,null,null,null,null,"60 Senior College Hours"]
[null,null,null,null,null,null,null,null,null,null,null,null,null,null,null,null,120,null,"HOURS NEEDED",null,null,null,null,null,null,null,null,null,null,null,{"$f":"IF(OR(AC23=\"A\",AC23=\"B\",AC23=\"C\",AC23=\"D\",AC23=\"F\",AND(AC23>=0,AC23<=4,ISNUMBER(AC23))),IF(AG23<>\"\",AG23,3),\"\")","v":""},{"$f":"IF(OR(AC23=\"A\",AC23=\"B\",AC23=\"C\",AC23=\"D\",AC23=\"P\",AND(AC23>=0,AC23<=4,ISNUMBER(AC23))),IF(AG23<>\"\",AG23,3),\"\")","v":""}]
[null,null,null,null,null,null,null,null,null,null,null,null,null,null,null,null,"NOTES:"]
["Elective Hours: 1 HOUR",null,null,null,null,null,null,null,null,null,null,null,null,null,null,null,null,null,null,null,null,null,null,null,null,null,"PBIO",1404,null,{"$f":"IF(AG25<>\"\",AG25,3)*IF(AC25=\"A\",4,IF(AC25=\"B\",3,IF(AC25=\"C\",2,IF(AC25=\"D\",1,IF(AND(AC25>=0,AC25<=4,ISNUMBER(AC25)),AC25,0)))))","v":0},{"$f":"IF(OR(AC25=\"A\",AC25=\"B\",AC25=\"C\",AC25=\"D\",AC25=\"F\",AND(AC25>=0,AC25<=4,ISNUMBER(AC25))),IF(AG25<>\"\",AG25,3),\"\")","v":""},{"$f":"IF(OR(AC25=\"A\",AC25=\"B\",AC25=\"C\",AC25=\"D\",AC25=\"P\",AND(AC25>=0,AC25<=4,ISNUMBER(AC25))),IF(AG25<>\"\",AG25,3),\"\")","v":""},4]
["Non-Ag",null,null,null,null,null,null,null,"Ag Elect",null,null,null,null,null,null,null,null,null,null,null,null,null,null,null,null,null,"HORT",3084,null,0,"","",4]
["Course",null,"Grd","Cr",null,null,null,null,"Course",null,"Grd","Cr","GPts","GPACr","GrCr",null,null,null,null,null,null,null,null,null,null,null,"HORT",null,null,0,"","",4]
[null,null,null,null,{"$f":"D28*IF(OR(C28=\"A\",C28=\"RA\"),4,IF(OR(C28=\"B\",C28=\"RB\"),3,IF(OR(C28=\"C\",C28=\"RC\"),2,IF(OR(C28=\"D\",C28=\"RD\"),1,IF(AND(C28>=0,C28<=4,ISNUMBER(C28)),C28,0)))))","v":0},{"$f":"IF(OR(C28=\"\",D28=\"\"),\"\",IF(OR(C28=\"A\",C28=\"B\",C28=\"C\",C28=\"D\",C28=\"F\",C28=\"RA\",C28=\"RB\",C28=\"RC\",C28=\"RD\",C28=\"RF\",AND(C28>=0,C28<=4,ISNUMBER(C28))),D28,\"\"))","v":""},{"$f":"IF(OR(C28=\"\",D28=\"\"),\"\",IF(OR(C28=\"A\",C28=\"B\",C28=\"C\",C28=\"D\",C28=\"P\",AND(C28>=0,C28<=4,ISNUMBER(C28))),D28,\"\"))","v":""},null,null,null,null,null,{"$f":"L28*IF(OR(K28=\"A\",K28=\"RA\"),4,IF(OR(K28=\"B\",K28=\"RB\"),3,IF(OR(K28=\"C\",K28=\"RC\"),2,IF(OR(K28=\"D\",K28=\"RD\"),1,IF(AND(K28>=0,K28=4,ISNUMBER(K28)),K28,0)))))","v":0},{"$f":"IF(OR(K28=\"\",L28=\"\"),\"\",IF(OR(K28=\"A\",K28=\"B\",K28=\"C\",K28=\"D\",K28=\"F\",K28=\"RA\",K28=\"RB\",K28=\"RC\",K28=\"RD\",K28=\"RF\",AND(K28>=0,K28<=4,ISNUMBER(K28))),L28,\"\"))","v":""},{"$f":"IF(OR(K28=\"\",L28=\"\"),\"\",IF(OR(K28=\"A\",K28=\"B\",K28=\"C\",K28=\"D\",K28=\"P\",AND(K28>=0,K28<=4,ISNUMBER(K28))),L28,\"\"))","v":""},null,null,null,null,null,null,null,null,null,null,null,"HORT",null,null,{"$f":"IF(AG28<>\"\",AG28,3)*IF(AC28=\"A\",4,IF(AC28=\"B\",3,IF(AC28=\"C\",2,IF(AC28=\"D\",1,IF(AND(AC28>=0,AC28<=4,ISNUMBER(AC28)),AC28,0)))))","v":0},{"$f":"IF(OR(AC28=\"A\",AC28=\"B\",AC28=\"C\",AC28=\"D\",AC28=\"F\",AND(AC28>=0,AC28<=4,ISNUMBER(AC28))),IF(AG28<>\"\",AG28,3),\"\")","v":""},{"$f":"IF(OR(AC28=\"A\",AC28=\"B\",AC28=\"C\",AC28=\"D\",AC28=\"P\",AND(AC28>=0,AC28<=4,ISNUMBER(AC28))),IF(AG28<>\"\",AG28,3),\"\")","v":""},4]
[null,null,null,null,0,"","",null,null,null,null,null,0,"","",null,null,null,null,null,null,null,null,null,null,null,"HORT",null,null,{"$f":"IF(AG29<>\"\",AG29,3)*IF(AC29=\"A\",4,IF(AC29=\"B\",3,IF(AC29=\"C\",2,IF(AC29=\"D\",1,IF(AND(AC29>=0,AC29<=4,ISNUMBER(AC29)),AC29,0)))))","v":0},{"$f":"IF(OR(AC29=\"A\",AC29=\"B\",AC29=\"C\",AC29=\"D\",AC29=\"F\",AND(AC29>=0,AC29<=4,ISNUMBER(AC29))),IF(AG29<>\"\",AG29,3),\"\")","v":""},{"$f":"IF(OR(AC29=\"A\",AC29=\"B\",AC29=\"C\",AC29=\"D\",AC29=\"P\",AND(AC29>=0,AC29<=4,ISNUMBER(AC29))),IF(AG29<>\"\",AG29,3),\"\")","v":""}]
[null,null,null,null,0,"","",null,null,null,null,null,0,"",""]
[null,null,null,null,0,"","",null,null,null,null,null,0,"","",null,null,null,null,null,null,null,null,null,null,null,"Professional Core: 27 Hours"]
[null,null,null,null,0,"","",null,null,null,null,null,0,"","",null,null,null,null,null,null,null,null,null,null,null,"AGED",3101,null,{"$f":"IF(AG32<>\"\",AG32,3)*IF(AC32=\"A\",4,IF(AC32=\"B\",3,IF(AC32=\"C\",2,IF(AC32=\"D\",1,IF(AND(AC32>=0,AC32<=4,ISNUMBER(AC32)),AC32,0)))))","v":0},{"$f":"IF(OR(AC32=\"A\",AC32=\"B\",AC32=\"C\",AC32=\"D\",AC32=\"F\",AND(AC32>=0,AC32<=4,ISNUMBER(AC32))),IF(AG32<>\"\",AG32,3),\"\")","v":""},{"$f":"IF(OR(AC32=\"A\",AC32=\"B\",AC32=\"C\",AC32=\"D\",AC32=\"P\",AND(AC32>=0,AC32<=4,ISNUMBER(AC32))),IF(AG32<>\"\",AG32,3),\"\")","v":""},1]
[null,null,null,null,0,"","",null,null,null,null,null,0,"","",null,null,null,null,null,null,null,null,null,null,null,"AGED",3103,null,0,"",""]
[null,null,null,null,0,"","",null,null,null,null,null,0,"","",null,null,null,null,null,null,null,null,null,null,null,"AGED",3203,null,0,"",""]
[null,null,null,null,0,"","",null,null,null,null,null,0,"","",null,null,null,null,null,null,null,null,null,null,null,"AGED",4103,null,0,"",""]
[null,null,null,null,0,"","",null,null,null,null,null,0,"","",null,null,null,null,null,null,null,null,null,null,null,"AGED",4203,null,0,"",""]
[null,null,null,null,0,"","",null,null,null,null,null,0,"","",null,null,null,null,null,null,null,null,null,null,null,"AGED",4200,null,0,"","",9]
[null,null,null,null,0,"","",null,null,null,null,null,0,"","",null,null,null,null,null,null,null,null,null,null,null,"EPSY",3213,null,{"$f":"IF(AG38<>\"\",AG38,3)*IF(AC38=\"A\",4,IF(AC38=\"B\",3,IF(AC38=\"C\",2,IF(AC38=\"D\",1,IF(AND(AC38>=0,AC38<=4,ISNUMBER(AC38)),AC38,0)))))","v":0},{"$f":"IF(OR(AC38=\"A\",AC38=\"B\",AC38=\"C\",AC38=\"D\",AC38=\"F\",AND(AC38>=0,AC38<=4,ISNUMBER(AC38))),IF(AG38<>\"\",AG38,3),\"\")","v":""},{"$f":"IF(OR(AC38=\"A\",AC38=\"B\",AC38=\"C\",AC38=\"D\",AC38=\"P\",AND(AC38>=0,AC38<=4,ISNUMBER(AC38))),IF(AG38<>\"\",AG38,3),\"\")","v":""}]
[null,null,null,null,0,"","",null,null,null,null,null,0,"","",null,null,null,null,null,null,null,null,null,null,null,"SPED",3202,null,0,"","",2]
[null,null,null,null,0,"","",null,null,null,null,null,0,"",""]
[null,null,null,null,0,"","",null,null,null,null,null,0,"","",null,null,null,null,null,null,null,null,null,null,null,"NOTE:  AGED 4203 & 4200 are taken during teaching semester"]
[null,null,null,null,0,"","",null,null,null,null,null,0,"",""]
[null,null,null,null,0,"","",null,null,null,null,null,0,"",""]

{"sheet":"GRAD CHECK ","index":1,"n_rows":45,"n_cols":6,"rows_kept":45,"cut":false,"hidden":false,"merged":[[20,2,20,3],[0,0,0,5],[1,0,1,5],[2,0,2,5],[6,1,6,3],[6,4,6,5],[9,1,9,3],[12,1,12,3],[12,4,12,6],[13,1,13,2],[15,1,15,2],[17,1,18,3],[44,1,44,8],[24,1,24,5],[27,1,27,2],[28,1,28,3],[28,4,28,5],[38,1,38,8],[41,1,41,8]]}
["GRADUATION CHECK"]
["By"]
["COLLEGE OF AGRICULTURAL SCIENCES AND NATURAL RESOURCES"]
[]
[]
["Name:",null,null,null,"Date:"]
[null,{"$f":"'AGED-HRTS'!B1:Q1","v":"LNAME, FNAME"}]
[]
["ID:",null,null,null,"Graduation Date:"]
[null,{"$f":"'AGED-HRTS'!S1","v":"999-99-999"},null,null,{"$f":"'AGED-HRTS'!Q14","v":"00:00:00"}]
[]
["EMAIL:",null,null,null,"Major:"]
[null,null,null,null,{"$f":"'AGED-HRTS'!Z1","v":"AGED-HRTS"}]
[]
["Advisor:",null,null,null,"Grad/Ret GPA:"]
[null,{"$f":"'AGED-HRTS'!AG1","v":"ADVISOR"},null,null,{"$f":"'AGED-HRTS'!Q17","v":"N/A"}]
[]
[null,"REMINDER:",null,null,"Upper Division GPA:"]
[null,null,null,null,{"$f":"'AGED-HRTS'!Q21","v":"N/A"}]
["Total Hours to Date:",null,{"$f":"'AGED-HRTS'!Q16","v":0},null,"Total  Upper Div Hours to Date:",{"$f":"'AGED-HRTS'!Q19","v":0}]
["Current Enrollment:",null,null,null,"Total  Upper Div Points to Date:",{"$f":"'AGED-HRTS'!Q20","v":0}]
[]
["Deficiencies/Remaining Hours:"]
[]
[]
[]
["Hours Needed from a 4 yr. School: ",null,null,null,"Upper Div. hours & points needed: "]
[]
[]
[]
["Number of hours needed to complete requirements:"]
[null,null,null,null,"(hrs. = current courses + deficiencies)"]
[]
[]
[]
[]
[]
["APPROVED BY:"]
[null,"________________________________________________________________________ Adviser/Date Signed"]
[]
[]
[null,"_______________________________________________________________ Department Head/Date Signed"]
[]
[]
[null,"____________________________________________________________________ Assoc. Dean/Date Signed"]

{"sheet":"ADVISOR'S NOTES","index":2,"n_rows":1,"n_cols":2,"rows_kept":1,"cut":false,"hidden":false,"merged":[]}
["DATE","NOTES"]

{"sheet":"CourseLeaf Degree Sheet","index":3,"n_rows":0,"n_cols":0,"rows_kept":0,"cut":false,"hidden":false,"merged":[]}