{"text_format":"1","workbook":"xlsx","n_sheets":4,"sheets":["AGCM-AGBUS","GRAD CHECK","ADVISOR'S NOTES","CourseLeaf Degree Sheet"],"not_rendered":{"charts":0,"images":2,"macros":1,"external_links":0,"defined_names":3,"comments":1,"pivot_tables":0},"unopened":[],"bounds":{"document_bytes":16777216,"sheet_cells":100000,"rows_first":2000,"rows_last":500,"rows_between":2000,"halvings":0,"cell_chars":16384,"cell_head_chars":4096},"cells_cut":0,"cells_raw":0,"read":"whole","date_system":"1900"}

{"sheet":"AGCM-AGBUS","index":0,"n_rows":41,"n_cols":35,"rows_kept":41,"cut":false,"hidden":false,"merged":[[7,33,7,34],[6,23,6,24],[26,33,26,34],[27,33,27,34],[0,32,0,34],[0,25,0,27],[19,8,19,11],[10,23,10,24],[9,23,9,24],[8,33,8,34],[9,33,9,34],[10,33,10,34],[11,33,11,34],[18,16,18,17],[21,0,21,11],[13,8,13,11],[10,2,10,3],[9,8,9,11],[10,8,10,11],[13,2,13,3],[9,2,9,3],[12,8,12,11],[12,2,12,3],[11,2,11,3],[11,8,11,11],[15,8,15,11],[20,8,20,11],[20,2,20,3],[19,2,19,3],[17,2,17,3],[21,16,21,17],[22,16,22,17],[23,16,23,17],[38,33,38,34],[37,33,37,34],[36,33,36,34],[34,33,34,34],[32,33,32,34],[33,33,33,34],[24,33,24,34],[29,33,29,34],[30,33,30,34],[22,33,22,34],[28,33,28,34],[23,33,23,34],[25,33,25,34],[31,33,31,34],[44,33,44,34],[41,33,41,34],[42,33,42,34],[40,33,40,34],[43,33,43,34],[39,33,39,34],[35,33,35,34],[6,8,6,11],[0,18,0,24],[7,8,7,11],[6,2,6,3],[0,1,0,16],[7,2,7,3],[8,2,8,3],[7,23,7,24],[8,23,8,24],[14,8,14,11],[15,2,15,3],[14,16,14,18],[8,8,8,11],[12,23,12,24],[13,23,13,24],[11,23,11,24],[16,2,16,3],[14,2,14,3],[18,2,18,3],[17,8,17,11],[16,8,16,11],[18,8,18,11],[15,43,15,44],[19,16,19,17],[20,16,20,17],[17,16,17,17],[16,16,16,17],[17,33,17,34],[18,33,18,34],[15,33,15,34],[16,33,16,34],[19,33,19,34]]}
["NAME:","LNAME, FNAME",null,null,null,null,null,null,null,null,null,null,null,null,null,null,null,"ID:","999-99-999",null,null,null,null,null,null,"AGCM-AGBU",null,null,"ADV:",null,null,null,"ADVISOR"]
[]
["General Education Requirements: 40 Hours",null,null,null,null,null,null,null,null,null,null,null,null,null,null,null,"College/Dept. Requirements: 17 Hours",null,null,null,null,null,null,null,null,null,"Major Requirements: 71 Hours",null,null,null,null,null,null,null,"2019-20"]
[]
["Course",null,"Grade",null,"GPts","GPACr","GrCr",null,null,"Deviation",null,null,null,null,null,null,"Course",null,"Grade","GPts","GPACr","GrCr",null,"Deviation",null,null,"Course",null,"Grade","GPts","GPACr","GrCr",null,"Deviation"]
[]
["ENGL ",1113,null,null,{"$f":"IF(H7<>\"\",H7,3)*IF(C7=\"A\",4,IF(C7=\"B\",3,IF(C7=\"C\",2,IF(C7=\"D\",1,IF(AND(C7>=0,C7<=4,ISNUMBER(C7)),C7,0)))))","v":0},{"$f":"IF(OR(C7=\"A\",C7=\"B\",C7=\"C\",C7=\"D\",C7=\"F\",AND(C7>=0,C7<=4,ISNUMBER(C7))),IF(H7<>\"\",H7,3),\"\")","v":""},{"$f":"IF(OR(C7=\"A\",C7=\"B\",C7=\"C\",C7=\"D\",C7=\"P\",AND(C7>=0,C7<=4,ISNUMBER(C7))),IF(H7<>\"\",H7,3),\"\")","v":""},null,null,null,null,null,null,null,null,null,"AG",1011,null,{"$f":"IF(W7<>\"\",W7,3)*IF(S7=\"A\",4,IF(S7=\"B\",3,IF(S7=\"C\",2,IF(S7=\"D\",1,IF(AND(S7>=0,S7<=4,ISNUMBER(S7)),S7,0)))))","v":0},{"$f":"IF(OR(S7=\"A\",S7=\"B\",S7=\"C\",S7=\"D\",S7=\"F\",AND(S7>=0,S7<=4,ISNUMBER(S7))),IF(W7<>\"\",W7,3),\"\")","v":""},{"$f":"IF(OR(S7=\"A\",S7=\"B\",S7=\"C\",S7=\"D\",S7=\"P\",AND(S7>=0,S7<=4,ISNUMBER(S7))),IF(W7<>\"\",W7,3),\"\")","v":""},1,null,null,null,"Ag Comm Core Courses: 32 Hours"]
["ENGL ",1213,null,null,0,"","",null,null,null,null,null,null,null,null,null,"ANSI",1124,null,{"$f":"IF(W8<>\"\",W8,3)*IF(S8=\"A\",4,IF(S8=\"B\",3,IF(S8=\"C\",2,IF(S8=\"D\",1,IF(AND(S8>=0,S8<=4,ISNUMBER(S8)),S8,0)))))","v":0},{"$f":"IF(OR(S8=\"A\",S8=\"B\",S8=\"C\",S8=\"D\",S8=\"F\",AND(S8>=0,S8<=4,ISNUMBER(S8))),IF(W8<>\"\",W8,3),\"\")","v":""},{"$f":"IF(OR(S8=\"A\",S8=\"B\",S8=\"C\",S8=\"D\",S8=\"P\",AND(S8>=0,S8<=4,ISNUMBER(S8))),IF(W8<>\"\",W8,3),\"\")","v":""},4]
["HIST",1103,null,null,0,"","",null,null,null,null,null,null,null,null,null,"PLNT",1213,null,{"$f":"IF(W9<>\"\",W9,3)*IF(S9=\"A\",4,IF(S9=\"B\",3,IF(S9=\"C\",2,IF(S9=\"D\",1,IF(AND(S9>=0,S9<=4,ISNUMBER(S9)),S9,0)))))","v":0},{"$f":"IF(OR(S9=\"A\",S9=\"B\",S9=\"C\",S9=\"D\",S9=\"F\",AND(S9>=0,S9<=4,ISNUMBER(S9))),IF(W9<>\"\",W9,3),\"\")","v":""},{"$f":"IF(OR(S9=\"A\",S9=\"B\",S9=\"C\",S9=\"D\",S9=\"P\",AND(S9>=0,S9<=4,ISNUMBER(S9))),IF(W9<>\"\",W9,3),\"\")","v":""},null,null,null,null,"AGCM",3123,null,{"$f":"IF(AG9<>\"\",AG9,3)*IF(AC9=\"A\",4,IF(AC9=\"B\",3,IF(AC9=\"C\",2,IF(AC9=\"D\",1,IF(AND(AC9>=0,AC9<=4,ISNUMBER(AC9)),AC9,0)))))","v":0},{"$f":"IF(OR(AC9=\"A\",AC9=\"B\",AC9=\"C\",AC9=\"D\",AC9=\"F\",AND(AC9>=0,AC9<=4,ISNUMBER(AC9))),IF(AG9<>\"\",AG9,3),\"\")","v":""},{"$f":"IF(OR(AC9=\"A\",AC9=\"B\",AC9=\"C\",AC9=\"D\",AC9=\"P\",AND(AC9>=0,AC9<=4,ISNUMBER(AC9))),IF(AG9<>\"\",AG9,3),\"\")","v":""}]
["POLS",1113,null,null,0,"","",null,null,null,null,null,null,null,null,null,"AGCM",2113,null,0,"","",null,null,null,null,"AGCM",3213,null,0,"",""]
["MATH",2103,null,null,0,"","",null,null,null,null,null,null,null,null,null,"AGCM",3113,null,{"$f":"IF(W11<>\"\",W11,3)*IF(S11=\"A\",4,IF(S11=\"B\",3,IF(S11=\"C\",2,IF(S11=\"D\",1,IF(AND(S11>=0,S11<=4,ISNUMBER(S11)),S11,0)))))","v":0},{"$f":"IF(OR(S11=\"A\",S11=\"B\",S11=\"C\",S11=\"D\",S11=\"F\",AND(S11>=0,S11<=4,ISNUMBER(S11))),IF(W11<>\"\",W11,3),\"\")","v":""},{"$f":"IF(OR(S11=\"A\",S11=\"B\",S11=\"C\",S11=\"D\",S11=\"P\",AND(S11>=0,S11<=4,ISNUMBER(S11))),IF(W11<>\"\",W11,3),\"\")","v":""},null,null,null,null,"AGCM",3223,null,0,"",""]
["STAT",2023,null,null,0,"","",null,null,null,null,null,null,null,null,null,"AGCM",3203,null,0,"","",null,null,null,null,"AGCM",3233,null,0,"",""]
["(H)",null,null,null,0,"","",null,null,null,null,null,null,null,null,null,null,null,null,{"$f":"IF(W13<>\"\",W13,3)*IF(S13=\"A\",4,IF(S13=\"B\",3,IF(S13=\"C\",2,IF(S13=\"D\",1,IF(AND(S13>=0,S13<=4,ISNUMBER(S13)),S13,0)))))","v":0},{"$f":"IF(OR(S13=\"A\",S13=\"B\",S13=\"C\",S13=\"D\",S13=\"F\",AND(S13>=0,S13<=4,ISNUMBER(S13))),IF(W13<>\"\",W13,3),\"\")","v":""},{"$f":"IF(OR(S13=\"A\",S13=\"B\",S13=\"C\",S13=\"D\",S13=\"P\",AND(S13>=0,S13<=4,ISNUMBER(S13))),IF(W13<>\"\",W13,3),\"\")","v":""},null,null,null,null,"AGCM",3503,null,{"$f":"IF(AG13<>\"\",AG13,3)*IF(AC13=\"A\",4,IF(AC13=\"B\",3,IF(AC13=\"C\",2,IF(AC13=\"D\",1,IF(AND(AC13>=0,AC13<=4,ISNUMBER(AC13)),AC13,0)))))","v":0},{"$f":"IF(OR(AC13=\"A\",AC13=\"B\",AC13=\"C\",AC13=\"D\",AC13=\"F\",AND(AC13>=0,AC13<=4,ISNUMBER(AC13))),IF(AG13<>\"\",AG13,3),\"\")","v":""},{"$f":"IF(OR(AC13=\"A\",AC13=\"B\",AC13=\"C\",AC13=\"D\",AC13=\"P\",AND(AC13>=0,AC13<=4,ISNUMBER(AC13))),IF(AG13<>\"\",AG13,3),\"\")","v":""}]
["(H)",null,null,null,0,"","",null,null,null,null,null,null,null,null,null,null,null,null,null,null,null,null,null,null,null,"AGCM",4113,null,0,"",""]
["(N)",null,null,null,0,"","",null,null,null,null,null,null,null,null,null,null,null,null,null,null,null,null,"Graduate Semester",null,null,"AGCM",4203,null,{"$f":"IF(AG15<>\"\",AG15,3)*IF(AC15=\"A\",4,IF(AC15=\"B\",3,IF(AC15=\"C\",2,IF(AC15=\"D\",1,IF(AND(AC15>=0,AC15<=4,ISNUMBER(AC15)),AC15,0)))))","v":0},{"$f":"IF(OR(AC15=\"A\",AC15=\"B\",AC15=\"C\",AC15=\"D\",AC15=\"F\",AND(AC15>=0,AC15<=4,ISNUMBER(AC15))),IF(AG15<>\"\",AG15,3),\"\")","v":""},{"$f":"IF(OR(AC15=\"A\",AC15=\"B\",AC15=\"C\",AC15=\"D\",AC15=\"P\",AND(AC15>=0,AC15<=4,ISNUMBER(AC15))),IF(AG15<>\"\",AG15,3),\"\")","v":""}]
["CHEM",1014,null,null,0,"","",4,null,null,null,null,null,null,null,null,"Credits and GPAs as of this date:",null,null,null,null,null,null,null,null,null,"AGCM",4300,null,{"$f":"IF(AG16<>\"\",AG16,3)*IF(AC16=\"A\",4,IF(AC16=\"B\",3,IF(AC16=\"C\",2,IF(AC16=\"D\",1,IF(AND(AC16>=0,AC16<=4,ISNUMBER(AC16)),AC16,0)))))","v":0},{"$f":"IF(OR(AC16=\"A\",AC16=\"B\",AC16=\"C\",AC16=\"D\",AC16=\"F\",AND(AC16>=0,AC16<=4,ISNUMBER(AC16))),IF(AG16<>\"\",AG16,3),\"\")","v":""},{"$f":"IF(OR(AC16=\"A\",AC16=\"B\",AC16=\"C\",AC16=\"D\",AC16=\"P\",AND(AC16>=0,AC16<=4,ISNUMBER(AC16))),IF(AG16<>\"\",AG16,3),\"\")","v":""},2]
["AGEC",1113,null,null,0,"","",null,null,null,null,null,null,null,null,null,{"$f":"SUM(G7:G21,V7:V13,AF8:AF19,AF23:AF37,G26:G41,O26:O41)","v":0},null,"Hours for graduation",null,null,null,null,null,null,null,"AGCM",4403,null,0,"",""]
["GENED",null,null,null,{"$f":"IF(H18<>\"\",H18,3)*IF(C18=\"A\",4,IF(C18=\"B\",3,IF(C18=\"C\",2,IF(C18=\"D\",1,IF(AND(C18>=0,C18<=4,ISNUMBER(C18)),C18,0)))))","v":0},{"$f":"IF(OR(C18=\"A\",C18=\"B\",C18=\"C\",C18=\"D\",C18=\"F\",AND(C18>=0,C18<=4,ISNUMBER(C18))),IF(H18<>\"\",H18,3),\"\")","v":""},{"$f":"IF(OR(C18=\"A\",C18=\"B\",C18=\"C\",C18=\"D\",C18=\"P\",AND(C18>=0,C18<=4,ISNUMBER(C18))),IF(H18<>\"\",H18,3),\"\")","v":""},3,null,null,null,null,null,null,null,null,{"$f":"IF(SUM(F7:F21,U7:U13,AE9:AE19,AE23:AE37,F26:F41,N26:N41)=0,\"N/A\",ROUNDDOWN(SUM(E7:E21,T7:T13,AD9:AD19,AD23:AD37,E26:E41,M26:M41)/SUM(F7:F21,U7:U13,AE9:AE19,F26:F41,N26:N41,AE23:AE37),2))","v":"N/A"},null,"Grad/Ret GPA",null,null,null,null,null,null,null,"AGCM",4413,null,0,"",""]
["GENED",null,null,null,{"$f":"IF(H19<>\"\",H19,3)*IF(C19=\"A\",4,IF(C19=\"B\",3,IF(C19=\"C\",2,IF(C19=\"D\",1,IF(AND(C19>=0,C19<=4,ISNUMBER(C19)),C19,0)))))","v":0},"","",null,null,null,null,null,null,null,null,null,{"$f":"SUMIF(B6:B21,\">2999\",G6:G21)+SUMIF(B26:B41,\">2999\",G26:G41)+SUMIF(J26:J41,\">2999\",O26:O41)+SUMIF(R6:R12,\">2999\",V6:V12)+SUMIF(R13,\">2999\",V13)+SUMIF(AB9:AB19,\">2999\",AF9:AF19)+SUMIF(AB23:AB36,\">2999\",AF23:AF36)","v":0},null,"EARNED U/D HOURS (40)",null,null,null,null,null,null,null,"ANSI",2253,null,0,"",""]
["(I)",null,null,null,0,"","",null,null,null,null,null,null,null,null,null,{"$f":"SUMIF(B7:B21,\">2999\",F7:F21)+SUMIF(B26:B41,\">2999\",F26:F41)+SUMIF(J26:J41,\">2999\",N26:N41)+SUMIF(R7:R12,\">2999\",U7:U12)+SUMIF(R13:R13,\">2999\",U13:U13)+SUMIF(AB9:AB19,\">2999\",AE9:AE19)+SUMIF(AB23:AB37,\">2999\",AE23:AE37)","v":0},null,"GPA U/D HOURS"]
["(D)",null,null,null,0,"","",null,null,null,null,null,null,null,null,null,{"$f":"SUMIF(B7:B21,\">2999\",E7:E21)+SUMIF(B26:B41,\">2999\",E26:E41)+SUMIF(J26:J41,\">2999\",M26:M41)+SUMIF(R7:R12,\">2999\",T7:T12)+SUMIF(R13:R13,\">2999\",T13:T13)+SUMIF(AB9:AB19,\">2999\",AD9:AD19)+SUMIF(AB23:AB37,\">2999\",AD23:AD37)","v":0},null,"Upper div points (100)",null,null,null,null,null,null,null,"Agribusiness Core Courses: 39 hours"]
[null,null,null,null,null,null,null,null,null,null,null,null,null,null,null,null,{"$f":"IF(SUM(Q21)=0,\"N/A\",Q21/Q20)","v":"N/A"},null,"Upper div GPA"]
["Elective Hours:",null,null,null,null,null,null,null,null,null,null,null,null,null,null,null,null,null,"60 Senior College Hours",null,null,null,null,null,null,null,"ACCT",2103,null,{"$f":"IF(AG23<>\"\",AG23,3)*IF(AC23=\"A\",4,IF(AC23=\"B\",3,IF(AC23=\"C\",2,IF(AC23=\"D\",1,IF(AND(AC23>=0,AC23<=4,ISNUMBER(AC23)),AC23,0)))))","v":0},{"$f":"IF(OR(AC23=\"A\",AC23=\"B\",AC23=\"C\",AC23=\"D\",AC23=\"F\",AND(AC23>=0,AC23<=4,ISNUMBER(AC23))),IF(AG23<>\"\",AG23,3),\"\")","v":""},{"$f":"IF(OR(AC23=\"A\",AC23=\"B\",AC23=\"C\",AC23=\"D\",AC23=\"P\",AND(AC23>=0,AC23<=4,ISNUMBER(AC23))),IF(AG23<>\"\",AG23,3),\"\")","v":""}]
["Non-Ag",null,null,null,null,null,null,null,"Ag Elect",null,null,null,null,null,null,null,128,null,"HOURS NEEDED",null,null,null,null,null,null,null,"ACCT",2203,null,0,"",""]
["Course",null,"Grd","Cr",null,null,null,null,"Course",null,"Grd","Cr","GPts","GPACr","GrCr",null,"NOTES:",null,null,null,null,null,null,null,null,null,"AGEC",3213,null,{"$f":"IF(AG25<>\"\",AG25,3)*IF(AC25=\"A\",4,IF(AC25=\"B\",3,IF(AC25=\"C\",2,IF(AC25=\"D\",1,IF(AND(AC25>=0,AC25<=4,ISNUMBER(AC25)),AC25,0)))))","v":0},{"$f":"IF(OR(AC25=\"A\",AC25=\"B\",AC25=\"C\",AC25=\"D\",AC25=\"F\",AND(AC25>=0,AC25<=4,ISNUMBER(AC25))),IF(AG25<>\"\",AG25,3),\"\")","v":""},{"$f":"IF(OR(AC25=\"A\",AC25=\"B\",AC25=\"C\",AC25=\"D\",AC25=\"P\",AND(AC25>=0,AC25<=4,ISNUMBER(AC25))),IF(AG25<>\"\",AG25,3),\"\")","v":""}]
[null,null,null,null,{"$f":"D26*IF(OR(C26=\"A\",C26=\"RA\"),4,IF(OR(C26=\"B\",C26=\"RB\"),3,IF(OR(C26=\"C\",C26=\"RC\"),2,IF(OR(C26=\"D\",C26=\"RD\"),1,IF(AND(C26>=0,C26<=4,ISNUMBER(C26)),C26,0)))))","v":0},{"$f":"IF(OR(C26=\"\",D26=\"\"),\"\",IF(OR(C26=\"A\",C26=\"B\",C26=\"C\",C26=\"D\",C26=\"F\",C26=\"RA\",C26=\"RB\",C26=\"RC\",C26=\"RD\",C26=\"RF\",AND(C26>=0,C26<=4,ISNUMBER(C26))),D26,\"\"))","v":""},{"$f":"IF(OR(C26=\"\",D26=\"\"),\"\",IF(OR(C26=\"A\",C26=\"B\",C26=\"C\",C26=\"D\",C26=\"P\",AND(C26>=0,C26<=4,ISNUMBER(C26))),D26,\"\"))","v":""},null,null,null,null,null,{"$f":"L26*IF(OR(K26=\"A\",K26=\"RA\"),4,IF(OR(K26=\"B\",K26=\"RB\"),3,IF(OR(K26=\"C\",K26=\"RC\"),2,IF(OR(K26=\"D\",K26=\"RD\"),1,IF(AND(K26>=0,K26=4,ISNUMBER(K26)),K26,0)))))","v":0},{"$f":"IF(OR(K26=\"\",L26=\"\"),\"\",IF(OR(K26=\"A\",K26=\"B\",K26=\"C\",K26=\"D\",K26=\"F\",K26=\"RA\",K26=\"RB\",K26=\"RC\",K26=\"RD\",K26=\"RF\",AND(K26>=0,K26<=4,ISNUMBER(K26))),L26,\"\"))","v":""},{"$f":"IF(OR(K26=\"\",L26=\"\"),\"\",IF(OR(K26=\"A\",K26=\"B\",K26=\"C\",K26=\"D\",K26=\"P\",AND(K26>=0,K26<=4,ISNUMBER(K26))),L26,\"\"))","v":""},null,null,null,null,null,null,null,null,null,null,null,"AGEC",3323,null,0,"",""]
[null,null,null,null,0,"","",null,null,null,null,null,0,"","",null,null,null,null,null,null,null,null,null,null,null,"AGEC",3333,null,0,"",""]
[null,null,null,null,0,"","",null,null,null,null,null,0,"","",null,null,null,null,null,null,null,null,null,null,null,"AGEC",3423,null,0,"",""]
[null,null,null,null,0,"","",null,null,null,null,null,0,"","",null,null,null,null,null,null,null,null,null,null,null,"AGEC",3603,null,0,"",""]
[null,null,null,null,0,"","",null,null,null,null,null,0,"","",null,null,null,null,null,null,null,null,null,null,null,"AGEC",3713,null,0,"",""]
[null,null,null,null,0,"","",null,null,null,null,null,0,"","",null,null,null,null,null,null,null,null,null,null,null,"AGEC","4343*",null,0,"",""]
[null,null,null,null,0,"","",null,null,null,null,null,0,"","",null,null,null,null,null,null,null,null,null,null,null,"AGEC","4503*",null,0,"",""]
[null,null,null,null,0,"","",null,null,null,null,null,0,"","",null,null,null,null,null,null,null,null,null,null,null,"AGEC","4703*",null,0,"",""]
[null,null,null,null,0,"","",null,null,null,null,null,0,"","",null,null,null,null,null,null,null,null,null,null,null,"ECON",2203,null,{"$f":"IF(AG34<>\"\",AG34,3)*IF(AC34=\"A\",4,IF(AC34=\"B\",3,IF(AC34=\"C\",2,IF(AC34=\"D\",1,IF(AND(AC34>=0,AC34<=4,ISNUMBER(AC34)),AC34,0)))))","v":0},{"$f":"IF(OR(AC34=\"A\",AC34=\"B\",AC34=\"C\",AC34=\"D\",AC34=\"F\",AND(AC34>=0,AC34<=4,ISNUMBER(AC34))),IF(AG34<>\"\",AG34,3),\"\")","v":""},{"$f":"IF(OR(AC34=\"A\",AC34=\"B\",AC34=\"C\",AC34=\"D\",AC34=\"P\",AND(AC34>=0,AC34<=4,ISNUMBER(AC34))),IF(AG34<>\"\",AG34,3),\"\")","v":""}]
[null,null,null,null,0,"","",null,null,null,null,null,0,"","",null,null,null,null,null,null,null,null,null,null,null,"ECON",3113,null,0,"",""]
[null,null,null,null,0,"","",null,null,null,null,null,0,"",""]
[null,null,null,null,0,"","",null,null,null,null,null,0,"","",null,null,null,null,null,null,null,null,null,null,null,null,null,null,0,"",""]
[null,null,null,null,0,"","",null,null,null,null,null,0,"",""]
[null,null,null,null,0,"","",null,null,null,null,null,0,"",""]
[null,null,null,null,0,"","",null,null,null,null,null,0,"",""]
[null,null,null,null,0,"","",null,null,null,null,null,0,"",""]

{"sheet":"GRAD CHECK","index":1,"n_rows":45,"n_cols":6,"rows_kept":45,"cut":false,"hidden":false,"merged":[[20,2,20,3],[0,0,0,5],[1,0,1,5],[2,0,2,5],[6,1,6,3],[6,4,6,5],[9,1,9,3],[12,1,12,3],[12,4,12,6],[13,1,13,2],[15,1,15,2],[17,1,18,3],[44,1,44,8],[24,1,24,5],[27,1,27,2],[28,1,28,3],[28,4,28,5],[38,1,38,8],[41,1,41,8]]}
["GRADUATION CHECK"]
["By"]
["COLLEGE OF AGRICULTURAL SCIENCES AND NATURAL RESOURCES"]
[]
[]
["Name:",null,null,null,"Date:"]
[null,{"$f":"'AGCM-AGBUS'!B1","v":"LNAME, FNAME"}]
[]
["ID:",null,null,null,"Graduation Date:"]
[null,{"$f":"'AGCM-AGBUS'!S1","v":"999-99-999"},null,null,{"$f":"'AGCM-AGBUS'!Q15","v":"00:00:00"}]
[]
["EMAIL:",null,null,null,"Major:"]
[null,null,null,null,{"$f":"'AGCM-AGBUS'!Z1","v":"AGCM-AGBU"}]
[]
["Advisor:",null,null,null,"Grad/Ret GPA:"]
[null,{"$f":"'AGCM-AGBUS'!AG1","v":"ADVISOR"},null,null,{"$f":"'AGCM-AGBUS'!Q18","v":"N/A"}]
[]
[null,"REMINDER:",null,null,"Upper Division GPA:"]
[null,null,null,null,{"$f":"'AGCM-AGBUS'!Q22","v":"N/A"}]
["Total Hours to Date:",null,{"$f":"'AGCM-AGBUS'!Q17","v":0},null,"Total  Upper Div Hours to Date:",{"$f":"'AGCM-AGBUS'!Q20","v":0}]
["Current Enrollment:",null,null,null,"Total  Upper Div Points to Date:",{"$f":"'AGCM-AGBUS'!Q21","v":0}]
[]
["Deficiencies/Remaining Hours:"]
[]
[]
[]
["Hours Needed from a 4 yr. School: ",null,null,null,"Upper Div. hours & points needed: "]
[]
[]
[]
["Number of hours needed to complete requirements:"]
[null,null,null,null,"(hrs. = current courses + deficiencies)"]
[]
[]
[]
[]
[]
["APPROVED BY:"]
[null,"________________________________________________________________________ Adviser/Date Signed"]
[]
[]
[null,"_______________________________________________________________ Department Head/Date Signed"]
[]
[]
[null,"____________________________________________________________________ Assoc. Dean/Date Signed"]

{"sheet":"ADVISOR'S NOTES","index":2,"n_rows":1,"n_cols":2,"rows_kept":1,"cut":false,"hidden":false,"merged":[]}
["DATE","NOTES"]

{"sheet":"CourseLeaf Degree Sheet","index":3,"n_rows":0,"n_cols":0,"rows_kept":0,"cut":false,"hidden":false,"merged":[]}