{"text_format":"1","workbook":"xlsx","n_sheets":4,"sheets":["FDSC-IND","GRAD CHECK","ADVISOR'S NOTES","CourseLeaf Degree Sheet"],"not_rendered":{"charts":0,"images":2,"macros":0,"external_links":0,"defined_names":3,"comments":1,"pivot_tables":0},"unopened":[],"bounds":{"document_bytes":16777216,"sheet_cells":100000,"rows_first":2000,"rows_last":500,"rows_between":2000,"halvings":0,"cell_chars":16384,"cell_head_chars":4096},"cells_cut":0,"cells_raw":0,"read":"whole","date_system":"1900"}

{"sheet":"FDSC-IND","index":0,"n_rows":45,"n_cols":35,"rows_kept":45,"cut":false,"hidden":false,"merged":[[18,33,18,34],[25,33,25,34],[26,33,26,34],[27,33,27,34],[55,33,55,34],[56,33,56,34],[57,33,57,34],[58,33,58,34],[26,16,26,17],[52,33,52,34],[53,33,53,34],[54,33,54,34],[37,33,37,34],[38,33,38,34],[39,33,39,34],[40,33,40,34],[41,33,41,34],[28,33,28,34],[25,16,25,17],[22,2,22,3],[22,8,22,11],[23,2,23,3],[23,8,23,11],[24,0,24,11],[22,16,22,17],[23,16,23,17],[24,16,24,17],[21,2,21,3],[21,8,21,11],[20,16,20,17],[18,2,18,3],[18,8,18,11],[21,16,21,17],[18,16,18,22],[16,2,16,3],[16,8,16,11],[17,2,17,3],[20,2,20,3],[20,8,20,11],[19,2,19,3],[19,8,19,11],[17,8,17,11],[14,2,14,3],[14,8,14,11],[15,2,15,3],[15,8,15,11],[8,23,8,24],[14,23,14,24],[10,2,10,3],[10,8,10,11],[13,2,13,3],[13,8,13,11],[11,2,11,3],[11,8,11,11],[12,2,12,3],[12,8,12,11],[7,33,7,34],[8,2,8,3],[8,8,8,11],[9,23,9,24],[7,2,7,3],[8,33,8,34],[7,23,7,24],[9,2,9,3],[9,8,9,11],[0,1,0,16],[0,18,0,24],[0,32,0,34],[6,2,6,3],[6,8,6,11],[6,23,6,24],[0,25,0,27],[16,23,16,24],[13,23,13,24],[15,23,15,24],[11,23,11,24],[10,23,10,24],[12,23,12,24]]}
["NAME:","STUDENT, NAME",null,null,null,null,null,null,null,null,null,null,null,null,null,null,null,"ID:","999-99-999",null,null,null,null,null,null,"FDSC-IND",null,null,"ADV:",null,null,null,"AdvisorName"]
[]
["General Education Requirements: 40 Hours",null,null,null,null,null,null,null,null,null,null,null,null,null,null,null,"College/Dept. Requirements: 31 Hours",null,null,null,null,null,null,null,null,null,"Major Requirements: 49 Hours",null,null,null,null,null,null,null,"2018-19"]
[]
["Course",null,"Grade",null,"GPts","GPACr","GrCr",null,null,"Deviation",null,null,null,null,null,null,"Course",null,"Grade","GPts","GPACr","GrCr",null,"Deviation",null,null,"Course",null,"Grade","GPts","GPACr","GrCr",null,"Deviation"]
[]
["ENGL ",1113,null,null,{"$f":"IF(H7<>\"\",H7,3)*IF(C7=\"A\",4,IF(C7=\"B\",3,IF(C7=\"C\",2,IF(C7=\"D\",1,IF(AND(C7>=0,C7<=4,ISNUMBER(C7)),C7,0)))))","v":0},{"$f":"IF(OR(C7=\"A\",C7=\"B\",C7=\"C\",C7=\"D\",C7=\"F\",AND(C7>=0,C7<=4,ISNUMBER(C7))),IF(H7<>\"\",H7,3),\"\")","v":""},{"$f":"IF(OR(C7=\"A\",C7=\"B\",C7=\"C\",C7=\"D\",C7=\"P\",AND(C7>=0,C7<=4,ISNUMBER(C7))),IF(H7<>\"\",H7,3),\"\")","v":""},null,null,null,null,null,null,null,null,null,"AG",1011,null,{"$f":"IF(W7<>\"\",W7,3)*IF(S7=\"A\",4,IF(S7=\"B\",3,IF(S7=\"C\",2,IF(S7=\"D\",1,IF(AND(S7>=0,S7<=4,ISNUMBER(S7)),S7,0)))))","v":0},{"$f":"IF(OR(S7=\"A\",S7=\"B\",S7=\"C\",S7=\"D\",S7=\"F\",AND(S7>=0,S7<=4,ISNUMBER(S7))),IF(W7<>\"\",W7,3),\"\")","v":""},{"$f":"IF(OR(S7=\"A\",S7=\"B\",S7=\"C\",S7=\"D\",S7=\"P\",AND(S7>=0,S7<=4,ISNUMBER(S7))),IF(W7<>\"\",W7,3),\"\")","v":""},1,null,null,null,"Core Courses: 28 Hours"]
["ENGL ",1213,null,null,{"$f":"IF(H8<>\"\",H8,3)*IF(C8=\"A\",4,IF(C8=\"B\",3,IF(C8=\"C\",2,IF(C8=\"D\",1,IF(AND(C8>=0,C8<=4,ISNUMBER(C8)),C8,0)))))","v":0},{"$f":"IF(OR(C8=\"A\",C8=\"B\",C8=\"C\",C8=\"D\",C8=\"F\",AND(C8>=0,C8<=4,ISNUMBER(C8))),IF(H8<>\"\",H8,3),\"\")","v":""},{"$f":"IF(OR(C8=\"A\",C8=\"B\",C8=\"C\",C8=\"D\",C8=\"P\",AND(C8>=0,C8<=4,ISNUMBER(C8))),IF(H8<>\"\",H8,3),\"\")","v":""},null,null,null,null,null,null,null,null,null,"ANSI",2111,null,{"$f":"IF(W8<>\"\",W8,3)*IF(S8=\"A\",4,IF(S8=\"B\",3,IF(S8=\"C\",2,IF(S8=\"D\",1,IF(AND(S8>=0,S8<=4,ISNUMBER(S8)),S8,0)))))","v":0},{"$f":"IF(OR(S8=\"A\",S8=\"B\",S8=\"C\",S8=\"D\",S8=\"F\",AND(S8>=0,S8<=4,ISNUMBER(S8))),IF(W8<>\"\",W8,3),\"\")","v":""},{"$f":"IF(OR(S8=\"A\",S8=\"B\",S8=\"C\",S8=\"D\",S8=\"P\",AND(S8>=0,S8<=4,ISNUMBER(S8))),IF(W8<>\"\",W8,3),\"\")","v":""},1]
["HIST",1103,null,null,0,"","",null,null,null,null,null,null,null,null,null,"FDSC",1133,null,{"$f":"IF(W9<>\"\",W9,3)*IF(S9=\"A\",4,IF(S9=\"B\",3,IF(S9=\"C\",2,IF(S9=\"D\",1,IF(AND(S9>=0,S9<=4,ISNUMBER(S9)),S9,0)))))","v":0},{"$f":"IF(OR(S9=\"A\",S9=\"B\",S9=\"C\",S9=\"D\",S9=\"F\",AND(S9>=0,S9<=4,ISNUMBER(S9))),IF(W9<>\"\",W9,3),\"\")","v":""},{"$f":"IF(OR(S9=\"A\",S9=\"B\",S9=\"C\",S9=\"D\",S9=\"P\",AND(S9>=0,S9<=4,ISNUMBER(S9))),IF(W9<>\"\",W9,3),\"\")","v":""},null,null,null,null,"ANSI",4863,null,{"$f":"IF(AG9<>\"\",AG9,3)*IF(AC9=\"A\",4,IF(AC9=\"B\",3,IF(AC9=\"C\",2,IF(AC9=\"D\",1,IF(AND(AC9>=0,AC9<=4,ISNUMBER(AC9)),AC9,0)))))","v":0},{"$f":"IF(OR(AC9=\"A\",AC9=\"B\",AC9=\"C\",AC9=\"D\",AC9=\"F\",AND(AC9>=0,AC9<=4,ISNUMBER(AC9))),IF(AG9<>\"\",AG9,3),\"\")","v":""},{"$f":"IF(OR(AC9=\"A\",AC9=\"B\",AC9=\"C\",AC9=\"D\",AC9=\"P\",AND(AC9>=0,AC9<=4,ISNUMBER(AC9))),IF(AG9<>\"\",AG9,3),\"\")","v":""}]
["POLS",1113,null,null,0,"","",null,null,null,null,null,null,null,null,null,"FDSC",2233,null,0,"","",null,null,null,null,"FDSC",3113,null,{"$f":"IF(AG10<>\"\",AG10,3)*IF(AC10=\"A\",4,IF(AC10=\"B\",3,IF(AC10=\"C\",2,IF(AC10=\"D\",1,IF(AND(AC10>=0,AC10<=4,ISNUMBER(AC10)),AC10,0)))))","v":0},{"$f":"IF(OR(AC10=\"A\",AC10=\"B\",AC10=\"C\",AC10=\"D\",AC10=\"F\",AND(AC10>=0,AC10<=4,ISNUMBER(AC10))),IF(AG10<>\"\",AG10,3),\"\")","v":""},{"$f":"IF(OR(AC10=\"A\",AC10=\"B\",AC10=\"C\",AC10=\"D\",AC10=\"P\",AND(AC10>=0,AC10<=4,ISNUMBER(AC10))),IF(AG10<>\"\",AG10,3),\"\")","v":""}]
["MATH",1513,null,null,0,"","",null,null,null,null,null,null,null,null,null,"CHEM",1215,null,0,"","",5,null,null,null,"FDSC",3123,null,0,"",""]
["MATH",1613,null,null,0,"","",null,null,null,null,null,null,null,null,null,"CHEM",1225,null,0,"","",5,null,null,null,"FDSC",3154,null,0,"","",4]
["(H)",null,null,null,0,"","",null,null,null,null,null,null,null,null,null,"MICR",2123,null,0,"","",null,null,null,null,"FDSC",3373,null,0,"",""]
["(H)",null,null,null,0,"","",null,null,null,null,null,null,null,null,null,"MICR",2132,null,{"$f":"IF(W14<>\"\",W14,3)*IF(S14=\"A\",4,IF(S14=\"B\",3,IF(S14=\"C\",2,IF(S14=\"D\",1,IF(AND(S14>=0,S14<=4,ISNUMBER(S14)),S14,0)))))","v":0},{"$f":"IF(OR(S14=\"A\",S14=\"B\",S14=\"C\",S14=\"D\",S14=\"F\",AND(S14>=0,S14<=4,ISNUMBER(S14))),IF(W14<>\"\",W14,3),\"\")","v":""},{"$f":"IF(OR(S14=\"A\",S14=\"B\",S14=\"C\",S14=\"D\",S14=\"P\",AND(S14>=0,S14<=4,ISNUMBER(S14))),IF(W14<>\"\",W14,3),\"\")","v":""},2,null,null,null,"FDSC",4763,null,0,"",""]
["(N)",null,null,null,0,"","",null,null,null,null,null,null,null,null,null,"ENVR",1113,null,0,"","",null,null,null,null,"FDSC",4910,null,0,"","",3]
["BIOL",1114,null,null,0,"","",4,null,null,null,null,null,null,null,null,"AGCM",3103,null,{"$f":"IF(W16<>\"\",W16,3)*IF(S16=\"A\",4,IF(S16=\"B\",3,IF(S16=\"C\",2,IF(S16=\"D\",1,IF(AND(S16>=0,S16<=4,ISNUMBER(S16)),S16,0)))))","v":0},{"$f":"IF(OR(S16=\"A\",S16=\"B\",S16=\"C\",S16=\"D\",S16=\"F\",AND(S16>=0,S16<=4,ISNUMBER(S16))),IF(W16<>\"\",W16,3),\"\")","v":""},{"$f":"IF(OR(S16=\"A\",S16=\"B\",S16=\"C\",S16=\"D\",S16=\"P\",AND(S16>=0,S16<=4,ISNUMBER(S16))),IF(W16<>\"\",W16,3),\"\")","v":""},null,null,null,null,"HORT",3213,null,{"$f":"IF(AG16<>\"\",AG16,3)*IF(AC16=\"A\",4,IF(AC16=\"B\",3,IF(AC16=\"C\",2,IF(AC16=\"D\",1,IF(AND(AC16>=0,AC16<=4,ISNUMBER(AC16)),AC16,0)))))","v":0},{"$f":"IF(OR(AC16=\"A\",AC16=\"B\",AC16=\"C\",AC16=\"D\",AC16=\"F\",AND(AC16>=0,AC16<=4,ISNUMBER(AC16))),IF(AG16<>\"\",AG16,3),\"\")","v":""},{"$f":"IF(OR(AC16=\"A\",AC16=\"B\",AC16=\"C\",AC16=\"D\",AC16=\"P\",AND(AC16>=0,AC16<=4,ISNUMBER(AC16))),IF(AG16<>\"\",AG16,3),\"\")","v":""}]
["AGEC",1113,null,null,0,"","",null,null,null,null,null,null,null,null,null,"SPCH",2713,null,{"$f":"IF(W17<>\"\",W17,3)*IF(S17=\"A\",4,IF(S17=\"B\",3,IF(S17=\"C\",2,IF(S17=\"D\",1,IF(AND(S17>=0,S17<=4,ISNUMBER(S17)),S17,0)))))","v":0},{"$f":"IF(OR(S17=\"A\",S17=\"B\",S17=\"C\",S17=\"D\",S17=\"F\",AND(S17>=0,S17<=4,ISNUMBER(S17))),IF(W17<>\"\",W17,3),\"\")","v":""},{"$f":"IF(OR(S17=\"A\",S17=\"B\",S17=\"C\",S17=\"D\",S17=\"P\",AND(S17>=0,S17<=4,ISNUMBER(S17))),IF(W17<>\"\",W17,3),\"\")","v":""},null,null,null,null,"NSCI",3223,null,{"$f":"IF(AG17<>\"\",AG17,3)*IF(AC17=\"A\",4,IF(AC17=\"B\",3,IF(AC17=\"C\",2,IF(AC17=\"D\",1,IF(AND(AC17>=0,AC17<=4,ISNUMBER(AC17)),AC17,0)))))","v":0},{"$f":"IF(OR(AC17=\"A\",AC17=\"B\",AC17=\"C\",AC17=\"D\",AC17=\"F\",AND(AC17>=0,AC17<=4,ISNUMBER(AC17))),IF(AG17<>\"\",AG17,3),\"\")","v":""},{"$f":"IF(OR(AC17=\"A\",AC17=\"B\",AC17=\"C\",AC17=\"D\",AC17=\"P\",AND(AC17>=0,AC17<=4,ISNUMBER(AC17))),IF(AG17<>\"\",AG17,3),\"\")","v":""}]
["GENED",null,null,null,{"$f":"IF(H18<>\"\",H18,3)*IF(C18=\"A\",4,IF(C18=\"B\",3,IF(C18=\"C\",2,IF(C18=\"D\",1,IF(AND(C18>=0,C18<=4,ISNUMBER(C18)),C18,0)))))","v":0},{"$f":"IF(OR(C18=\"A\",C18=\"B\",C18=\"C\",C18=\"D\",C18=\"F\",AND(C18>=0,C18<=4,ISNUMBER(C18))),IF(H18<>\"\",H18,3),\"\")","v":""},{"$f":"IF(OR(C18=\"A\",C18=\"B\",C18=\"C\",C18=\"D\",C18=\"P\",AND(C18>=0,C18<=4,ISNUMBER(C18))),IF(H18<>\"\",H18,3),\"\")","v":""},null,null,null,null,null,null,null,null,null,null,null,null,null,null,null,null,null,null,null,null,null,null,0,"",""]
["GENED",null,null,null,0,"","",null,null,null,null,null,null,null,null,null,null,null,null,null,null,null,null,"Graduate Semester"]
["(I)",null,null,null,0,"","",null,null,null,null,null,null,null,null,null,"Credits and GPAs as of this date:"]
["(D)",null,null,null,0,"","",null,null,null,null,null,null,null,null,null,{"$f":"SUM(G7:G24,V7:V17,AF8:AF19,AF26:AF29,AF38:AF42,G29:G44,O29:O44)","v":0},null,"Hours for graduation",null,null,null,null,null,null,null,"Core Courses: 12 Hours"]
[null,null,null,null,0,"","",null,null,null,null,null,null,null,null,null,{"$f":"IF(SUM(F7:F24,U7:U17,AE8:AE19,AE26:AE29,AE38:AE42,F29:F44,N29:N44)=0,\"N/A\",ROUNDDOWN(SUM(E7:E24,T7:T17,AD8:AD19,AD26:AD29,AD38:AD42,E29:E44,M29:M44)/SUM(F7:F24,U7:U17,AE8:AE19,AE26:AE29,AE38:AE42,F29:F44,N29:N44),2))","v":"N/A"},null,"Grad/Ret GPA"]
[null,null,null,null,0,"","",null,null,null,null,null,null,null,null,null,{"$f":"SUMIF(B7:B24,\">2999\",G7:G24)+SUMIF(B29:B44,\">2999\",G29:G44)+SUMIF(J29:J44,\">2999\",O29:O44)+SUMIF(R7:R16,\">2999\",V7:V16)+SUMIF(AB8:AB23,\">2999\",AF8:AF23)+SUMIF(AB26:AB29,\">2999\",AF26:AF29)+SUMIF(AB38:AB42,\">2999\",AF38:AF42)","v":0},null,"UPPER DIV HOURS (40)"]
[null,null,null,null,0,"","",null,null,null,null,null,null,null,null,null,{"$f":"SUMIF(B7:B24,\">2999\",E7:E24)+SUMIF(B29:B44,\">2999\",E29:E44)+SUMIF(J29:J44,\">2999\",M29:M44)+SUMIF(R7:R17,\">2999\",T7:T17)+SUMIF(AB8:AB23,\">2999\",AD8:AD23)+SUMIF(AB26:AB29,\">2999\",AD26:AD29)+SUMIF(AB38:AB42,\">2999\",AD38:AD42)","v":0},null,"Upper div points (100)"]
[null,null,null,null,null,null,null,null,null,null,null,null,null,null,null,null,{"$f":"IF(SUM(Q24)=0,\"N/A\",Q24/Q23)","v":"N/A"},null,"Upper div GPA",null,null,null,null,null,null,null,null,null,null,0,"",""]
["Elective Hours:",null,null,null,null,null,null,null,null,null,null,null,null,null,null,null,null,null,"60 Senior College Hours",null,null,null,null,null,null,null,null,null,null,{"$f":"IF(AG26<>\"\",AG26,3)*IF(AC26=\"A\",4,IF(AC26=\"B\",3,IF(AC26=\"C\",2,IF(AC26=\"D\",1,IF(AND(AC26>=0,AC26<=4,ISNUMBER(AC26)),AC26,0)))))","v":0},{"$f":"IF(OR(AC26=\"A\",AC26=\"B\",AC26=\"C\",AC26=\"D\",AC26=\"F\",AND(AC26>=0,AC26<=4,ISNUMBER(AC26))),IF(AG26<>\"\",AG26,3),\"\")","v":""},{"$f":"IF(OR(AC26=\"A\",AC26=\"B\",AC26=\"C\",AC26=\"D\",AC26=\"P\",AND(AC26>=0,AC26<=4,ISNUMBER(AC26))),IF(AG26<>\"\",AG26,3),\"\")","v":""}]
["Non-Ag",null,null,null,null,null,null,null,"Ag Elect",null,null,null,null,null,null,null,120,null,"HOURS NEEDED",null,null,null,null,null,null,null,null,null,null,0,"",""]
["Course",null,"Grd","Cr",null,null,null,null,"Course",null,"Grd","Cr",null,null,null,null,"NOTES:",null,null,null,null,null,null,null,null,null,null,null,null,{"$f":"IF(AG28<>\"\",AG28,3)*IF(AC28=\"A\",4,IF(AC28=\"B\",3,IF(AC28=\"C\",2,IF(AC28=\"D\",1,IF(AND(AC28>=0,AC28<=4,ISNUMBER(AC28)),AC28,0)))))","v":0},{"$f":"IF(OR(AC28=\"A\",AC28=\"B\",AC28=\"C\",AC28=\"D\",AC28=\"F\",AND(AC28>=0,AC28<=4,ISNUMBER(AC28))),IF(AG28<>\"\",AG28,3),\"\")","v":""},{"$f":"IF(OR(AC28=\"A\",AC28=\"B\",AC28=\"C\",AC28=\"D\",AC28=\"P\",AND(AC28>=0,AC28<=4,ISNUMBER(AC28))),IF(AG28<>\"\",AG28,3),\"\")","v":""}]
[null,null,null,null,{"$f":"D29*IF(OR(C29=\"A\",C29=\"RA\"),4,IF(OR(C29=\"B\",C29=\"RB\"),3,IF(OR(C29=\"C\",C29=\"RC\"),2,IF(OR(C29=\"D\",C29=\"RD\"),1,IF(AND(C29>=0,C29<=4,ISNUMBER(C29)),C29,0)))))","v":0},{"$f":"IF(OR(C29=\"\",D29=\"\"),\"\",IF(OR(C29=\"A\",C29=\"B\",C29=\"C\",C29=\"D\",C29=\"F\",C29=\"RA\",C29=\"RB\",C29=\"RC\",C29=\"RD\",C29=\"RF\",AND(C29>=0,C29<=4,ISNUMBER(C29))),D29,\"\"))","v":""},{"$f":"IF(OR(C29=\"\",D29=\"\"),\"\",IF(OR(C29=\"A\",C29=\"B\",C29=\"C\",C29=\"D\",C29=\"P\",AND(C29>=0,C29<=4,ISNUMBER(C29))),D29,\"\"))","v":""},null,null,null,null,null,"GPts","GPACr","GrCr",null,null,null,null,null,null,null,null,null,null,null,null,null,null,0,"",""]
[null,null,null,null,0,"","",null,null,null,null,null,{"$f":"L29*IF(OR(K29=\"A\",K29=\"RA\"),4,IF(OR(K29=\"B\",K29=\"RB\"),3,IF(OR(K29=\"C\",K29=\"RC\"),2,IF(OR(K29=\"D\",K29=\"RD\"),1,IF(AND(K29>=0,K29=4,ISNUMBER(K29)),K29,0)))))","v":0},{"$f":"IF(OR(K29=\"\",L29=\"\"),\"\",IF(OR(K29=\"A\",K29=\"B\",K29=\"C\",K29=\"D\",K29=\"F\",K29=\"RA\",K29=\"RB\",K29=\"RC\",K29=\"RD\",K29=\"RF\",AND(K29>=0,K29<=4,ISNUMBER(K29))),L29,\"\"))","v":""},{"$f":"IF(OR(K29=\"\",L29=\"\"),\"\",IF(OR(K29=\"A\",K29=\"B\",K29=\"C\",K29=\"D\",K29=\"P\",AND(K29>=0,K29<=4,ISNUMBER(K29))),L29,\"\"))","v":""}]
[null,null,null,null,0,"","",null,null,null,null,null,0,"","",null,null,null,null,null,null,null,null,null,null,null,"Related Courses: 9 Hours"]
[null,null,null,null,0,"","",null,null,null,null,null,0,"",""]
[null,null,null,null,0,"","",null,null,null,null,null,0,"","",null,null,null,null,null,null,null,null,null,null,null,null,null,null,{"$f":"IF(AG33<>\"\",AG33,3)*IF(AC33=\"A\",4,IF(AC33=\"B\",3,IF(AC33=\"C\",2,IF(AC33=\"D\",1,IF(AND(AC33>=0,AC33<=4,ISNUMBER(AC33)),AC33,0)))))","v":0},{"$f":"IF(OR(AC33=\"A\",AC33=\"B\",AC33=\"C\",AC33=\"D\",AC33=\"F\",AND(AC33>=0,AC33<=4,ISNUMBER(AC33))),IF(AG33<>\"\",AG33,3),\"\")","v":""},{"$f":"IF(OR(AC33=\"A\",AC33=\"B\",AC33=\"C\",AC33=\"D\",AC33=\"P\",AND(AC33>=0,AC33<=4,ISNUMBER(AC33))),IF(AG33<>\"\",AG33,3),\"\")","v":""}]
[null,null,null,null,0,"","",null,null,null,null,null,0,"","",null,null,null,null,null,null,null,null,null,null,null,null,null,null,0,"",""]
[null,null,null,null,0,"","",null,null,null,null,null,0,"","",null,null,null,null,null,null,null,null,null,null,null,null,null,null,0,"",""]
[null,null,null,null,0,"","",null,null,null,null,null,0,"","",null,null,null,null,null,null,null,null,null,null,null,null,null,null,0,"",""]
[null,null,null,null,0,"","",null,null,null,null,null,0,"",""]
[null,null,null,null,0,"","",null,null,null,null,null,0,"","",null,null,null,null,null,null,null,null,null,null,null,null,null,null,0,"",""]
[null,null,null,null,0,"","",null,null,null,null,null,0,"","",null,null,null,null,null,null,null,null,null,null,null,null,null,null,0,"",""]
[null,null,null,null,0,"","",null,null,null,null,null,0,"","",null,null,null,null,null,null,null,null,null,null,null,null,null,null,0,"",""]
[null,null,null,null,0,"","",null,null,null,null,null,0,"",""]
[null,null,null,null,0,"","",null,null,null,null,null,0,"","",null,null,null,null,null,null,null,null,null,null,null,null,null,null,0,"",""]
[null,null,null,null,0,"","",null,null,null,null,null,0,"",""]
[null,null,null,null,0,"","",null,null,null,null,null,0,"",""]
[null,null,null,null,null,null,null,null,null,null,null,null,0,"",""]

{"sheet":"GRAD CHECK","index":1,"n_rows":45,"n_cols":6,"rows_kept":45,"cut":false,"hidden":false,"merged":[[44,1,44,8],[24,1,24,5],[27,1,27,2],[28,1,28,3],[28,4,28,5],[38,1,38,8],[41,1,41,8],[20,2,20,3],[0,0,0,5],[1,0,1,5],[2,0,2,5],[6,1,6,3],[6,4,6,5],[9,1,9,3],[12,1,12,3],[12,4,12,6],[13,1,13,2],[15,1,15,2],[18,1,18,2]]}
["GRADUATION CHECK"]
["By"]
["COLLEGE OF AGRICULTURAL SCIENCES AND NATURAL RESOURCES"]
[]
[]
["Name:",null,null,null,"Date:"]
[null,{"$f":"'FDSC-IND'!B1","v":"STUDENT, NAME"}]
[]
["ID:",null,null,null,"Graduation Date:"]
[null,{"$f":"'FDSC-IND'!S1","v":"999-99-999"},null,null,{"$f":"'FDSC-IND'!Q19","v":"00:00:00"}]
[]
["EMAIL:",null,null,null,"Major:"]
[null,null,null,null,{"$f":"'FDSC-IND'!Z1","v":"FDSC-IND"}]
[]
["Advisor:",null,null,null,"Grad/Ret GPA:"]
[null,{"$f":"'FDSC-IND'!AG1","v":"AdvisorName"},null,null,{"$f":"'FDSC-IND'!Q22","v":"N/A"}]
[]
[null,"REMINDER:",null,null,"Upper Division GPA:"]
[null,null,null,null,{"$f":"'FDSC-IND'!Q25","v":"N/A"}]
["Total Hours to Date:",null,{"$f":"'FDSC-IND'!Q21","v":0},null,"Total  Upper Div Hours to Date:",{"$f":"'FDSC-IND'!Q23","v":0}]
["Current Enrollment:",null,null,null,"Total  Upper Div Points to Date:",{"$f":"'FDSC-IND'!Q24","v":0}]
[]
["Deficiencies/Remaining Hours:"]
[]
[]
[]
["Hours Needed from a 4 yr. School: ",null,null,null,"Upper Div. hours & points needed: "]
[]
[]
[]
["Number of hours needed to complete requirements:"]
[null,null,null,null,"(hrs. = current courses + deficiencies)"]
[]
[]
[]
[]
[]
["APPROVED BY:"]
[null,"________________________________________________________________________ Advisor/Date Signed"]
[]
[]
[null,"_______________________________________________________________ Department Head/Date Signed"]
[]
[]
[null,"____________________________________________________________________ Assoc. Dean/Date Signed"]

{"sheet":"ADVISOR'S NOTES","index":2,"n_rows":1,"n_cols":2,"rows_kept":1,"cut":false,"hidden":false,"merged":[]}
["DATE","NOTES"]

{"sheet":"CourseLeaf Degree Sheet","index":3,"n_rows":0,"n_cols":0,"rows_kept":0,"cut":false,"hidden":false,"merged":[]}