{"text_format":"1","workbook":"xlsx","n_sheets":4,"sheets":["ENTO-PVPM","GRAD CHECK","ADVISOR'S NOTES","CourseLeaf Degree Sheet"],"not_rendered":{"charts":0,"images":2,"macros":0,"external_links":0,"defined_names":3,"comments":1,"pivot_tables":0},"unopened":[],"bounds":{"document_bytes":16777216,"sheet_cells":100000,"rows_first":2000,"rows_last":500,"rows_between":2000,"halvings":0,"cell_chars":16384,"cell_head_chars":4096},"cells_cut":0,"cells_raw":0,"read":"whole","date_system":"1900"}

{"sheet":"ENTO-PVPM","index":0,"n_rows":42,"n_cols":35,"rows_kept":42,"cut":false,"hidden":false,"merged":[[30,33,30,34],[34,33,34,34],[35,33,35,34],[9,23,9,24],[12,23,12,24],[18,33,18,34],[17,33,17,34],[11,23,11,24],[19,33,19,34],[21,33,21,34],[16,16,16,22],[29,26,29,34],[16,33,16,34],[22,33,22,34],[22,16,22,17],[18,16,18,17],[24,16,24,17],[23,16,23,17],[19,16,19,17],[20,33,20,34],[21,16,21,17],[20,16,20,17],[37,33,37,34],[31,33,31,34],[36,33,36,34],[32,33,32,34],[33,33,33,34],[21,2,21,3],[21,8,21,11],[18,2,18,3],[18,8,18,11],[19,2,19,3],[19,8,19,11],[20,2,20,3],[20,8,20,11],[0,1,0,16],[12,33,12,34],[11,33,11,34],[10,33,10,34],[0,18,0,24],[0,32,0,34],[8,23,8,24],[7,33,7,34],[8,2,8,3],[8,8,8,11],[7,2,7,3],[7,8,7,11],[10,23,10,24],[6,2,6,3],[6,8,6,11],[6,23,6,24],[17,8,17,11],[7,23,7,24],[10,8,10,11],[14,2,14,3],[14,8,14,11],[13,23,13,24],[9,2,9,3],[9,8,9,11],[15,2,15,3],[15,8,15,11],[11,2,11,3],[11,8,11,11],[12,2,12,3],[16,2,16,3],[16,8,16,11],[17,2,17,3],[8,33,8,34],[12,8,12,11],[13,2,13,3],[13,8,13,11],[10,2,10,3],[9,33,9,34]]}
["NAME:","Name, Student's",null,null,null,null,null,null,null,null,null,null,null,null,null,null,null,"ID:","999-99-999",null,null,null,null,null,null,"ENTO-PVPM",null,null,"ADV:",null,null,null,"AdvisorName"]
[]
["General Eduction Requirements: 40 Hours",null,null,null,null,null,null,null,null,null,null,null,null,null,null,null,"College/Dept. Requirements: 24 Hours",null,null,null,null,null,null,null,null,null,"Major Requirements: 56 Hours",null,null,null,null,null,null,null,"2018-19"]
[]
["Course",null,"Grade",null,"GPts","GPACr","GrCr",null,null,"Deviation",null,null,null,null,null,null,"Course",null,"Grade","GPts","GPACr","GrCr",null,"Deviation",null,null,"Course",null,"Grade","GPts","GPACr","GrCr",null,"Deviation"]
[]
["ENGL ",1113,null,null,{"$f":"IF(H7<>\"\",H7,3)*IF(C7=\"A\",4,IF(C7=\"B\",3,IF(C7=\"C\",2,IF(C7=\"D\",1,IF(AND(C7>=0,C7<=4,ISNUMBER(C7)),C7,0)))))","v":0},{"$f":"IF(OR(C7=\"A\",C7=\"B\",C7=\"C\",C7=\"D\",C7=\"F\",AND(C7>=0,C7<=4,ISNUMBER(C7))),IF(H7<>\"\",H7,3),\"\")","v":""},{"$f":"IF(OR(C7=\"A\",C7=\"B\",C7=\"C\",C7=\"D\",C7=\"P\",AND(C7>=0,C7<=4,ISNUMBER(C7))),IF(H7<>\"\",H7,3),\"\")","v":""},null,null,null,null,null,null,null,null,null,"AG",1011,null,{"$f":"IF(W7<>\"\",W7,3)*IF(S7=\"A\",4,IF(S7=\"B\",3,IF(S7=\"C\",2,IF(S7=\"D\",1,IF(AND(S7>=0,S7<=4,ISNUMBER(S7)),S7,0)))))","v":0},{"$f":"IF(OR(S7=\"A\",S7=\"B\",S7=\"C\",S7=\"D\",S7=\"F\",AND(S7>=0,S7<=4,ISNUMBER(S7))),IF(W7<>\"\",W7,3),\"\")","v":""},{"$f":"IF(OR(S7=\"A\",S7=\"B\",S7=\"C\",S7=\"D\",S7=\"P\",AND(S7>=0,S7<=4,ISNUMBER(S7))),IF(W7<>\"\",W7,3),\"\")","v":""},1,null,null,null,"Core Ento Courses: 18 hours"]
["ENGL ",1213,null,null,0,"","",null,null,null,null,null,null,null,null,null,"AGEC",1113,null,0,"",""]
["HIST",1103,null,null,0,"","",null,null,null,null,null,null,null,null,null,"PLNT",1213,null,0,"","",null,null,null,null,"ENTO",3003,null,{"$f":"IF(AG9<>\"\",AG9,3)*IF(AC9=\"A\",4,IF(AC9=\"B\",3,IF(AC9=\"C\",2,IF(AC9=\"D\",1,IF(AND(AC9>=0,AC9<=4,ISNUMBER(AC9)),AC9,0)))))","v":0},{"$f":"IF(OR(AC9=\"A\",AC9=\"B\",AC9=\"C\",AC9=\"D\",AC9=\"F\",AND(AC9>=0,AC9<=4,ISNUMBER(AC9))),IF(AG9<>\"\",AG9,3),\"\")","v":""},{"$f":"IF(OR(AC9=\"A\",AC9=\"B\",AC9=\"C\",AC9=\"D\",AC9=\"P\",AND(AC9>=0,AC9<=4,ISNUMBER(AC9))),IF(AG9<>\"\",AG9,3),\"\")","v":""}]
["POLS",1113,null,null,0,"","",null,null,null,null,null,null,null,null,null,"ENTO",2993,null,0,"","",null,null,null,null,"ENTO",3044,null,{"$f":"IF(AG10<>\"\",AG10,3)*IF(AC10=\"A\",4,IF(AC10=\"B\",3,IF(AC10=\"C\",2,IF(AC10=\"D\",1,IF(AND(AC10>=0,AC10<=4,ISNUMBER(AC10)),AC10,0)))))","v":0},{"$f":"IF(OR(AC10=\"A\",AC10=\"B\",AC10=\"C\",AC10=\"D\",AC10=\"F\",AND(AC10>=0,AC10<=4,ISNUMBER(AC10))),IF(AG10<>\"\",AG10,3),\"\")","v":""},{"$f":"IF(OR(AC10=\"A\",AC10=\"B\",AC10=\"C\",AC10=\"D\",AC10=\"P\",AND(AC10>=0,AC10<=4,ISNUMBER(AC10))),IF(AG10<>\"\",AG10,3),\"\")","v":""},4]
["MATH",1513,null,null,{"$f":"IF(H11<>\"\",H11,3)*IF(C11=\"A\",4,IF(C11=\"B\",3,IF(C11=\"C\",2,IF(C11=\"D\",1,IF(AND(C11>=0,C11<=4,ISNUMBER(C11)),C11,0)))))","v":0},{"$f":"IF(OR(C11=\"A\",C11=\"B\",C11=\"C\",C11=\"D\",C11=\"F\",AND(C11>=0,C11<=4,ISNUMBER(C11))),IF(H11<>\"\",H11,3),\"\")","v":""},{"$f":"IF(OR(C11=\"A\",C11=\"B\",C11=\"C\",C11=\"D\",C11=\"P\",AND(C11>=0,C11<=4,ISNUMBER(C11))),IF(H11<>\"\",H11,3),\"\")","v":""},null,null,null,null,null,null,null,null,null,"STAT",2013,null,0,"","",null,null,null,null,"ENTO",4464,null,0,"","",4]
["(H)",null,null,null,0,"","",null,null,null,null,null,null,null,null,null,"PHYS",1114,null,0,"","",4,null,null,null,"ENTO",4854,null,{"$f":"IF(AG12<>\"\",AG12,3)*IF(AC12=\"A\",4,IF(AC12=\"B\",3,IF(AC12=\"C\",2,IF(AC12=\"D\",1,IF(AND(AC12>=0,AC12<=4,ISNUMBER(AC12)),AC12,0)))))","v":0},{"$f":"IF(OR(AC12=\"A\",AC12=\"B\",AC12=\"C\",AC12=\"D\",AC12=\"F\",AND(AC12>=0,AC12<=4,ISNUMBER(AC12))),IF(AG12<>\"\",AG12,3),\"\")","v":""},{"$f":"IF(OR(AC12=\"A\",AC12=\"B\",AC12=\"C\",AC12=\"D\",AC12=\"P\",AND(AC12>=0,AC12<=4,ISNUMBER(AC12))),IF(AG12<>\"\",AG12,3),\"\")","v":""},4]
["(H)",null,null,null,0,"","",null,null,null,null,null,null,null,null,null,"PHYS",1214,null,0,"","",4,null,null,null,"ENTO",4800,null,0,"",""]
["BIOL",1114,null,null,0,"","",4,null,null,null,null,null,null,null,null,"AGCM",3103,null,0,"",""]
["CHEM",1314,null,null,0,"","",4,null,null,null,null,null,null,null,null,null,null,null,null,null,null,null,null,null,null,"Additional Core: 20 Hours"]
["CHEM",1515,null,null,{"$f":"IF(H16<>\"\",H16,3)*IF(C16=\"A\",4,IF(C16=\"B\",3,IF(C16=\"C\",2,IF(C16=\"D\",1,IF(AND(C16>=0,C16<=4,ISNUMBER(C16)),C16,0)))))","v":0},{"$f":"IF(OR(C16=\"A\",C16=\"B\",C16=\"C\",C16=\"D\",C16=\"F\",AND(C16>=0,C16<=4,ISNUMBER(C16))),IF(H16<>\"\",H16,3),\"\")","v":""},{"$f":"IF(OR(C16=\"A\",C16=\"B\",C16=\"C\",C16=\"D\",C16=\"P\",AND(C16>=0,C16<=4,ISNUMBER(C16))),IF(H16<>\"\",H16,3),\"\")","v":""},5]
["SPCH",2713,null,null,0,"","",null,null,null,null,null,null,null,null,null,null,null,null,null,null,null,null,"Graduate Semester",null,null,"MICR",2123,null,{"$f":"IF(AG17<>\"\",AG17,3)*IF(AC17=\"A\",4,IF(AC17=\"B\",3,IF(AC17=\"C\",2,IF(AC17=\"D\",1,IF(AND(AC17>=0,AC17<=4,ISNUMBER(AC17)),AC17,0)))))","v":0},{"$f":"IF(OR(AC17=\"A\",AC17=\"B\",AC17=\"C\",AC17=\"D\",AC17=\"F\",AND(AC17>=0,AC17<=4,ISNUMBER(AC17))),IF(AG17<>\"\",AG17,3),\"\")","v":""},{"$f":"IF(OR(AC17=\"A\",AC17=\"B\",AC17=\"C\",AC17=\"D\",AC17=\"P\",AND(AC17>=0,AC17<=4,ISNUMBER(AC17))),IF(AG17<>\"\",AG17,3),\"\")","v":""}]
["GENED",null,null,null,0,"","",null,null,null,null,null,null,null,null,null,"Credits and GPAs as of this date:",null,null,null,null,null,null,null,null,null,"MICR",2132,null,0,"","",2]
["(D)",null,null,null,0,"","",null,null,null,null,null,null,null,null,null,{"$f":"SUM(G7:G22,V7:V14,AF9:AF13,AF17:AF22,AF32:AF38, G26:G41,O26:O41)","v":0},null,"Hours for graduation",null,null,null,null,null,null,null,"ANSI",3423,null,0,"",""]
["(I)",null,null,null,0,"","",null,null,null,null,null,null,null,null,null,{"$f":"IF(SUM(F7:F22,U7:U14,AE8:AE13, AE17:AE24, AE32:AE38,F26:F41,N26:N41)=0,\"N/A\",ROUNDDOWN(SUM(E7:E22,T7:T14,AD8:AD13, AD17:AD24,AD32:AD38,E26:E41,M26:M41)/SUM(F7:F22,U7:U14,AE8:AE13, AE17:AE24,AE32:AE38,F26:F41,N26:N41),2))","v":"N/A"},null,"Grad/Ret GPA",null,null,null,null,null,null,null,"BIOL",1604,null,0,"","",4]
[null,null,null,null,0,"","",null,null,null,null,null,null,null,null,null,{"$f":"SUMIF(B7:B22,\">2999\",F7:F22)+SUMIF(B26:B41,\">2999\",F26:F41)+SUMIF(J26:J41,\">2999\",N26:N41)+SUMIF(R7:R14,\">2999\",U7:U14)+SUMIF(AB8:AB13,\">2999\",AE8:AE13)+SUMIF(AB17:AB24,\">2999\",AE17:AE24)+SUMIF(AB32:AB38,\">2999\",AE32:AE38)","v":0},null,"UPPER DIV HOURS (40)",null,null,null,null,null,null,null,"BIOC",3653,null,{"$f":"IF(AG21<>\"\",AG21,3)*IF(AC21=\"A\",4,IF(AC21=\"B\",3,IF(AC21=\"C\",2,IF(AC21=\"D\",1,IF(AND(AC21>=0,AC21<=4,ISNUMBER(AC21)),AC21,0)))))","v":0},{"$f":"IF(OR(AC21=\"A\",AC21=\"B\",AC21=\"C\",AC21=\"D\",AC21=\"F\",AND(AC21>=0,AC21<=4,ISNUMBER(AC21))),IF(AG21<>\"\",AG21,3),\"\")","v":""},{"$f":"IF(OR(AC21=\"A\",AC21=\"B\",AC21=\"C\",AC21=\"D\",AC21=\"P\",AND(AC21>=0,AC21<=4,ISNUMBER(AC21))),IF(AG21<>\"\",AG21,3),\"\")","v":""}]
[null,null,null,null,0,"","",null,null,null,null,null,null,null,null,null,{"$f":"SUMIF(B7:B22,\">2999\",E7:E22)+SUMIF(B26:B41,\">2999\",E26:E41)+SUMIF(J26:J41,\">2999\",M26:O41)+SUMIF(R7:R14,\">2999\",T7:T14)+SUMIF(AB8:AB13,\">2999\",AD8:AD13)+SUMIF(AB32:AB38,\">2999\",AD32:AD38)+SUMIF(AB17:AB24,\">2999\",AD17:AD24)","v":0},null,"Upper div points (100)",null,null,null,null,null,null,null,"CHEM",3015,null,{"$f":"IF(AG22<>\"\",AG22,3)*IF(AC22=\"A\",4,IF(AC22=\"B\",3,IF(AC22=\"C\",2,IF(AC22=\"D\",1,IF(AND(AC22>=0,AC22<=4,ISNUMBER(AC22)),AC22,0)))))","v":0},{"$f":"IF(OR(AC22=\"A\",AC22=\"B\",AC22=\"C\",AC22=\"D\",AC22=\"F\",AND(AC22>=0,AC22<=4,ISNUMBER(AC22))),IF(AG22<>\"\",AG22,3),\"\")","v":""},{"$f":"IF(OR(AC22=\"A\",AC22=\"B\",AC22=\"C\",AC22=\"D\",AC22=\"P\",AND(AC22>=0,AC22<=4,ISNUMBER(AC22))),IF(AG22<>\"\",AG22,3),\"\")","v":""},5]
["General Elective Hours:",null,null,null,null,null,null,null,null,null,null,null,null,null,null,null,{"$f":"IF(SUM(Q22)=0,\"N/A\",Q22/Q21)","v":"N/A"},null,"Upper div GPA"]
["Non-Ag",null,null,null,null,null,null,null,"Ag Elect ",null,null,null,null,null,null,null,null,null,"60 Senior College Hours"]
["Course",null,"Grd","Cr",null,null,null,null,"Course",null,"Grd","Cr",null,null,null,null,120,null,"HOURS NEEDED"]
[null,null,null,null,{"$f":"D26*IF(OR(C26=\"A\",C26=\"RA\"),4,IF(OR(C26=\"B\",C26=\"RB\"),3,IF(OR(C26=\"C\",C26=\"RC\"),2,IF(OR(C26=\"D\",C26=\"RD\"),1,IF(AND(C26>=0,C26<=4,ISNUMBER(C26)),C26,0)))))","v":0},{"$f":"IF(OR(C26=\"\",D26=\"\"),\"\",IF(OR(C26=\"A\",C26=\"B\",C26=\"C\",C26=\"D\",C26=\"F\",C26=\"RA\",C26=\"RB\",C26=\"RC\",C26=\"RD\",C26=\"RF\",AND(C26>=0,C26<=4,ISNUMBER(C26))),D26,\"\"))","v":""},{"$f":"IF(OR(C26=\"\",D26=\"\"),\"\",IF(OR(C26=\"A\",C26=\"B\",C26=\"C\",C26=\"D\",C26=\"P\",AND(C26>=0,C26<=4,ISNUMBER(C26))),D26,\"\"))","v":""}]
[null,null,null,null,0,"","",null,null,null,null,null,"GPts","GPACr","GrCr",null,"NOTES:"]
[null,null,null,null,0,"","",null,null,null,null,null,{"$f":"L26*IF(OR(K26=\"A\",K26=\"RA\"),4,IF(OR(K26=\"B\",K26=\"RB\"),3,IF(OR(K26=\"C\",K26=\"RC\"),2,IF(OR(K26=\"D\",K26=\"RD\"),1,IF(AND(K26>=0,K26=4,ISNUMBER(K26)),K26,0)))))","v":0},{"$f":"IF(OR(K26=\"\",L26=\"\"),\"\",IF(OR(K26=\"A\",K26=\"B\",K26=\"C\",K26=\"D\",K26=\"F\",K26=\"RA\",K26=\"RB\",K26=\"RC\",K26=\"RD\",K26=\"RF\",AND(K26>=0,K26<=4,ISNUMBER(K26))),L26,\"\"))","v":""},{"$f":"IF(OR(K26=\"\",L26=\"\"),\"\",IF(OR(K26=\"A\",K26=\"B\",K26=\"C\",K26=\"D\",K26=\"P\",AND(K26>=0,K26<=4,ISNUMBER(K26))),L26,\"\"))","v":""}]
[null,null,null,null,0,"","",null,null,null,null,null,0,"",""]
[null,null,null,null,0,"","",null,null,null,null,null,0,"","",null,null,null,null,null,null,null,null,null,null,null,"Related courses: 18 hours from:  ALT 1 or 2              "]
[null,null,null,null,0,"","",null,null,null,null,null,0,"",""]
[null,null,null,null,0,"","",null,null,null,null,null,0,"","",null,null,null,null,null,null,null,null,null,null,null,null,null,null,{"$f":"IF(AG32<>\"\",AG32,3)*IF(AC32=\"A\",4,IF(AC32=\"B\",3,IF(AC32=\"C\",2,IF(AC32=\"D\",1,IF(AND(AC32>=0,AC32<=4,ISNUMBER(AC32)),AC32,0)))))","v":0},{"$f":"IF(OR(AC32=\"A\",AC32=\"B\",AC32=\"C\",AC32=\"D\",AC32=\"F\",AND(AC32>=0,AC32<=4,ISNUMBER(AC32))),IF(AG32<>\"\",AG32,3),\"\")","v":""},{"$f":"IF(OR(AC32=\"A\",AC32=\"B\",AC32=\"C\",AC32=\"D\",AC32=\"P\",AND(AC32>=0,AC32<=4,ISNUMBER(AC32))),IF(AG32<>\"\",AG32,3),\"\")","v":""}]
[null,null,null,null,0,"","",null,null,null,null,null,0,"","",null,null,null,null,null,null,null,null,null,null,null,null,null,null,0,"",""]
[null,null,null,null,0,"","",null,null,null,null,null,0,"","",null,null,null,null,null,null,null,null,null,null,null,null,null,null,{"$f":"IF(AG34<>\"\",AG34,3)*IF(AC34=\"A\",4,IF(AC34=\"B\",3,IF(AC34=\"C\",2,IF(AC34=\"D\",1,IF(AND(AC34>=0,AC34<=4,ISNUMBER(AC34)),AC34,0)))))","v":0},{"$f":"IF(OR(AC34=\"A\",AC34=\"B\",AC34=\"C\",AC34=\"D\",AC34=\"F\",AND(AC34>=0,AC34<=4,ISNUMBER(AC34))),IF(AG34<>\"\",AG34,3),\"\")","v":""},{"$f":"IF(OR(AC34=\"A\",AC34=\"B\",AC34=\"C\",AC34=\"D\",AC34=\"P\",AND(AC34>=0,AC34<=4,ISNUMBER(AC34))),IF(AG34<>\"\",AG34,3),\"\")","v":""}]
[null,null,null,null,0,"","",null,null,null,null,null,0,"","",null,null,null,null,null,null,null,null,null,null,null,null,null,null,0,"",""]
[null,null,null,null,0,"","",null,null,null,null,null,0,"","",null,null,null,null,null,null,null,null,null,null,null,null,null,null,0,"",""]
[null,null,null,null,0,"","",null,null,null,null,null,0,"","",null,null,null,null,null,null,null,null,null,null,null,null,null,null,0,"",""]
[null,null,null,null,0,"","",null,null,null,null,null,0,"","",null,null,null,null,null,null,null,null,null,null,null,null,null,null,0,"",""]
[null,null,null,null,0,"","",null,null,null,null,null,0,"",""]
[null,null,null,null,0,"","",null,null,null,null,null,0,"",""]
[null,null,null,null,0,"","",null,null,null,null,null,0,"",""]
[null,null,null,null,null,null,null,null,null,null,null,null,0,"",""]

{"sheet":"GRAD CHECK","index":1,"n_rows":45,"n_cols":6,"rows_kept":45,"cut":false,"hidden":false,"merged":[[20,2,20,3],[0,0,0,5],[1,0,1,5],[2,0,2,5],[6,1,6,3],[6,4,6,5],[9,1,9,3],[12,1,12,3],[12,4,12,6],[13,1,13,2],[15,1,15,2],[18,1,18,2],[44,1,44,8],[24,1,24,5],[27,1,27,2],[28,1,28,3],[28,4,28,5],[38,1,38,8],[41,1,41,8]]}
["GRADUATION CHECK"]
["By"]
["COLLEGE OF AGRICULTURAL SCIENCES AND NATURAL RESOURCES"]
[]
[]
["Name:",null,null,null,"Date:"]
[null,{"$f":"'ENTO-PVPM'!B1","v":"Name, Student's"}]
[]
["ID:",null,null,null,"Graduation Date:"]
[null,{"$f":"'ENTO-PVPM'!S1","v":"999-99-999"}]
[]
["EMAIL:",null,null,null,"Major:"]
[null,null,null,null,{"$f":"'ENTO-PVPM'!Z1","v":"ENTO-PVPM"}]
[]
["Advisor:",null,null,null,"Grad/Ret GPA:"]
[null,{"$f":"'ENTO-PVPM'!AG1","v":"AdvisorName"},null,null,{"$f":"'ENTO-PVPM'!Q20","v":"N/A"}]
[]
[null,"REMINDER:",null,null,"Upper Division GPA:"]
[null,null,null,null,{"$f":"'ENTO-PVPM'!Q23","v":"N/A"}]
["Total Hours to Date:",null,{"$f":"'ENTO-PVPM'!Q19","v":0},null,"Total  Upper Div Hours to Date:",{"$f":"'ENTO-PVPM'!Q21","v":0}]
["Current Enrollment:",null,null,null,"Total  Upper Div Points to Date:",{"$f":"'ENTO-PVPM'!Q22","v":0}]
[]
["Deficiencies/Remaining Hours:"]
[]
[]
[]
["Hours Needed from a 4 yr. School: ",null,null,null,"Upper Div. hours & points needed: "]
[]
[]
[]
["Number of hours needed to complete requirements:"]
[null,null,null,null,"(hrs. = current courses + deficiencies)"]
[]
[]
[]
[]
[]
["APPROVED BY:"]
[null,"________________________________________________________________________ Adviser/Date Signed"]
[]
[]
[null,"_______________________________________________________________ Department Head/Date Signed"]
[]
[]
[null,"____________________________________________________________________ Assoc. Dean/Date Signed"]

{"sheet":"ADVISOR'S NOTES","index":2,"n_rows":1,"n_cols":2,"rows_kept":1,"cut":false,"hidden":false,"merged":[]}
["DATE","NOTES"]

{"sheet":"CourseLeaf Degree Sheet","index":3,"n_rows":0,"n_cols":0,"rows_kept":0,"cut":false,"hidden":false,"merged":[]}