{"text_format":"1","workbook":"xlsx","n_sheets":4,"sheets":["ANSI-AGED","GRAD CHECK","ADVISOR'S NOTES","CourseLeaf Degree Sheet"],"not_rendered":{"charts":0,"images":2,"macros":0,"external_links":0,"defined_names":3,"comments":1,"pivot_tables":0},"unopened":[],"bounds":{"document_bytes":16777216,"sheet_cells":100000,"rows_first":2000,"rows_last":500,"rows_between":2000,"halvings":0,"cell_chars":16384,"cell_head_chars":4096},"cells_cut":0,"cells_raw":0,"read":"whole","date_system":"1900"}

{"sheet":"ANSI-AGED","index":0,"n_rows":43,"n_cols":35,"rows_kept":43,"cut":false,"hidden":false,"merged":[[11,33,11,34],[0,18,0,24],[0,32,0,34],[21,33,21,34],[17,33,17,34],[14,33,14,34],[15,33,15,34],[8,33,8,34],[9,33,9,34],[10,33,10,34],[19,23,19,24],[13,33,13,34],[12,33,12,34],[6,2,6,3],[6,8,6,11],[7,23,7,24],[0,1,0,16],[8,23,8,24],[7,2,7,3],[7,8,7,11],[6,23,6,24],[8,2,8,3],[8,8,8,11],[11,2,11,3],[11,8,11,11],[10,2,10,3],[10,8,10,11],[9,2,9,3],[9,8,9,11],[13,2,13,3],[13,8,13,11],[15,2,15,3],[15,8,15,11],[12,2,12,3],[12,8,12,11],[18,2,18,3],[18,8,18,11],[14,2,14,3],[14,8,14,11],[16,33,16,34],[18,23,18,24],[16,2,16,3],[16,8,16,11],[17,2,17,3],[17,8,17,11],[23,33,23,34],[22,33,22,34],[20,2,20,3],[20,8,20,11],[22,16,22,17],[21,2,21,3],[21,8,21,11],[22,0,22,11],[19,2,19,3],[19,8,19,11],[20,16,20,22],[24,16,24,17],[23,16,23,17],[40,33,40,34],[36,33,36,34],[37,33,37,34],[28,16,28,17],[25,16,25,17],[26,16,26,17],[27,16,27,17],[33,33,33,34],[25,33,25,34],[31,33,31,34],[32,33,32,34],[30,33,30,34],[26,33,26,34],[28,33,28,34],[29,33,29,34],[27,33,27,34]]}
["NAME:","Name, Student's",null,null,null,null,null,null,null,null,null,null,null,null,null,null,null,"ID:","999-999-99",null,null,null,null,null,null,"ANSI-AGED",null,null,"ADV:",null,null,null,"ADVISOR"]
[]
["General Education Requirements: 40 Hours",null,null,null,null,null,null,null,null,null,null,null,null,null,null,null,"College/Dept. Requirements: 32 Hours",null,null,null,null,null,null,null,null,null,"Major Requirements: 62 Hours",null,null,null,null,null,null,null,"2018-19"]
[]
["Course",null,"Grade",null,"GPts","GPACr","GrCr",null,null,"Deviation",null,null,null,null,null,null,"Course",null,"Grade","GPts","GPACr","GrCr",null,"Deviation",null,null,"Course",null,"Grade","GPts","GPACr","GrCr",null,"Deviation"]
[]
["ENGL ",1113,null,null,{"$f":"IF(H7<>\"\",H7,3)*IF(C7=\"A\",4,IF(C7=\"B\",3,IF(C7=\"C\",2,IF(C7=\"D\",1,IF(AND(C7>=0,C7<=4,ISNUMBER(C7)),C7,0)))))","v":0},{"$f":"IF(OR(C7=\"A\",C7=\"B\",C7=\"C\",C7=\"D\",C7=\"F\",AND(C7>=0,C7<=4,ISNUMBER(C7))),IF(H7<>\"\",H7,3),\"\")","v":""},{"$f":"IF(OR(C7=\"A\",C7=\"B\",C7=\"C\",C7=\"D\",C7=\"P\",AND(C7>=0,C7<=4,ISNUMBER(C7))),IF(H7<>\"\",H7,3),\"\")","v":""},null,null,null,null,null,null,null,null,null,"AG",1011,null,{"$f":"IF(W7<>\"\",W7,3)*IF(S7=\"A\",4,IF(S7=\"B\",3,IF(S7=\"C\",2,IF(S7=\"D\",1,IF(AND(S7>=0,S7<=4,ISNUMBER(S7)),S7,0)))))","v":0},{"$f":"IF(OR(S7=\"A\",S7=\"B\",S7=\"C\",S7=\"D\",S7=\"F\",AND(S7>=0,S7<=4,ISNUMBER(S7))),IF(W7<>\"\",W7,3),\"\")","v":""},{"$f":"IF(OR(S7=\"A\",S7=\"B\",S7=\"C\",S7=\"D\",S7=\"P\",AND(S7>=0,S7<=4,ISNUMBER(S7))),IF(W7<>\"\",W7,3),\"\")","v":""},1,null,null,null,"Core Courses: 27 Hours"]
["ENGL ",1213,null,null,{"$f":"IF(H8<>\"\",H8,3)*IF(C8=\"A\",4,IF(C8=\"B\",3,IF(C8=\"C\",2,IF(C8=\"D\",1,IF(AND(C8>=0,C8<=4,ISNUMBER(C8)),C8,0)))))","v":0},{"$f":"IF(OR(C8=\"A\",C8=\"B\",C8=\"C\",C8=\"D\",C8=\"F\",AND(C8>=0,C8<=4,ISNUMBER(C8))),IF(H8<>\"\",H8,3),\"\")","v":""},{"$f":"IF(OR(C8=\"A\",C8=\"B\",C8=\"C\",C8=\"D\",C8=\"P\",AND(C8>=0,C8<=4,ISNUMBER(C8))),IF(H8<>\"\",H8,3),\"\")","v":""},null,null,null,null,null,null,null,null,null,"ANSI",2111,null,{"$f":"IF(W8<>\"\",W8,3)*IF(S8=\"A\",4,IF(S8=\"B\",3,IF(S8=\"C\",2,IF(S8=\"D\",1,IF(AND(S8>=0,S8<=4,ISNUMBER(S8)),S8,0)))))","v":0},{"$f":"IF(OR(S8=\"A\",S8=\"B\",S8=\"C\",S8=\"D\",S8=\"F\",AND(S8>=0,S8<=4,ISNUMBER(S8))),IF(W8<>\"\",W8,3),\"\")","v":""},{"$f":"IF(OR(S8=\"A\",S8=\"B\",S8=\"C\",S8=\"D\",S8=\"P\",AND(S8>=0,S8<=4,ISNUMBER(S8))),IF(W8<>\"\",W8,3),\"\")","v":""},1]
["HIST",1103,null,null,0,"","",null,null,null,null,null,null,null,null,null,"ANSI",1124,null,{"$f":"IF(W9<>\"\",W9,3)*IF(S9=\"A\",4,IF(S9=\"B\",3,IF(S9=\"C\",2,IF(S9=\"D\",1,IF(AND(S9>=0,S9<=4,ISNUMBER(S9)),S9,0)))))","v":0},{"$f":"IF(OR(S9=\"A\",S9=\"B\",S9=\"C\",S9=\"D\",S9=\"F\",AND(S9>=0,S9<=4,ISNUMBER(S9))),IF(W9<>\"\",W9,3),\"\")","v":""},{"$f":"IF(OR(S9=\"A\",S9=\"B\",S9=\"C\",S9=\"D\",S9=\"P\",AND(S9>=0,S9<=4,ISNUMBER(S9))),IF(W9<>\"\",W9,3),\"\")","v":""},4,null,null,null,"ANSI",3242,null,{"$f":"IF(AG9<>\"\",AG9,3)*IF(AC9=\"A\",4,IF(AC9=\"B\",3,IF(AC9=\"C\",2,IF(AC9=\"D\",1,IF(AND(AC9>=0,AC9<=4,ISNUMBER(AC9)),AC9,0)))))","v":0},{"$f":"IF(OR(AC9=\"A\",AC9=\"B\",AC9=\"C\",AC9=\"D\",AC9=\"F\",AND(AC9>=0,AC9<=4,ISNUMBER(AC9))),IF(AG9<>\"\",AG9,3),\"\")","v":""},{"$f":"IF(OR(AC9=\"A\",AC9=\"B\",AC9=\"C\",AC9=\"D\",AC9=\"P\",AND(AC9>=0,AC9<=4,ISNUMBER(AC9))),IF(AG9<>\"\",AG9,3),\"\")","v":""},2]
["POLS",1113,null,null,{"$f":"IF(H10<>\"\",H10,3)*IF(C10=\"A\",4,IF(C10=\"B\",3,IF(C10=\"C\",2,IF(C10=\"D\",1,IF(AND(C10>=0,C10<=4,ISNUMBER(C10)),C10,0)))))","v":0},{"$f":"IF(OR(C10=\"A\",C10=\"B\",C10=\"C\",C10=\"D\",C10=\"F\",AND(C10>=0,C10<=4,ISNUMBER(C10))),IF(H10<>\"\",H10,3),\"\")","v":""},{"$f":"IF(OR(C10=\"A\",C10=\"B\",C10=\"C\",C10=\"D\",C10=\"P\",AND(C10>=0,C10<=4,ISNUMBER(C10))),IF(H10<>\"\",H10,3),\"\")","v":""},null,null,null,null,null,null,null,null,null,"ANSI",2112,null,{"$f":"IF(W10<>\"\",W10,3)*IF(S10=\"A\",4,IF(S10=\"B\",3,IF(S10=\"C\",2,IF(S10=\"D\",1,IF(AND(S10>=0,S10<=4,ISNUMBER(S10)),S10,0)))))","v":0},{"$f":"IF(OR(S10=\"A\",S10=\"B\",S10=\"C\",S10=\"D\",S10=\"F\",AND(S10>=0,S10<=4,ISNUMBER(S10))),IF(W10<>\"\",W10,3),\"\")","v":""},{"$f":"IF(OR(S10=\"A\",S10=\"B\",S10=\"C\",S10=\"D\",S10=\"P\",AND(S10>=0,S10<=4,ISNUMBER(S10))),IF(W10<>\"\",W10,3),\"\")","v":""},2,null,null,null,"ANSI",3423,null,0,"",""]
["MATH",1513,null,null,0,"","",null,null,null,null,null,null,null,null,null,"ANSI",2233,null,0,"","",null,null,null,null,"ANSI",3433,null,0,"",""]
["MATH",1613,null,null,0,"","",null,null,null,null,null,null,null,null,null,"HORT",1013,null,0,"","",null,null,null,null,"ANSI",3443,null,{"$f":"IF(AG12<>\"\",AG12,3)*IF(AC12=\"A\",4,IF(AC12=\"B\",3,IF(AC12=\"C\",2,IF(AC12=\"D\",1,IF(AND(AC12>=0,AC12<=4,ISNUMBER(AC12)),AC12,0)))))","v":0},{"$f":"IF(OR(AC12=\"A\",AC12=\"B\",AC12=\"C\",AC12=\"D\",AC12=\"F\",AND(AC12>=0,AC12<=4,ISNUMBER(AC12))),IF(AG12<>\"\",AG12,3),\"\")","v":""},{"$f":"IF(OR(AC12=\"A\",AC12=\"B\",AC12=\"C\",AC12=\"D\",AC12=\"P\",AND(AC12>=0,AC12<=4,ISNUMBER(AC12))),IF(AG12<>\"\",AG12,3),\"\")","v":""}]
["(H)",null,null,null,0,"","",null,null,null,null,null,null,null,null,null,"PLNT",1213,null,0,"","",null,null,null,null,"ANSI",3543,null,0,"",""]
["(H)",null,null,null,0,"","",null,null,null,null,null,null,null,null,null,"AST",3222,null,0,"","",2,null,null,null,"ANSI",3653,null,0,"",""]
["(N)",null,null,null,0,"","",null,null,null,null,null,null,null,null,null,"AST",3011,null,0,"","",1,null,null,null,"ANSI",4863,null,0,"",""]
["BIOL",1114,null,null,0,"","",4,null,null,null,null,null,null,null,null,"AST",3211,null,0,"","",1,null,null,null,"NREM",2013,null,{"$f":"IF(AG16<>\"\",AG16,3)*IF(AC16=\"A\",4,IF(AC16=\"B\",3,IF(AC16=\"C\",2,IF(AC16=\"D\",1,IF(AND(AC16>=0,AC16<=4,ISNUMBER(AC16)),AC16,0)))))","v":0},{"$f":"IF(OR(AC16=\"A\",AC16=\"B\",AC16=\"C\",AC16=\"D\",AC16=\"F\",AND(AC16>=0,AC16<=4,ISNUMBER(AC16))),IF(AG16<>\"\",AG16,3),\"\")","v":""},{"$f":"IF(OR(AC16=\"A\",AC16=\"B\",AC16=\"C\",AC16=\"D\",AC16=\"P\",AND(AC16>=0,AC16<=4,ISNUMBER(AC16))),IF(AG16<>\"\",AG16,3),\"\")","v":""}]
["AGEC",1113,null,null,0,"","",null,null,null,null,null,null,null,null,null,"AST",4101,null,0,"","",1,null,null,null,"SOIL",2124,null,{"$f":"IF(AG17<>\"\",AG17,3)*IF(AC17=\"A\",4,IF(AC17=\"B\",3,IF(AC17=\"C\",2,IF(AC17=\"D\",1,IF(AND(AC17>=0,AC17<=4,ISNUMBER(AC17)),AC17,0)))))","v":0},{"$f":"IF(OR(AC17=\"A\",AC17=\"B\",AC17=\"C\",AC17=\"D\",AC17=\"F\",AND(AC17>=0,AC17<=4,ISNUMBER(AC17))),IF(AG17<>\"\",AG17,3),\"\")","v":""},{"$f":"IF(OR(AC17=\"A\",AC17=\"B\",AC17=\"C\",AC17=\"D\",AC17=\"P\",AND(AC17>=0,AC17<=4,ISNUMBER(AC17))),IF(AG17<>\"\",AG17,3),\"\")","v":""},4]
["GENED",null,null,null,0,"","",null,null,null,null,null,null,null,null,null,"CHEM",1314,null,0,"","",4]
["GENED",null,null,null,0,"","",null,null,null,null,null,null,null,null,null,"AGCM",3103,null,0,"","",null,null,null,null,"Additional Core: 6 hours from "]
["(D)",null,null,null,0,"","",null,null,null,null,null,null,null,null,null,"SPCH",2713,null,{"$f":"IF(W20<>\"\",W20,3)*IF(S20=\"A\",4,IF(S20=\"B\",3,IF(S20=\"C\",2,IF(S20=\"D\",1,IF(AND(S20>=0,S20<=4,ISNUMBER(S20)),S20,0)))))","v":0},{"$f":"IF(OR(S20=\"A\",S20=\"B\",S20=\"C\",S20=\"D\",S20=\"F\",AND(S20>=0,S20<=4,ISNUMBER(S20))),IF(W20<>\"\",W20,3),\"\")","v":""},{"$f":"IF(OR(S20=\"A\",S20=\"B\",S20=\"C\",S20=\"D\",S20=\"P\",AND(S20>=0,S20<=4,ISNUMBER(S20))),IF(W20<>\"\",W20,3),\"\")","v":""}]
["(I)",null,null,null,0,"","",null,null,null,null,null,null,null,null,null,null,null,null,null,null,null,null,"Graduate Semester"]
[null,null,null,null,0,"","",null,null,null,null,null,null,null,null,null,"Credits and GPAs as of this date:",null,null,null,null,null,null,null,null,null,"ANSI",null,null,{"$f":"IF(AG22<>\"\",AG22,3)*IF(AC22=\"A\",4,IF(AC22=\"B\",3,IF(AC22=\"C\",2,IF(AC22=\"D\",1,IF(AND(AC22>=0,AC22<=4,ISNUMBER(AC22)),AC22,0)))))","v":0},{"$f":"IF(OR(AC22=\"A\",AC22=\"B\",AC22=\"C\",AC22=\"D\",AC22=\"F\",AND(AC22>=0,AC22<=4,ISNUMBER(AC22))),IF(AG22<>\"\",AG22,3),\"\")","v":""},{"$f":"IF(OR(AC22=\"A\",AC22=\"B\",AC22=\"C\",AC22=\"D\",AC22=\"P\",AND(AC22>=0,AC22<=4,ISNUMBER(AC22))),IF(AG22<>\"\",AG22,3),\"\")","v":""}]
[null,null,null,null,null,null,null,null,null,null,null,null,null,null,null,null,{"$f":"SUM(G7:G22,V7:V20,AF7:AF17,AF22:AF23,G27:G42,O27:O42,AF27:AF34,AF37:AF38)","v":0},null,"Hours for graduation",null,null,null,null,null,null,null,"ANSI",null,null,{"$f":"IF(AG23<>\"\",AG23,3)*IF(AC23=\"A\",4,IF(AC23=\"B\",3,IF(AC23=\"C\",2,IF(AC23=\"D\",1,IF(AND(AC23>=0,AC23<=4,ISNUMBER(AC23)),AC23,0)))))","v":0},{"$f":"IF(OR(AC23=\"A\",AC23=\"B\",AC23=\"C\",AC23=\"D\",AC23=\"F\",AND(AC23>=0,AC23<=4,ISNUMBER(AC23))),IF(AG23<>\"\",AG23,3),\"\")","v":""},{"$f":"IF(OR(AC23=\"A\",AC23=\"B\",AC23=\"C\",AC23=\"D\",AC23=\"P\",AND(AC23>=0,AC23<=4,ISNUMBER(AC23))),IF(AG23<>\"\",AG23,3),\"\")","v":""}]
[" Elective Hours:",null,null,null,null,null,null,null,null,null,null,null,null,null,null,null,{"$f":"IF(SUM(F7:F22,U7:U20,AE9:AE17,AE22:AE24,AE27:AE34, AE27:AE34,AE37:AE39,F27:F42,N27:N42)=0,\"N/A\",ROUNDDOWN(SUM(E7:E22,T7:T20,AD9:AD17,AD37:AD39,AD22:AD24,AD27:AD34,E27:E42,M27:M42)/SUM(F7:F22,U7:U20,AE9:AE17,AE22:AE24,AE27:AE34,AE37:AE39,F27:F42,N27:N42),2))","v":"N/A"},null,"Grad/Ret GPA"]
["Non-Ag",null,null,null,null,null,null,null,"Ag Elect ",null,null,null,null,null,null,null,{"$f":"SUMIF(B7:B22,\">2999\",F7:F22)+SUMIF(B27:B42,\">2999\",F27:F42)+SUMIF(J27:J42,\">2999\",O27:O42)+SUMIF(R7:R20,\">2999\",U7:V20)+SUMIF(AB9:AB17,\">2999\",AE9:AF17)+SUMIF(AB22:AB23,\">2999\",AE22:AF23)+SUMIF(AB27:AB38,\">2999\",AE27:AE38)","v":0},null,"UPPER DIV HOURS (40)",null,null,null,null,null,null,null,"Professional Core: 27 Hours"]
["Course",null,"Grd","Cr",null,null,null,null,"Course",null,"Grd","Cr","GPts","GPACr","GrCr",null,{"$f":"SUMIF(B7:B22,\">2999\",E7:E22)+SUMIF(B27:B42,\">2999\",E27:E42)+SUMIF(J27:J42,\">2999\",M27:M42)+SUMIF(R7:R20,\">2999\",T7:T20)+SUMIF(AB9:AB17,\">2999\",AD9:AD17)+SUMIF(AB22:AB24,\">2999\",AD22:AD24)+SUMIF(AB27:AB38,\">2999\",AD27:AD38)","v":0},null,"Upper div points (100)"]
[null,null,null,null,{"$f":"IF(H27<>\"\",H27,3)*IF(C27=\"A\",4,IF(C27=\"B\",3,IF(C27=\"C\",2,IF(C27=\"D\",1,IF(AND(C27>=0,C27<=4,ISNUMBER(C27)),C27,0)))))","v":0},{"$f":"IF(OR(C27=\"A\",C27=\"B\",C27=\"C\",C27=\"D\",C27=\"F\",AND(C27>=0,C27<=4,ISNUMBER(C27))),IF(H27<>\"\",H27,3),\"\")","v":""},{"$f":"IF(OR(C27=\"A\",C27=\"B\",C27=\"C\",C27=\"D\",C27=\"P\",AND(C27>=0,C27<=4,ISNUMBER(C27))),IF(H27<>\"\",H27,3),\"\")","v":""},null,null,null,null,null,{"$f":"IF(P27<>\"\",P27,3)*IF(K27=\"A\",4,IF(K27=\"B\",3,IF(K27=\"C\",2,IF(K27=\"D\",1,IF(AND(K27>=0,K27<=4,ISNUMBER(K27)),K27,0)))))","v":0},{"$f":"IF(OR(K27=\"A\",K27=\"B\",K27=\"C\",K27=\"D\",K27=\"F\",AND(K27>=0,K27<=4,ISNUMBER(K27))),IF(P27<>\"\",P27,3),\"\")","v":""},{"$f":"IF(OR(K27=\"A\",K27=\"B\",K27=\"C\",K27=\"D\",K27=\"P\",AND(K27>=0,K27<=4,ISNUMBER(K27))),IF(P27<>\"\",P27,3),\"\")","v":""},null,{"$f":"IF(SUM(Q26)=0,\"N/A\",Q26/Q25)","v":"N/A"},null,"Upper div GPA",null,null,null,null,null,null,null,"AGED",3101,null,{"$f":"IF(AG27<>\"\",AG27,3)*IF(AC27=\"A\",4,IF(AC27=\"B\",3,IF(AC27=\"C\",2,IF(AC27=\"D\",1,IF(AND(AC27>=0,AC27<=4,ISNUMBER(AC27)),AC27,0)))))","v":0},{"$f":"IF(OR(AC27=\"A\",AC27=\"B\",AC27=\"C\",AC27=\"D\",AC27=\"F\",AND(AC27>=0,AC27<=4,ISNUMBER(AC27))),IF(AG27<>\"\",AG27,3),\"\")","v":""},{"$f":"IF(OR(AC27=\"A\",AC27=\"B\",AC27=\"C\",AC27=\"D\",AC27=\"P\",AND(AC27>=0,AC27<=4,ISNUMBER(AC27))),IF(AG27<>\"\",AG27,3),\"\")","v":""},1]
[null,null,null,null,0,"","",null,null,null,null,null,0,"","",null,null,null,"60 Senior College Hours",null,null,null,null,null,null,null,"AGED",3103,null,0,"",""]
[null,null,null,null,0,"","",null,null,null,null,null,0,"","",null,133,null,"HOURS NEEDED",null,null,null,null,null,null,null,"AGED",3203,null,0,"",""]
[null,null,null,null,0,"","",null,null,null,null,null,0,"","",null,"NOTES:",null,null,null,null,null,null,null,null,null,"AGED",4103,null,0,"",""]
[null,null,null,null,0,"","",null,null,null,null,null,0,"","",null,null,null,null,null,null,null,null,null,null,null,"AGED",4203,null,0,"",""]
[null,null,null,null,0,"","",null,null,null,null,null,0,"","",null,null,null,null,null,null,null,null,null,null,null,"AGED",4200,null,0,"","",9]
[null,null,null,null,0,"","",null,null,null,null,null,0,"","",null,null,null,null,null,null,null,null,null,null,null,"EPSY",3213,null,{"$f":"IF(AG33<>\"\",AG33,3)*IF(AC33=\"A\",4,IF(AC33=\"B\",3,IF(AC33=\"C\",2,IF(AC33=\"D\",1,IF(AND(AC33>=0,AC33<=4,ISNUMBER(AC33)),AC33,0)))))","v":0},{"$f":"IF(OR(AC33=\"A\",AC33=\"B\",AC33=\"C\",AC33=\"D\",AC33=\"F\",AND(AC33>=0,AC33<=4,ISNUMBER(AC33))),IF(AG33<>\"\",AG33,3),\"\")","v":""},{"$f":"IF(OR(AC33=\"A\",AC33=\"B\",AC33=\"C\",AC33=\"D\",AC33=\"P\",AND(AC33>=0,AC33<=4,ISNUMBER(AC33))),IF(AG33<>\"\",AG33,3),\"\")","v":""}]
[null,null,null,null,0,"","",null,null,null,null,null,0,"","",null,null,null,null,null,null,null,null,null,null,null,"SPED",3202,null,0,"","",2]
[null,null,null,null,0,"","",null,null,null,null,null,0,"",""]
[null,null,null,null,0,"","",null,null,null,null,null,0,"","",null,null,null,null,null,null,null,null,null,null,null,"RELATED COURSES 1 HOUR:"]
[null,null,null,null,0,"","",null,null,null,null,null,0,"","",null,null,null,null,null,null,null,null,null,null,null,null,null,null,{"$f":"IF(AG37<>\"\",AG37,3)*IF(AC37=\"A\",4,IF(AC37=\"B\",3,IF(AC37=\"C\",2,IF(AC37=\"D\",1,IF(AND(AC37>=0,AC37<=4,ISNUMBER(AC37)),AC37,0)))))","v":0},{"$f":"IF(OR(AC37=\"A\",AC37=\"B\",AC37=\"C\",AC37=\"D\",AC37=\"F\",AND(AC37>=0,AC37<=4,ISNUMBER(AC37))),IF(AG37<>\"\",AG37,3),\"\")","v":""},{"$f":"IF(OR(AC37=\"A\",AC37=\"B\",AC37=\"C\",AC37=\"D\",AC37=\"P\",AND(AC37>=0,AC37<=4,ISNUMBER(AC37))),IF(AG37<>\"\",AG37,3),\"\")","v":""},1]
[null,null,null,null,0,"","",null,null,null,null,null,0,"","",null,null,null,null,null,null,null,null,null,null,null,null,null,null,{"$f":"IF(AG38<>\"\",AG38,3)*IF(AC38=\"A\",4,IF(AC38=\"B\",3,IF(AC38=\"C\",2,IF(AC38=\"D\",1,IF(AND(AC38>=0,AC38<=4,ISNUMBER(AC38)),AC38,0)))))","v":0},{"$f":"IF(OR(AC38=\"A\",AC38=\"B\",AC38=\"C\",AC38=\"D\",AC38=\"F\",AND(AC38>=0,AC38<=4,ISNUMBER(AC38))),IF(AG38<>\"\",AG38,3),\"\")","v":""},{"$f":"IF(OR(AC38=\"A\",AC38=\"B\",AC38=\"C\",AC38=\"D\",AC38=\"P\",AND(AC38>=0,AC38<=4,ISNUMBER(AC38))),IF(AG38<>\"\",AG38,3),\"\")","v":""}]
[null,null,null,null,0,"","",null,null,null,null,null,0,"",""]
[null,null,null,null,0,"","",null,null,null,null,null,0,"",""]
[null,null,null,null,0,"","",null,null,null,null,null,0,"",""]
[null,null,null,null,0,"","",null,null,null,null,null,0,"",""]
[null,null,null,null,null,null,null,null,null,null,null,null,null,{"$f":"IF(OR(K42=\"\",L42=\"\"),\"\",IF(OR(K42=\"A\",K42=\"B\",K42=\"C\",K42=\"D\",K42=\"F\",K42=\"RA\",K42=\"RB\",K42=\"RC\",K42=\"RD\",K42=\"RF\",AND(K42>=0,K42<=4,ISNUMBER(K42))),L42,\"\"))","v":""},{"$f":"IF(OR(K42=\"\",L42=\"\"),\"\",IF(OR(K42=\"A\",K42=\"B\",K42=\"C\",K42=\"D\",K42=\"P\",AND(K42>=0,K42<=4,ISNUMBER(K42))),L42,\"\"))","v":""}]

{"sheet":"GRAD CHECK","index":1,"n_rows":45,"n_cols":6,"rows_kept":45,"cut":false,"hidden":false,"merged":[[44,1,44,8],[24,1,24,5],[27,1,27,2],[28,1,28,3],[28,4,28,5],[38,1,38,8],[41,1,41,8],[20,2,20,3],[0,0,0,5],[1,0,1,5],[2,0,2,5],[6,1,6,3],[6,4,6,5],[9,1,9,3],[12,1,12,3],[12,4,12,6],[13,1,13,2],[15,1,15,2],[17,1,18,3]]}
["GRADUATION CHECK"]
["By"]
["COLLEGE OF AGRICULTURAL SCIENCES AND NATURAL RESOURCES"]
[]
[]
["Name:",null,null,null,"Date:"]
[null,{"$f":"'ANSI-AGED'!$B$1:$Q$1","v":"Name, Student's"}]
[]
["ID:",null,null,null,"Graduation Date:"]
[null,{"$f":"'ANSI-AGED'!S1","v":"999-999-99"},null,null,{"$f":"'ANSI-AGED'!Q21","v":"00:00:00"}]
[]
["EMAIL:",null,null,null,"Major:"]
[null,null,null,null,{"$f":"'ANSI-AGED'!Z1","v":"ANSI-AGED"}]
[]
["Advisor:",null,null,null,"Grad/Ret GPA:"]
[null,{"$f":"'ANSI-AGED'!AG1","v":"ADVISOR"},null,null,{"$f":"'ANSI-AGED'!Q24","v":"N/A"}]
[]
[null,"REMINDER:",null,null,"Upper Division GPA:"]
[null,null,null,null,{"$f":"'ANSI-AGED'!Q27","v":"N/A"}]
["Total Hours to Date:",null,{"$f":"'ANSI-AGED'!Q23","v":0},null,"Total  Upper Div Hours to Date:",{"$f":"'ANSI-AGED'!Q25","v":0}]
["Current Enrollment:",null,null,null,"Total  Upper Div Points to Date:",{"$f":"'ANSI-AGED'!Q26","v":0}]
[]
["Deficiencies/Remaining Hours:"]
[]
[]
[]
["Hours Needed from a 4 yr. School: ",null,null,null,"Upper Div. hours & points needed: "]
[]
[]
[]
["Number of hours needed to complete requirements:"]
[null,null,null,null,"(hrs. = current courses + deficiencies)"]
[]
[]
[]
[]
[]
["APPROVED BY:"]
[null,"________________________________________________________________________ Adviser/Date Signed"]
[]
[]
[null,"_______________________________________________________________ Department Head/Date Signed"]
[]
[]
[null,"____________________________________________________________________ Assoc. Dean/Date Signed"]

{"sheet":"ADVISOR'S NOTES","index":2,"n_rows":1,"n_cols":2,"rows_kept":1,"cut":false,"hidden":false,"merged":[]}
["DATE","NOTES"]

{"sheet":"CourseLeaf Degree Sheet","index":3,"n_rows":0,"n_cols":0,"rows_kept":0,"cut":false,"hidden":false,"merged":[]}