{"text_format":"1","workbook":"xlsx","n_sheets":4,"sheets":["AGED-ANAG","GRAD CHECK","ADVISOR'S NOTES","CourseLeaf Degree Sheet"],"not_rendered":{"charts":0,"images":2,"macros":0,"external_links":0,"defined_names":2,"comments":1,"pivot_tables":0},"unopened":[],"bounds":{"document_bytes":16777216,"sheet_cells":100000,"rows_first":2000,"rows_last":500,"rows_between":2000,"halvings":0,"cell_chars":16384,"cell_head_chars":4096},"cells_cut":0,"cells_raw":0,"read":"whole","date_system":"1900"}

{"sheet":"AGED-ANAG","index":0,"n_rows":42,"n_cols":35,"rows_kept":42,"cut":false,"hidden":false,"merged":[[18,2,18,3],[18,8,18,11],[23,33,23,34],[21,0,21,11],[19,2,19,3],[19,8,19,11],[20,2,20,3],[20,8,20,11],[28,16,28,17],[23,16,23,17],[24,16,24,17],[21,16,21,22],[25,16,25,17],[26,16,26,17],[27,16,27,17],[13,33,13,34],[14,33,14,34],[16,33,16,34],[19,23,19,24],[18,23,18,24],[14,23,14,24],[15,23,15,24],[16,23,16,24],[10,33,10,34],[15,33,15,34],[12,33,12,34],[11,33,11,34],[15,2,15,3],[15,8,15,11],[12,2,12,3],[12,8,12,11],[11,23,11,24],[13,2,13,3],[13,8,13,11],[12,23,12,24],[13,23,13,24],[11,8,11,11],[11,2,11,3],[14,2,14,3],[49,33,49,34],[50,33,50,34],[29,16,29,17],[44,33,44,34],[45,33,45,34],[46,33,46,34],[47,33,47,34],[38,26,40,34],[48,33,48,34],[9,2,9,3],[9,8,9,11],[10,2,10,3],[10,8,10,11],[17,23,17,24],[9,23,9,24],[10,23,10,24],[17,2,17,3],[17,8,17,11],[16,2,16,3],[16,8,16,11],[14,8,14,11],[9,33,9,34],[0,1,0,16],[0,18,0,24],[0,32,0,34],[6,2,6,3],[6,8,6,11],[6,23,6,24],[0,25,0,27],[8,23,8,24],[7,33,7,34],[8,2,8,3],[8,8,8,11],[7,23,7,24],[7,2,7,3],[7,8,7,11],[8,33,8,34]]}
["NAME:","Name, Student's",null,null,null,null,null,null,null,null,null,null,null,null,null,null,null,"ID:","999-999-99",null,null,null,null,null,null,"AGED-ANAG",null,null,"ADV:",null,null,null,"ADVISOR"]
[]
["General Education Requirements: 40 Hours",null,null,null,null,null,null,null,null,null,null,null,null,null,null,null,"College/Dept. Requirements: 32 Hours",null,null,null,null,null,null,null,null,null,"Major Requirements: 60 Hours",null,null,null,null,null,null,null,"2018-19"]
[]
["Course",null,"Grade",null,"GPts","GPACr","GrCr",null,null,"Deviation",null,null,null,null,null,null,"Course",null,"Grade","GPts","GPACr","GrCr",null,"Deviation",null,null,"Course",null,"Grade","GPts","GPACr","GrCr",null,"Deviation"]
[]
["ENGL ",1113,null,null,{"$f":"IF(H7<>\"\",H7,3)*IF(C7=\"A\",4,IF(C7=\"B\",3,IF(C7=\"C\",2,IF(C7=\"D\",1,IF(AND(C7>=0,C7<=4,ISNUMBER(C7)),C7,0)))))","v":0},{"$f":"IF(OR(C7=\"A\",C7=\"B\",C7=\"C\",C7=\"D\",C7=\"F\",AND(C7>=0,C7<=4,ISNUMBER(C7))),IF(H7<>\"\",H7,3),\"\")","v":""},{"$f":"IF(OR(C7=\"A\",C7=\"B\",C7=\"C\",C7=\"D\",C7=\"P\",AND(C7>=0,C7<=4,ISNUMBER(C7))),IF(H7<>\"\",H7,3),\"\")","v":""},null,null,null,null,null,null,null,null,null,"AG",1011,null,{"$f":"IF(W7<>\"\",W7,3)*IF(S7=\"A\",4,IF(S7=\"B\",3,IF(S7=\"C\",2,IF(S7=\"D\",1,IF(AND(S7>=0,S7<=4,ISNUMBER(S7)),S7,0)))))","v":0},{"$f":"IF(OR(S7=\"A\",S7=\"B\",S7=\"C\",S7=\"D\",S7=\"F\",AND(S7>=0,S7<=4,ISNUMBER(S7))),IF(W7<>\"\",W7,3),\"\")","v":""},{"$f":"IF(OR(S7=\"A\",S7=\"B\",S7=\"C\",S7=\"D\",S7=\"P\",AND(S7>=0,S7<=4,ISNUMBER(S7))),IF(W7<>\"\",W7,3),\"\")","v":""},1,null,null,null,"Core Courses 27 hours"]
["ENGL ",1213,null,null,{"$f":"IF(H8<>\"\",H8,3)*IF(C8=\"A\",4,IF(C8=\"B\",3,IF(C8=\"C\",2,IF(C8=\"D\",1,IF(AND(C8>=0,C8<=4,ISNUMBER(C8)),C8,0)))))","v":0},{"$f":"IF(OR(C8=\"A\",C8=\"B\",C8=\"C\",C8=\"D\",C8=\"F\",AND(C8>=0,C8<=4,ISNUMBER(C8))),IF(H8<>\"\",H8,3),\"\")","v":""},{"$f":"IF(OR(C8=\"A\",C8=\"B\",C8=\"C\",C8=\"D\",C8=\"P\",AND(C8>=0,C8<=4,ISNUMBER(C8))),IF(H8<>\"\",H8,3),\"\")","v":""},null,null,null,null,null,null,null,null,null,"ANSI",2111,null,{"$f":"IF(W8<>\"\",W8,3)*IF(S8=\"A\",4,IF(S8=\"B\",3,IF(S8=\"C\",2,IF(S8=\"D\",1,IF(AND(S8>=0,S8<=4,ISNUMBER(S8)),S8,0)))))","v":0},{"$f":"IF(OR(S8=\"A\",S8=\"B\",S8=\"C\",S8=\"D\",S8=\"F\",AND(S8>=0,S8<=4,ISNUMBER(S8))),IF(W8<>\"\",W8,3),\"\")","v":""},{"$f":"IF(OR(S8=\"A\",S8=\"B\",S8=\"C\",S8=\"D\",S8=\"P\",AND(S8>=0,S8<=4,ISNUMBER(S8))),IF(W8<>\"\",W8,3),\"\")","v":""},1]
["HIST",1103,null,null,0,"","",null,null,null,null,null,null,null,null,null,"ANSI",1124,null,0,"","",4,null,null,null,"ANSI",3242,null,{"$f":"IF(AG9<>\"\",AG9,3)*IF(AC9=\"A\",4,IF(AC9=\"B\",3,IF(AC9=\"C\",2,IF(AC9=\"D\",1,IF(AND(AC9>=0,AC9<=4,ISNUMBER(AC9)),AC9,0)))))","v":0},{"$f":"IF(OR(AC9=\"A\",AC9=\"B\",AC9=\"C\",AC9=\"D\",AC9=\"F\",AND(AC9>=0,AC9<=4,ISNUMBER(AC9))),IF(AG9<>\"\",AG9,3),\"\")","v":""},{"$f":"IF(OR(AC9=\"A\",AC9=\"B\",AC9=\"C\",AC9=\"D\",AC9=\"P\",AND(AC9>=0,AC9<=4,ISNUMBER(AC9))),IF(AG9<>\"\",AG9,3),\"\")","v":""},2]
["POLS",1113,null,null,0,"","",null,null,null,null,null,null,null,null,null,"ANSI",2112,null,0,"","",2,null,null,null,"ANSI",3423,null,{"$f":"IF(AG10<>\"\",AG10,3)*IF(AC10=\"A\",4,IF(AC10=\"B\",3,IF(AC10=\"C\",2,IF(AC10=\"D\",1,IF(AND(AC10>=0,AC10<=4,ISNUMBER(AC10)),AC10,0)))))","v":0},{"$f":"IF(OR(AC10=\"A\",AC10=\"B\",AC10=\"C\",AC10=\"D\",AC10=\"F\",AND(AC10>=0,AC10<=4,ISNUMBER(AC10))),IF(AG10<>\"\",AG10,3),\"\")","v":""},{"$f":"IF(OR(AC10=\"A\",AC10=\"B\",AC10=\"C\",AC10=\"D\",AC10=\"P\",AND(AC10>=0,AC10<=4,ISNUMBER(AC10))),IF(AG10<>\"\",AG10,3),\"\")","v":""}]
["MATH",null,null,null,0,"","",null,null,null,null,null,null,null,null,null,"ANSI",2253,null,0,"","",null,null,null,null,"ANSI",3433,null,0,"",""]
["MATH",null,null,null,{"$f":"IF(H12<>\"\",H12,3)*IF(C12=\"A\",4,IF(C12=\"B\",3,IF(C12=\"C\",2,IF(C12=\"D\",1,IF(AND(C12>=0,C12<=4,ISNUMBER(C12)),C12,0)))))","v":0},{"$f":"IF(OR(C12=\"A\",C12=\"B\",C12=\"C\",C12=\"D\",C12=\"F\",AND(C12>=0,C12<=4,ISNUMBER(C12))),IF(H12<>\"\",H12,3),\"\")","v":""},{"$f":"IF(OR(C12=\"A\",C12=\"B\",C12=\"C\",C12=\"D\",C12=\"P\",AND(C12>=0,C12<=4,ISNUMBER(C12))),IF(H12<>\"\",H12,3),\"\")","v":""},null,null,null,null,null,null,null,null,null,"HORT",1013,null,0,"","",null,null,null,null,"ANSI",3443,null,0,"",""]
["(H)",null,null,null,0,"","",null,null,null,null,null,null,null,null,null,"PLNT",1213,null,0,"","",null,null,null,null,"ANSI",3543,null,{"$f":"IF(AG13<>\"\",AG13,3)*IF(AC13=\"A\",4,IF(AC13=\"B\",3,IF(AC13=\"C\",2,IF(AC13=\"D\",1,IF(AND(AC13>=0,AC13<=4,ISNUMBER(AC13)),AC13,0)))))","v":0},{"$f":"IF(OR(AC13=\"A\",AC13=\"B\",AC13=\"C\",AC13=\"D\",AC13=\"F\",AND(AC13>=0,AC13<=4,ISNUMBER(AC13))),IF(AG13<>\"\",AG13,3),\"\")","v":""},{"$f":"IF(OR(AC13=\"A\",AC13=\"B\",AC13=\"C\",AC13=\"D\",AC13=\"P\",AND(AC13>=0,AC13<=4,ISNUMBER(AC13))),IF(AG13<>\"\",AG13,3),\"\")","v":""}]
["(H)",null,null,null,0,"","",null,null,null,null,null,null,null,null,null,"AST",3222,null,0,"","",2,null,null,null,"ANSI",3653,null,0,"",""]
["(N)",null,null,null,0,"","",null,null,null,null,null,null,null,null,null,"AST",3011,null,0,"","",1,null,null,null,"ANSI",4863,null,{"$f":"IF(AG15<>\"\",AG15,3)*IF(AC15=\"A\",4,IF(AC15=\"B\",3,IF(AC15=\"C\",2,IF(AC15=\"D\",1,IF(AND(AC15>=0,AC15<=4,ISNUMBER(AC15)),AC15,0)))))","v":0},{"$f":"IF(OR(AC15=\"A\",AC15=\"B\",AC15=\"C\",AC15=\"D\",AC15=\"F\",AND(AC15>=0,AC15<=4,ISNUMBER(AC15))),IF(AG15<>\"\",AG15,3),\"\")","v":""},{"$f":"IF(OR(AC15=\"A\",AC15=\"B\",AC15=\"C\",AC15=\"D\",AC15=\"P\",AND(AC15>=0,AC15<=4,ISNUMBER(AC15))),IF(AG15<>\"\",AG15,3),\"\")","v":""}]
["BIOL",1114,null,null,0,"","",4,null,null,null,null,null,null,null,null,"AST",3211,null,0,"","",1,null,null,null,"NREM",2013,null,0,"",""]
["AGEC",1113,null,null,0,"","",null,null,null,null,null,null,null,null,null,"AST",4101,null,0,"","",1,null,null,null,"SOIL",2124,null,0,"","",4]
["GENED",null,null,null,{"$f":"IF(H18<>\"\",H18,3)*IF(C18=\"A\",4,IF(C18=\"B\",3,IF(C18=\"C\",2,IF(C18=\"D\",1,IF(AND(C18>=0,C18<=4,ISNUMBER(C18)),C18,0)))))","v":0},{"$f":"IF(OR(C18=\"A\",C18=\"B\",C18=\"C\",C18=\"D\",C18=\"F\",AND(C18>=0,C18<=4,ISNUMBER(C18))),IF(H18<>\"\",H18,3),\"\")","v":""},{"$f":"IF(OR(C18=\"A\",C18=\"B\",C18=\"C\",C18=\"D\",C18=\"P\",AND(C18>=0,C18<=4,ISNUMBER(C18))),IF(H18<>\"\",H18,3),\"\")","v":""},null,null,null,null,null,null,null,null,null,"CHEM",1314,null,0,"","",4,null,null,null,null,null,null,0,"",""]
["GENED",null,null,null,0,"","",null,null,null,null,null,null,null,null,null,"AGCM",3103,null,0,"","",null,null,null,null,"Additional Core: 6 hours (at least 2 species)"]
["(D)",null,null,null,{"$f":"IF(H20<>\"\",H20,3)*IF(C20=\"A\",4,IF(C20=\"B\",3,IF(C20=\"C\",2,IF(C20=\"D\",1,IF(AND(C20>=0,C20<=4,ISNUMBER(C20)),C20,0)))))","v":0},{"$f":"IF(OR(C20=\"A\",C20=\"B\",C20=\"C\",C20=\"D\",C20=\"F\",AND(C20>=0,C20<=4,ISNUMBER(C20))),IF(H20<>\"\",H20,3),\"\")","v":""},{"$f":"IF(OR(C20=\"A\",C20=\"B\",C20=\"C\",C20=\"D\",C20=\"P\",AND(C20>=0,C20<=4,ISNUMBER(C20))),IF(H20<>\"\",H20,3),\"\")","v":""},null,null,null,null,null,null,null,null,null,"SPCH",2713,null,0,"",""]
["(I)",null,null,null,0,"",""]
[null,null,null,null,null,null,null,null,null,null,null,null,null,null,null,null,null,null,null,null,null,null,null,"Graduate Semester"]
["Elective Hours:",null,null,null,null,null,null,null,null,null,null,null,null,null,null,null,"Credits and GPAs as of this date:",null,null,null,null,null,null,null,null,null,"ANSI",null,null,{"$f":"IF(AG23<>\"\",AG23,3)*IF(AC23=\"A\",4,IF(AC23=\"B\",3,IF(AC23=\"C\",2,IF(AC23=\"D\",1,IF(AND(AC23>=0,AC23<=4,ISNUMBER(AC23)),AC23,0)))))","v":0},{"$f":"IF(OR(AC23=\"A\",AC23=\"B\",AC23=\"C\",AC23=\"D\",AC23=\"F\",AND(AC23>=0,AC23<=4,ISNUMBER(AC23))),IF(AG23<>\"\",AG23,3),\"\")","v":""},{"$f":"IF(OR(AC23=\"A\",AC23=\"B\",AC23=\"C\",AC23=\"D\",AC23=\"P\",AND(AC23>=0,AC23<=4,ISNUMBER(AC23))),IF(AG23<>\"\",AG23,3),\"\")","v":""}]
["Non-Ag",null,null,null,null,null,null,null,"Ag Elect ",null,null,null,null,null,null,null,{"$f":"SUM(G7:G19,V7:V20,AF9:AF18,AF23:AF24,AF27:AF34,G26:G41,O26:O41)","v":0},null,"Hours for graduation",null,null,null,null,null,null,null,"ANSI",null,null,{"$f":"IF(AG24<>\"\",AG24,3)*IF(AC24=\"A\",4,IF(AC24=\"B\",3,IF(AC24=\"C\",2,IF(AC24=\"D\",1,IF(AND(AC24>=0,AC24<=4,ISNUMBER(AC24)),AC24,0)))))","v":0},{"$f":"IF(OR(AC24=\"A\",AC24=\"B\",AC24=\"C\",AC24=\"D\",AC24=\"F\",AND(AC24>=0,AC24<=4,ISNUMBER(AC24))),IF(AG24<>\"\",AG24,3),\"\")","v":""},{"$f":"IF(OR(AC24=\"A\",AC24=\"B\",AC24=\"C\",AC24=\"D\",AC24=\"P\",AND(AC24>=0,AC24<=4,ISNUMBER(AC24))),IF(AG24<>\"\",AG24,3),\"\")","v":""}]
["Course",null,"Grd","Cr",null,null,null,null,"Course",null,"Grd","Cr",null,null,null,null,{"$f":"IF(SUM(F7:F19,U7:U20,AE9:AE18,,AE23:AE24,AE27:AE34,F26:F41,N26:N41)=0,\"N/A\",ROUNDDOWN(SUM(E7:E19,T7:T20,AD9:AD18,AD27:AD34,AD23:AD24,E26:E41,M26:O41)/SUM(F7:F19,U7:U20,AE23:AE24,AE9:AE18,AE27:AE34,F26:F41,N26:O41),2))","v":"N/A"},null,"Grad/Ret GPA"]
[null,null,null,null,{"$f":"D26*IF(OR(C26=\"A\",C26=\"RA\"),4,IF(OR(C26=\"B\",C26=\"RB\"),3,IF(OR(C26=\"C\",C26=\"RC\"),2,IF(OR(C26=\"D\",C26=\"RD\"),1,IF(AND(C26>=0,C26<=4,ISNUMBER(C26)),C26,0)))))","v":0},{"$f":"IF(OR(C26=\"\",D26=\"\"),\"\",IF(OR(C26=\"A\",C26=\"B\",C26=\"C\",C26=\"D\",C26=\"F\",C26=\"RA\",C26=\"RB\",C26=\"RC\",C26=\"RD\",C26=\"RF\",AND(C26>=0,C26<=4,ISNUMBER(C26))),D26,\"\"))","v":""},{"$f":"IF(OR(C26=\"\",D26=\"\"),\"\",IF(OR(C26=\"A\",C26=\"B\",C26=\"C\",C26=\"D\",C26=\"P\",AND(C26>=0,C26<=4,ISNUMBER(C26))),D26,\"\"))","v":""},null,null,null,null,null,"GPts","GPACr","GrCr",null,{"$f":"SUMIF(B7:B19,\">2999\",F7:F19)+SUMIF(B26:B41,\">2999\",F26:F41)+SUMIF(J26:J41,\">2999\",L26:L41)+SUMIF(R7:R20,\">2999\",U7:U20)+SUMIF(AB9:AB18,\">2999\",AF9:AF18)+SUMIF(AB23:AB24,\">2999\",AF23:AF24)+SUMIF(AB27:AB34,\">2999\",AF27:AF34)","v":0},null,"UPPER DIV HOURS (40)",null,null,null,null,null,null,null,"Professional Core: 27 Hours"]
[null,null,null,null,0,"","",null,null,null,null,null,{"$f":"L26*IF(OR(K26=\"A\",K26=\"RA\"),4,IF(OR(K26=\"B\",K26=\"RB\"),3,IF(OR(K26=\"C\",K26=\"RC\"),2,IF(OR(K26=\"D\",K26=\"RD\"),1,IF(AND(K26>=0,K26=4,ISNUMBER(K26)),K26,0)))))","v":0},{"$f":"IF(OR(K26=\"\",L26=\"\"),\"\",IF(OR(K26=\"A\",K26=\"B\",K26=\"C\",K26=\"D\",K26=\"F\",K26=\"RA\",K26=\"RB\",K26=\"RC\",K26=\"RD\",K26=\"RF\",AND(K26>=0,K26<=4,ISNUMBER(K26))),L26,\"\"))","v":""},{"$f":"IF(OR(K26=\"\",L26=\"\"),\"\",IF(OR(K26=\"A\",K26=\"B\",K26=\"C\",K26=\"D\",K26=\"P\",AND(K26>=0,K26<=4,ISNUMBER(K26))),L26,\"\"))","v":""},null,{"$f":"SUMIF(B7:B19,\">2999\",E7:E19)+SUMIF(B26:B41,\">2999\",E26:E41)+SUMIF(J26:J41,\">2999\",M26:O41)+SUMIF(R7:R20,\">2999\",T7:T20)+SUMIF(AB9:AB17,\">2999\",AD9:AD17)+SUMIF(AB23:AB24,\">2999\",AD23:AD24)+SUMIF(AB27:AB34,\">2999\",AD27:AD34)","v":0},null,"Upper div points (100)",null,null,null,null,null,null,null,"AGED",3101,null,{"$f":"IF(AG27<>\"\",AG27,3)*IF(AC27=\"A\",4,IF(AC27=\"B\",3,IF(AC27=\"C\",2,IF(AC27=\"D\",1,IF(AND(AC27>=0,AC27<=4,ISNUMBER(AC27)),AC27,0)))))","v":0},{"$f":"IF(OR(AC27=\"A\",AC27=\"B\",AC27=\"C\",AC27=\"D\",AC27=\"F\",AND(AC27>=0,AC27<=4,ISNUMBER(AC27))),IF(AG27<>\"\",AG27,3),\"\")","v":""},{"$f":"IF(OR(AC27=\"A\",AC27=\"B\",AC27=\"C\",AC27=\"D\",AC27=\"P\",AND(AC27>=0,AC27<=4,ISNUMBER(AC27))),IF(AG27<>\"\",AG27,3),\"\")","v":""},1]
[null,null,null,null,0,"","",null,null,null,null,null,0,"","",null,{"$f":"IF(SUM(Q27)=0,\"N/A\",Q27/Q26)","v":"N/A"},null,"Upper div GPA",null,null,null,null,null,null,null,"AGED",3103,null,0,"",""]
[null,null,null,null,0,"","",null,null,null,null,null,0,"","",null,null,null,"60 Senior College Hours",null,null,null,null,null,null,null,"AGED",3203,null,0,"",""]
[null,null,null,null,0,"","",null,null,null,null,null,0,"","",null,132,null,"HOURS NEEDED",null,null,null,null,null,null,null,"AGED",4103,null,0,"",""]
[null,null,null,null,0,"","",null,null,null,null,null,0,"","",null,null,null,null,null,null,null,null,null,null,null,"AGED",4203,null,0,"",""]
[null,null,null,null,0,"","",null,null,null,null,null,0,"","",null,null,null,null,null,null,null,null,null,null,null,"AGED",4200,null,0,"","",9]
[null,null,null,null,0,"","",null,null,null,null,null,0,"","",null,null,null,null,null,null,null,null,null,null,null,"EPSY",3213,null,{"$f":"IF(AG33<>\"\",AG33,3)*IF(AC33=\"A\",4,IF(AC33=\"B\",3,IF(AC33=\"C\",2,IF(AC33=\"D\",1,IF(AND(AC33>=0,AC33<=4,ISNUMBER(AC33)),AC33,0)))))","v":0},{"$f":"IF(OR(AC33=\"A\",AC33=\"B\",AC33=\"C\",AC33=\"D\",AC33=\"F\",AND(AC33>=0,AC33<=4,ISNUMBER(AC33))),IF(AG33<>\"\",AG33,3),\"\")","v":""},{"$f":"IF(OR(AC33=\"A\",AC33=\"B\",AC33=\"C\",AC33=\"D\",AC33=\"P\",AND(AC33>=0,AC33<=4,ISNUMBER(AC33))),IF(AG33<>\"\",AG33,3),\"\")","v":""}]
[null,null,null,null,0,"","",null,null,null,null,null,0,"","",null,null,null,null,null,null,null,null,null,null,null,"SPED",3202,null,0,"","",2]
[null,null,null,null,0,"","",null,null,null,null,null,0,"","",null,null,null,null,null,null,null,null,null,null,null,"NOTES:"]
[null,null,null,null,0,"","",null,null,null,null,null,0,"",""]
[null,null,null,null,0,"","",null,null,null,null,null,0,"",""]
[null,null,null,null,0,"","",null,null,null,null,null,0,"",""]
[null,null,null,null,0,"","",null,null,null,null,null,0,"","",null,null,null,null,null,null,null,null,null,null,null,"NOTE:  AGED 4203 & 4200 are taken during teaching semester."]
[null,null,null,null,0,"","",null,null,null,null,null,0,"",""]
[null,null,null,null,0,"","",null,null,null,null,null,0,"",""]
[null,null,null,null,null,null,null,null,null,null,null,null,0,"",""]

{"sheet":"GRAD CHECK","index":1,"n_rows":45,"n_cols":6,"rows_kept":45,"cut":false,"hidden":false,"merged":[[20,2,20,3],[0,0,0,5],[1,0,1,5],[2,0,2,5],[6,1,6,3],[6,4,6,5],[9,1,9,3],[12,1,12,3],[12,4,12,6],[13,1,13,2],[15,1,15,2],[18,1,18,2],[44,1,44,8],[24,1,24,5],[27,1,27,2],[28,1,28,3],[28,4,28,5],[38,1,38,8],[41,1,41,8]]}
["GRADUATION CHECK"]
["By"]
["COLLEGE OF AGRICULTURAL SCIENCES AND NATURAL RESOURCES"]
[]
[]
["Name:",null,null,null,"Date:"]
[null,{"$f":"'AGED-ANAG'!B1:Q1","v":"Name, Student's"}]
[]
["ID:",null,null,null,"Graduation Date:"]
[null,{"$f":"'AGED-ANAG'!S1","v":"999-999-99"},null,null,{"$f":"'AGED-ANAG'!Q22","v":"00:00:00"}]
[]
["EMAIL:",null,null,null,"Major:"]
[null,null,null,null,{"$f":"'AGED-ANAG'!Z1","v":"AGED-ANAG"}]
[]
["Advisor:",null,null,null,"Grad/Ret GPA:"]
[null,{"$f":"'AGED-ANAG'!AG1","v":"ADVISOR"},null,null,{"$f":"'AGED-ANAG'!Q25","v":"N/A"}]
[]
[null,"REMINDER:",null,null,"Upper Division GPA:"]
[null,null,null,null,{"$f":"'AGED-ANAG'!Q28","v":"N/A"}]
["Total Hours to Date:",null,{"$f":"'AGED-ANAG'!Q24","v":0},null,"Total  Upper Div Hours to Date:",{"$f":"'AGED-ANAG'!Q26","v":0}]
["Current Enrollment:",null,null,null,"Total  Upper Div Points to Date:",{"$f":"'AGED-ANAG'!Q27","v":0}]
[]
["Deficiencies/Remaining Hours:"]
[]
[]
[]
["Hours Needed from a 4 yr. School: ",null,null,null,"Upper Div. hours & points needed: "]
[]
[]
[]
["Number of hours needed to complete requirements:"]
[null,null,null,null,"(hrs. = current courses + deficiencies)"]
[]
[]
[]
[]
[]
["APPROVED BY:"]
[null,"________________________________________________________________________ Advise/Date Signed"]
[]
[]
[null,"_______________________________________________________________ Department Head/Date Signed"]
[]
[]
[null,"____________________________________________________________________ Assoc. Dean/Date Signed"]

{"sheet":"ADVISOR'S NOTES","index":2,"n_rows":1,"n_cols":2,"rows_kept":1,"cut":false,"hidden":false,"merged":[]}
["DATE","NOTES"]

{"sheet":"CourseLeaf Degree Sheet","index":3,"n_rows":0,"n_cols":0,"rows_kept":0,"cut":false,"hidden":false,"merged":[]}