{"text_format":"1","workbook":"xlsx","n_sheets":4,"sheets":["AGED-AGCM","GRAD CHECK","ADVISOR'S NOTES","CourseLeaf Degree Sheet"],"not_rendered":{"charts":0,"images":2,"macros":0,"external_links":0,"defined_names":2,"comments":1,"pivot_tables":0},"unopened":[],"bounds":{"document_bytes":16777216,"sheet_cells":100000,"rows_first":2000,"rows_last":500,"rows_between":2000,"halvings":0,"cell_chars":16384,"cell_head_chars":4096},"cells_cut":0,"cells_raw":0,"read":"whole","date_system":"1900"}

{"sheet":"AGED-AGCM","index":0,"n_rows":42,"n_cols":35,"rows_kept":42,"cut":false,"hidden":false,"merged":[[17,8,17,11],[13,2,13,3],[13,8,13,11],[15,33,15,34],[22,0,22,11],[19,2,19,3],[19,8,19,11],[20,2,20,3],[20,8,20,11],[18,2,18,3],[18,8,18,11],[16,33,16,34],[22,33,22,34],[16,2,16,3],[16,8,16,11],[15,23,15,24],[15,2,15,3],[15,8,15,11],[17,2,17,3],[9,33,9,34],[8,33,8,34],[14,33,14,34],[13,33,13,34],[12,33,12,34],[11,33,11,34],[14,23,14,24],[10,33,10,34],[10,23,10,24],[11,23,11,24],[14,2,14,3],[10,2,10,3],[10,8,10,11],[28,16,28,17],[23,16,23,17],[24,16,24,17],[21,16,21,22],[25,16,25,17],[26,16,26,17],[27,16,27,17],[50,33,50,34],[51,33,51,34],[29,16,29,17],[45,33,45,34],[46,33,46,34],[47,33,47,34],[31,33,31,34],[32,33,32,34],[33,33,33,34],[34,33,34,34],[36,33,36,34],[37,33,37,34],[35,33,35,34],[48,33,48,34],[49,33,49,34],[30,33,30,34],[14,8,14,11],[7,23,7,24],[7,2,7,3],[7,8,7,11],[9,23,9,24],[9,2,9,3],[9,8,9,11],[8,23,8,24],[8,2,8,3],[8,8,8,11],[12,23,12,24],[13,23,13,24],[11,2,11,3],[11,8,11,11],[12,8,12,11],[12,2,12,3],[0,32,0,34],[6,2,6,3],[6,8,6,11],[6,23,6,24],[0,25,0,27],[0,1,0,16],[0,18,0,24]]}
["NAME:","Name, Student's",null,null,null,null,null,null,null,null,null,null,null,null,null,null,null,"ID:","999-999-99",null,null,null,null,null,null,"AGED-AGCM",null,null,"ADV:",null,null,null,"ADVISOR"]
[]
["General Education Requirements: 40 Hours",null,null,null,null,null,null,null,null,null,null,null,null,null,null,null,"College/Dept. Requirements: 36 Hours",null,null,null,null,null,null,null,null,null,"Major Requirements: 56 Hours",null,null,null,null,null,null,null,"2018-19"]
[]
["Course",null,"Grade",null,"GPts","GPACr","GrCr",null,null,"Deviation",null,null,null,null,null,null,"Course",null,"Grade","GPts","GPACr","GrCr",null,"Deviation",null,null,"Course",null,"Grade","GPts","GPACr","GrCr",null,"Deviation"]
[]
["ENGL ",1113,null,null,{"$f":"IF(H7<>\"\",H7,3)*IF(C7=\"A\",4,IF(C7=\"B\",3,IF(C7=\"C\",2,IF(C7=\"D\",1,IF(AND(C7>=0,C7<=4,ISNUMBER(C7)),C7,0)))))","v":0},{"$f":"IF(OR(C7=\"A\",C7=\"B\",C7=\"C\",C7=\"D\",C7=\"F\",AND(C7>=0,C7<=4,ISNUMBER(C7))),IF(H7<>\"\",H7,3),\"\")","v":""},{"$f":"IF(OR(C7=\"A\",C7=\"B\",C7=\"C\",C7=\"D\",C7=\"P\",AND(C7>=0,C7<=4,ISNUMBER(C7))),IF(H7<>\"\",H7,3),\"\")","v":""},null,null,null,null,null,null,null,null,null,"AG",1011,null,{"$f":"IF(W7<>\"\",W7,3)*IF(S7=\"A\",4,IF(S7=\"B\",3,IF(S7=\"C\",2,IF(S7=\"D\",1,IF(AND(S7>=0,S7<=4,ISNUMBER(S7)),S7,0)))))","v":0},{"$f":"IF(OR(S7=\"A\",S7=\"B\",S7=\"C\",S7=\"D\",S7=\"F\",AND(S7>=0,S7<=4,ISNUMBER(S7))),IF(W7<>\"\",W7,3),\"\")","v":""},{"$f":"IF(OR(S7=\"A\",S7=\"B\",S7=\"C\",S7=\"D\",S7=\"P\",AND(S7>=0,S7<=4,ISNUMBER(S7))),IF(W7<>\"\",W7,3),\"\")","v":""},1,null,null,null,"Core Courses:  29 Hours"]
["ENGL ",1213,null,null,{"$f":"IF(H8<>\"\",H8,3)*IF(C8=\"A\",4,IF(C8=\"B\",3,IF(C8=\"C\",2,IF(C8=\"D\",1,IF(AND(C8>=0,C8<=4,ISNUMBER(C8)),C8,0)))))","v":0},{"$f":"IF(OR(C8=\"A\",C8=\"B\",C8=\"C\",C8=\"D\",C8=\"F\",AND(C8>=0,C8<=4,ISNUMBER(C8))),IF(H8<>\"\",H8,3),\"\")","v":""},{"$f":"IF(OR(C8=\"A\",C8=\"B\",C8=\"C\",C8=\"D\",C8=\"P\",AND(C8>=0,C8<=4,ISNUMBER(C8))),IF(H8<>\"\",H8,3),\"\")","v":""},null,null,null,null,null,null,null,null,null,"ANSI",1124,null,{"$f":"IF(W8<>\"\",W8,3)*IF(S8=\"A\",4,IF(S8=\"B\",3,IF(S8=\"C\",2,IF(S8=\"D\",1,IF(AND(S8>=0,S8<=4,ISNUMBER(S8)),S8,0)))))","v":0},{"$f":"IF(OR(S8=\"A\",S8=\"B\",S8=\"C\",S8=\"D\",S8=\"F\",AND(S8>=0,S8<=4,ISNUMBER(S8))),IF(W8<>\"\",W8,3),\"\")","v":""},{"$f":"IF(OR(S8=\"A\",S8=\"B\",S8=\"C\",S8=\"D\",S8=\"P\",AND(S8>=0,S8<=4,ISNUMBER(S8))),IF(W8<>\"\",W8,3),\"\")","v":""},4]
["HIST",1103,null,null,0,"","",null,null,null,null,null,null,null,null,null,"FDSC",1133,null,0,"","",null,null,null,null,"AGED",4713,null,{"$f":"IF(AG9<>\"\",AG9,3)*IF(AC9=\"A\",4,IF(AC9=\"B\",3,IF(AC9=\"C\",2,IF(AC9=\"D\",1,IF(AND(AC9>=0,AC9<=4,ISNUMBER(AC9)),AC9,0)))))","v":0},{"$f":"IF(OR(AC9=\"A\",AC9=\"B\",AC9=\"C\",AC9=\"D\",AC9=\"F\",AND(AC9>=0,AC9<=4,ISNUMBER(AC9))),IF(AG9<>\"\",AG9,3),\"\")","v":""},{"$f":"IF(OR(AC9=\"A\",AC9=\"B\",AC9=\"C\",AC9=\"D\",AC9=\"P\",AND(AC9>=0,AC9<=4,ISNUMBER(AC9))),IF(AG9<>\"\",AG9,3),\"\")","v":""}]
["POLS",1113,null,null,0,"","",null,null,null,null,null,null,null,null,null,"HORT",1013,null,0,"","",null,null,null,null,"AGCM",3123,null,{"$f":"IF(AG10<>\"\",AG10,3)*IF(AC10=\"A\",4,IF(AC10=\"B\",3,IF(AC10=\"C\",2,IF(AC10=\"D\",1,IF(AND(AC10>=0,AC10<=4,ISNUMBER(AC10)),AC10,0)))))","v":0},{"$f":"IF(OR(AC10=\"A\",AC10=\"B\",AC10=\"C\",AC10=\"D\",AC10=\"F\",AND(AC10>=0,AC10<=4,ISNUMBER(AC10))),IF(AG10<>\"\",AG10,3),\"\")","v":""},{"$f":"IF(OR(AC10=\"A\",AC10=\"B\",AC10=\"C\",AC10=\"D\",AC10=\"P\",AND(AC10>=0,AC10<=4,ISNUMBER(AC10))),IF(AG10<>\"\",AG10,3),\"\")","v":""}]
["MATH",null,null,null,0,"","",null,null,null,null,null,null,null,null,null,"PLNT",1213,null,0,"","",null,null,null,null,"AGCM",3213,null,0,"",""]
["(H)",null,null,null,0,"","",null,null,null,null,null,null,null,null,null,"NREM",2013,null,0,"","",null,null,null,null,"AGCM",3223,null,0,"",""]
["(H)",null,null,null,{"$f":"IF(H13<>\"\",H13,3)*IF(C13=\"A\",4,IF(C13=\"B\",3,IF(C13=\"C\",2,IF(C13=\"D\",1,IF(AND(C13>=0,C13<=4,ISNUMBER(C13)),C13,0)))))","v":0},{"$f":"IF(OR(C13=\"A\",C13=\"B\",C13=\"C\",C13=\"D\",C13=\"F\",AND(C13>=0,C13<=4,ISNUMBER(C13))),IF(H13<>\"\",H13,3),\"\")","v":""},{"$f":"IF(OR(C13=\"A\",C13=\"B\",C13=\"C\",C13=\"D\",C13=\"P\",AND(C13>=0,C13<=4,ISNUMBER(C13))),IF(H13<>\"\",H13,3),\"\")","v":""},null,null,null,null,null,null,null,null,null,"AST",3011,null,0,"","",1,null,null,null,"AGCM",3233,null,{"$f":"IF(AG13<>\"\",AG13,3)*IF(AC13=\"A\",4,IF(AC13=\"B\",3,IF(AC13=\"C\",2,IF(AC13=\"D\",1,IF(AND(AC13>=0,AC13<=4,ISNUMBER(AC13)),AC13,0)))))","v":0},{"$f":"IF(OR(AC13=\"A\",AC13=\"B\",AC13=\"C\",AC13=\"D\",AC13=\"F\",AND(AC13>=0,AC13<=4,ISNUMBER(AC13))),IF(AG13<>\"\",AG13,3),\"\")","v":""},{"$f":"IF(OR(AC13=\"A\",AC13=\"B\",AC13=\"C\",AC13=\"D\",AC13=\"P\",AND(AC13>=0,AC13<=4,ISNUMBER(AC13))),IF(AG13<>\"\",AG13,3),\"\")","v":""}]
["(N)",null,null,null,0,"","",null,null,null,null,null,null,null,null,null,"AST",3211,null,0,"","",1,null,null,null,"AGCM",4113,null,0,"",""]
["CHEM",1314,null,null,0,"","",4,null,null,null,null,null,null,null,null,"AST",3222,null,0,"","",2,null,null,null,"AGCM",4203,null,{"$f":"IF(AG15<>\"\",AG15,3)*IF(AC15=\"A\",4,IF(AC15=\"B\",3,IF(AC15=\"C\",2,IF(AC15=\"D\",1,IF(AND(AC15>=0,AC15<=4,ISNUMBER(AC15)),AC15,0)))))","v":0},{"$f":"IF(OR(AC15=\"A\",AC15=\"B\",AC15=\"C\",AC15=\"D\",AC15=\"F\",AND(AC15>=0,AC15<=4,ISNUMBER(AC15))),IF(AG15<>\"\",AG15,3),\"\")","v":""},{"$f":"IF(OR(AC15=\"A\",AC15=\"B\",AC15=\"C\",AC15=\"D\",AC15=\"P\",AND(AC15>=0,AC15<=4,ISNUMBER(AC15))),IF(AG15<>\"\",AG15,3),\"\")","v":""}]
["AGEC",1113,null,null,0,"","",null,null,null,null,null,null,null,null,null,"AST",4101,null,0,"","",1,null,null,null,"AGCM",4300,null,0,"","",2]
["AGCM",3203,null,null,0,"","",null,null,null,null,null,null,null,null,null,"SOIL",2124,null,{"$f":"IF(W17<>\"\",W17,3)*IF(S17=\"A\",4,IF(S17=\"B\",3,IF(S17=\"C\",2,IF(S17=\"D\",1,IF(AND(S17>=0,S17<=4,ISNUMBER(S17)),S17,0)))))","v":0},{"$f":"IF(OR(S17=\"A\",S17=\"B\",S17=\"C\",S17=\"D\",S17=\"F\",AND(S17>=0,S17<=4,ISNUMBER(S17))),IF(W17<>\"\",W17,3),\"\")","v":""},{"$f":"IF(OR(S17=\"A\",S17=\"B\",S17=\"C\",S17=\"D\",S17=\"P\",AND(S17>=0,S17<=4,ISNUMBER(S17))),IF(W17<>\"\",W17,3),\"\")","v":""},4,null,null,null,"AGCM",4403,null,0,"",""]
["GENED",null,null,null,0,"","",null,null,null,null,null,null,null,null,null,"BIOL",1114,null,0,"","",4,null,null,null,"AGCM",4413,null,0,"",""]
["GENED",null,null,null,0,"","",null,null,null,null,null,null,null,null,null,"AGCM",2113,null,0,"","",null,null,null,null,null,null,null,0,"",""]
["(D)",null,null,null,{"$f":"IF(H20<>\"\",H20,3)*IF(C20=\"A\",4,IF(C20=\"B\",3,IF(C20=\"C\",2,IF(C20=\"D\",1,IF(AND(C20>=0,C20<=4,ISNUMBER(C20)),C20,0)))))","v":0},{"$f":"IF(OR(C20=\"A\",C20=\"B\",C20=\"C\",C20=\"D\",C20=\"F\",AND(C20>=0,C20<=4,ISNUMBER(C20))),IF(H20<>\"\",H20,3),\"\")","v":""},{"$f":"IF(OR(C20=\"A\",C20=\"B\",C20=\"C\",C20=\"D\",C20=\"P\",AND(C20>=0,C20<=4,ISNUMBER(C20))),IF(H20<>\"\",H20,3),\"\")","v":""},null,null,null,null,null,null,null,null,null,"AGCM",3113,null,{"$f":"IF(W20<>\"\",W20,3)*IF(S20=\"A\",4,IF(S20=\"B\",3,IF(S20=\"C\",2,IF(S20=\"D\",1,IF(AND(S20>=0,S20<=4,ISNUMBER(S20)),S20,0)))))","v":0},{"$f":"IF(OR(S20=\"A\",S20=\"B\",S20=\"C\",S20=\"D\",S20=\"F\",AND(S20>=0,S20<=4,ISNUMBER(S20))),IF(W20<>\"\",W20,3),\"\")","v":""},{"$f":"IF(OR(S20=\"A\",S20=\"B\",S20=\"C\",S20=\"D\",S20=\"P\",AND(S20>=0,S20<=4,ISNUMBER(S20))),IF(W20<>\"\",W20,3),\"\")","v":""}]
["(I)",null,null,null,0,"",""]
[null,null,null,null,null,null,null,null,null,null,null,null,null,null,null,null,null,null,null,null,null,null,null,"Graduate Semester"]
[null,null,null,null,null,null,null,null,null,null,null,null,null,null,null,null,"Credits and GPAs as of this date:",null,null,null,null,null,null,null,null,null,null,null,null,{"$f":"IF(AG23<>\"\",AG23,3)*IF(AC23=\"A\",4,IF(AC23=\"B\",3,IF(AC23=\"C\",2,IF(AC23=\"D\",1,IF(AND(AC23>=0,AC23<=4,ISNUMBER(AC23)),AC23,0)))))","v":0},{"$f":"IF(OR(AC23=\"A\",AC23=\"B\",AC23=\"C\",AC23=\"D\",AC23=\"F\",AND(AC23>=0,AC23<=4,ISNUMBER(AC23))),IF(AG23<>\"\",AG23,3),\"\")","v":""},{"$f":"IF(OR(AC23=\"A\",AC23=\"B\",AC23=\"C\",AC23=\"D\",AC23=\"P\",AND(AC23>=0,AC23<=4,ISNUMBER(AC23))),IF(AG23<>\"\",AG23,3),\"\")","v":""}]
["Elective Hours:",null,null,null,null,null,null,null,null,null,null,null,null,null,null,null,{"$f":"SUM(G7:G19,V7:V20,AF9:AF19,AF21:AF23,AF31:AF38,G27:G42,O27:O42)","v":0},null,"Hours for graduation"]
["Non-Ag",null,null,null,null,null,null,null,"Ag Electives",null,null,null,null,null,null,null,{"$f":"IF(SUM(F7:F19,U7:U20,AE9:AE19,,AE21:AE23,AE31:AE38,F27:F42,N27:N42)=0,\"N/A\",ROUNDDOWN(SUM(E7:E19,T7:T20,AD9:AD19,AD31:AD38,AD21:AD23,E27:E42,M27:M42)/SUM(F7:F19,U7:U20,AE21:AE23,AE9:AE19,AE31:AE38,F27:F42,N27:N42),2))","v":"N/A"},null,"Grad/Ret GPA",null,null,null,null,null,null,null,null,null,null,{"$f":"IF(AG25<>\"\",AG25,3)*IF(AC25=\"A\",4,IF(AC25=\"B\",3,IF(AC25=\"C\",2,IF(AC25=\"D\",1,IF(AND(AC25>=0,AC25<=4,ISNUMBER(AC25)),AC25,0)))))","v":0},{"$f":"IF(OR(AC25=\"A\",AC25=\"B\",AC25=\"C\",AC25=\"D\",AC25=\"F\",AND(AC25>=0,AC25<=4,ISNUMBER(AC25))),IF(AG25<>\"\",AG25,3),\"\")","v":""},{"$f":"IF(OR(AC25=\"A\",AC25=\"B\",AC25=\"C\",AC25=\"D\",AC25=\"P\",AND(AC25>=0,AC25<=4,ISNUMBER(AC25))),IF(AG25<>\"\",AG25,3),\"\")","v":""}]
["Course",null,"Grd","Cr",null,null,null,null,"Course",null,"Grd","Cr","GPts","GPACr","GrCr",null,{"$f":"SUMIF(B7:B19,\">2999\",F7:F19)+SUMIF(B27:B42,\">2999\",F27:F42)+SUMIF(J27:J42,\">2999\",L27:L42)+SUMIF(R7:R20,\">2999\",U7:U20)+SUMIF(AB9:AB19,\">2999\",AF9:AF19)+SUMIF(AB21:AB23,\">2999\",AF21:AF23)+SUMIF(AB31:AB38,\">2999\",AF31:AF38)","v":0},null,"UPPER DIV HOURS (40)"]
[null,null,null,null,{"$f":"D27*IF(OR(C27=\"A\",C27=\"RA\"),4,IF(OR(C27=\"B\",C27=\"RB\"),3,IF(OR(C27=\"C\",C27=\"RC\"),2,IF(OR(C27=\"D\",C27=\"RD\"),1,IF(AND(C27>=0,C27<=4,ISNUMBER(C27)),C27,0)))))","v":0},{"$f":"IF(OR(C27=\"\",D27=\"\"),\"\",IF(OR(C27=\"A\",C27=\"B\",C27=\"C\",C27=\"D\",C27=\"F\",C27=\"RA\",C27=\"RB\",C27=\"RC\",C27=\"RD\",C27=\"RF\",AND(C27>=0,C27<=4,ISNUMBER(C27))),D27,\"\"))","v":""},{"$f":"IF(OR(C27=\"\",D27=\"\"),\"\",IF(OR(C27=\"A\",C27=\"B\",C27=\"C\",C27=\"D\",C27=\"P\",AND(C27>=0,C27<=4,ISNUMBER(C27))),D27,\"\"))","v":""},null,null,null,null,null,{"$f":"L27*IF(OR(K27=\"A\",K27=\"RA\"),4,IF(OR(K27=\"B\",K27=\"RB\"),3,IF(OR(K27=\"C\",K27=\"RC\"),2,IF(OR(K27=\"D\",K27=\"RD\"),1,IF(AND(K27>=0,K27=4,ISNUMBER(K27)),K27,0)))))","v":0},{"$f":"IF(OR(K27=\"\",L27=\"\"),\"\",IF(OR(K27=\"A\",K27=\"B\",K27=\"C\",K27=\"D\",K27=\"F\",K27=\"RA\",K27=\"RB\",K27=\"RC\",K27=\"RD\",K27=\"RF\",AND(K27>=0,K27<=4,ISNUMBER(K27))),L27,\"\"))","v":""},{"$f":"IF(OR(K27=\"\",L27=\"\"),\"\",IF(OR(K27=\"A\",K27=\"B\",K27=\"C\",K27=\"D\",K27=\"P\",AND(K27>=0,K27<=4,ISNUMBER(K27))),L27,\"\"))","v":""},null,{"$f":"SUMIF(B7:B19,\">2999\",E7:E19)+SUMIF(B27:B42,\">2999\",E27:E42)+SUMIF(J27:J42,\">2999\",M27:O42)+SUMIF(R7:R20,\">2999\",T7:T20)+SUMIF(AB9:AB18,\">2999\",AD9:AD11)+SUMIF(AB21:AB23,\">2999\",AD21:AD23)+SUMIF(AB31:AB38,\">2999\",AD31:AD38)","v":0},null,"Upper div points (100)"]
[null,null,null,null,0,"","",null,null,null,null,null,0,"","",null,{"$f":"IF(SUM(Q27)=0,\"N/A\",Q27/Q26)","v":"N/A"},null,"Upper div GPA"]
[null,null,null,null,0,"","",null,null,null,null,null,0,"","",null,null,null,"60 Senior College Hours",null,null,null,null,null,null,null,"Professional Core: 27 Hours"]
[null,null,null,null,0,"","",null,null,null,null,null,0,"","",null,132,null,"HOURS NEEDED"]
[null,null,null,null,0,"","",null,null,null,null,null,0,"","",null,null,null,null,null,null,null,null,null,null,null,"AGED",3101,null,{"$f":"IF(AG31<>\"\",AG31,3)*IF(AC31=\"A\",4,IF(AC31=\"B\",3,IF(AC31=\"C\",2,IF(AC31=\"D\",1,IF(AND(AC31>=0,AC31<=4,ISNUMBER(AC31)),AC31,0)))))","v":0},{"$f":"IF(OR(AC31=\"A\",AC31=\"B\",AC31=\"C\",AC31=\"D\",AC31=\"F\",AND(AC31>=0,AC31<=4,ISNUMBER(AC31))),IF(AG31<>\"\",AG31,3),\"\")","v":""},{"$f":"IF(OR(AC31=\"A\",AC31=\"B\",AC31=\"C\",AC31=\"D\",AC31=\"P\",AND(AC31>=0,AC31<=4,ISNUMBER(AC31))),IF(AG31<>\"\",AG31,3),\"\")","v":""},1]
[null,null,null,null,0,"","",null,null,null,null,null,0,"","",null,"NOTES:",null,null,null,null,null,null,null,null,null,"AGED",3103,null,0,"",""]
[null,null,null,null,0,"","",null,null,null,null,null,0,"","",null,null,null,null,null,null,null,null,null,null,null,"AGED",3203,null,0,"",""]
[null,null,null,null,0,"","",null,null,null,null,null,0,"","",null,null,null,null,null,null,null,null,null,null,null,"AGED",4103,null,0,"",""]
[null,null,null,null,0,"","",null,null,null,null,null,0,"","",null,null,null,null,null,null,null,null,null,null,null,"AGED",4203,null,0,"",""]
[null,null,null,null,0,"","",null,null,null,null,null,0,"","",null,null,null,null,null,null,null,null,null,null,null,"AGED",4200,null,0,"","",9]
[null,null,null,null,0,"","",null,null,null,null,null,0,"","",null,null,null,null,null,null,null,null,null,null,null,"EPSY",3213,null,{"$f":"IF(AG37<>\"\",AG37,3)*IF(AC37=\"A\",4,IF(AC37=\"B\",3,IF(AC37=\"C\",2,IF(AC37=\"D\",1,IF(AND(AC37>=0,AC37<=4,ISNUMBER(AC37)),AC37,0)))))","v":0},{"$f":"IF(OR(AC37=\"A\",AC37=\"B\",AC37=\"C\",AC37=\"D\",AC37=\"F\",AND(AC37>=0,AC37<=4,ISNUMBER(AC37))),IF(AG37<>\"\",AG37,3),\"\")","v":""},{"$f":"IF(OR(AC37=\"A\",AC37=\"B\",AC37=\"C\",AC37=\"D\",AC37=\"P\",AND(AC37>=0,AC37<=4,ISNUMBER(AC37))),IF(AG37<>\"\",AG37,3),\"\")","v":""}]
[null,null,null,null,0,"","",null,null,null,null,null,0,"","",null,null,null,null,null,null,null,null,null,null,null,"SPED",3202,null,0,"","",2]
[null,null,null,null,0,"","",null,null,null,null,null,0,"",""]
[null,null,null,null,0,"","",null,null,null,null,null,0,"",""]
[null,null,null,null,0,"","",null,null,null,null,null,0,"",""]
[null,null,null,null,0,"","",null,null,null,null,null,0,"",""]

{"sheet":"GRAD CHECK","index":1,"n_rows":45,"n_cols":6,"rows_kept":45,"cut":false,"hidden":false,"merged":[[20,2,20,3],[0,0,0,5],[1,0,1,5],[2,0,2,5],[6,1,6,3],[6,4,6,5],[9,1,9,3],[12,1,12,3],[12,4,12,6],[13,1,13,2],[15,1,15,2],[17,1,18,3],[44,1,44,8],[24,1,24,5],[27,1,27,2],[28,1,28,3],[28,4,28,5],[38,1,38,8],[41,1,41,8]]}
["GRADUATION CHECK"]
["By"]
["COLLEGE OF AGRICULTURAL SCIENCES AND NATURAL RESOURCES"]
[]
[]
["Name:",null,null,null,"Date:"]
[null,{"$f":"'AGED-AGCM'!B1:Q1","v":"Name, Student's"}]
[]
["ID:",null,null,null,"Graduation Date:"]
[null,{"$f":"'AGED-AGCM'!S1","v":"999-999-99"},null,null,{"$f":"'AGED-AGCM'!Q22","v":"00:00:00"}]
[]
["EMAIL:",null,null,null,"Major:"]
[null,null,null,null,{"$f":"'AGED-AGCM'!Z1","v":"AGED-AGCM"}]
[]
["Advisor:",null,null,null,"Grad/Ret GPA:"]
[null,{"$f":"'AGED-AGCM'!AG1","v":"ADVISOR"},null,null,{"$f":"'AGED-AGCM'!Q25","v":"N/A"}]
[]
[null,"REMINDER:",null,null,"Upper Division GPA:"]
[null,null,null,null,{"$f":"'AGED-AGCM'!Q28","v":"N/A"}]
["Total Hours to Date:",null,{"$f":"'AGED-AGCM'!Q24","v":0},null,"Total  Upper Div Hours to Date:",{"$f":"'AGED-AGCM'!Q26","v":0}]
["Current Enrollment:",null,null,null,"Total  Upper Div Points to Date:",{"$f":"'AGED-AGCM'!Q27","v":0}]
[]
["Deficiencies/Remaining Hours:"]
[]
[]
[]
["Hours Needed from a 4 yr. School: ",null,null,null,"Upper Div. hours & points needed: "]
[]
[]
[]
["Number of hours needed to complete requirements:"]
[null,null,null,null,"(hrs. = current courses + deficiencies)"]
[]
[]
[]
[]
[]
["APPROVED BY:"]
[null,"________________________________________________________________________ Adviser/Date Signed"]
[]
[]
[null,"_______________________________________________________________ Department Head/Date Signed"]
[]
[]
[null,"____________________________________________________________________ Assoc. Dean/Date Signed"]

{"sheet":"ADVISOR'S NOTES","index":2,"n_rows":1,"n_cols":2,"rows_kept":1,"cut":false,"hidden":false,"merged":[]}
["DATE","NOTES"]

{"sheet":"CourseLeaf Degree Sheet","index":3,"n_rows":0,"n_cols":0,"rows_kept":0,"cut":false,"hidden":false,"merged":[]}