{"text_format":"1","workbook":"xlsx","n_sheets":4,"sheets":["ENVR-NATR","GRAD CHECK","ADVISOR'S NOTES","CONCENTRATION SHEET"],"not_rendered":{"charts":0,"images":1,"macros":0,"external_links":0,"defined_names":2,"comments":1,"pivot_tables":0},"unopened":[],"bounds":{"document_bytes":16777216,"sheet_cells":100000,"rows_first":2000,"rows_last":500,"rows_between":2000,"halvings":0,"cell_chars":16384,"cell_head_chars":4096},"cells_cut":0,"cells_raw":0,"read":"whole","date_system":"1900"}

{"sheet":"ENVR-NATR","index":0,"n_rows":44,"n_cols":35,"rows_kept":44,"cut":false,"hidden":false,"merged":[[20,16,20,22],[38,33,38,34],[11,33,11,34],[18,33,18,34],[28,16,28,17],[19,33,19,34],[24,0,24,11],[24,16,24,17],[25,16,25,17],[26,16,26,17],[27,16,27,17],[22,2,22,3],[22,8,22,11],[22,16,22,17],[23,2,23,3],[23,8,23,11],[23,16,23,17],[21,2,21,3],[21,8,21,11],[15,2,15,3],[15,8,15,11],[18,2,18,3],[18,8,18,11],[17,2,17,3],[17,8,17,11],[16,2,16,3],[16,8,16,11],[19,2,19,3],[19,8,19,11],[20,2,20,3],[20,8,20,11],[14,2,14,3],[14,8,14,11],[11,2,11,3],[11,8,11,11],[13,2,13,3],[13,8,13,11],[12,2,12,3],[12,8,12,11],[10,2,10,3],[10,8,10,11],[12,33,12,34],[9,2,9,3],[9,8,9,11],[10,33,10,34],[9,33,9,34],[0,18,0,24],[0,32,0,34],[6,2,6,3],[6,8,6,11],[6,23,6,24],[0,1,0,16],[7,2,7,3],[7,8,7,11],[8,33,8,34],[8,2,8,3],[8,8,8,11]]}
["NAME:","Name, Student's",null,null,null,null,null,null,null,null,null,null,null,null,null,null,null,"ID:","999-99-999",null,null,null,null,null,null,"ENVR-ENVP",null,null,"ADV:",null,null,null,"AdvisorName"]
[]
["General Education Requirements: 40 Hours",null,null,null,null,null,null,null,null,null,null,null,null,null,null,null,"College/Dept. Requirements: 41 Hours",null,null,null,null,null,null,null,null,null,"Major Requirements: 43 Hours",null,null,null,null,null,null,null,"2017-18"]
[]
["Course",null,"Grade",null,"GPts","GPACr","GrCr",null,null,"Deviation",null,null,null,null,null,null,"Course",null,"Grade","GPts","GPACr","GrCr",null,"Deviation",null,null,"Course",null,"Grade","GPts","GPACr","GrCr",null,"Deviation"]
[]
["ENGL ",1113,null,null,{"$f":"IF(H7<>\"\",H7,3)*IF(C7=\"A\",4,IF(C7=\"B\",3,IF(C7=\"C\",2,IF(C7=\"D\",1,IF(AND(C7>=0,C7<=4,ISNUMBER(C7)),C7,0)))))","v":0},{"$f":"IF(OR(C7=\"A\",C7=\"B\",C7=\"C\",C7=\"D\",C7=\"F\",AND(C7>=0,C7<=4,ISNUMBER(C7))),IF(H7<>\"\",H7,3),\"\")","v":""},{"$f":"IF(OR(C7=\"A\",C7=\"B\",C7=\"C\",C7=\"D\",C7=\"P\",AND(C7>=0,C7<=4,ISNUMBER(C7))),IF(H7<>\"\",H7,3),\"\")","v":""},null,null,null,null,null,null,null,null,null,"AG",1011,null,{"$f":"IF(W7<>\"\",W7,3)*IF(S7=\"A\",4,IF(S7=\"B\",3,IF(S7=\"C\",2,IF(S7=\"D\",1,IF(AND(S7>=0,S7<=4,ISNUMBER(S7)),S7,0)))))","v":0},{"$f":"IF(OR(S7=\"A\",S7=\"B\",S7=\"C\",S7=\"D\",S7=\"F\",AND(S7>=0,S7<=4,ISNUMBER(S7))),IF(W7<>\"\",W7,3),\"\")","v":""},{"$f":"IF(OR(S7=\"A\",S7=\"B\",S7=\"C\",S7=\"D\",S7=\"P\",AND(S7>=0,S7<=4,ISNUMBER(S7))),IF(W7<>\"\",W7,3),\"\")","v":""},1,null,null,null,"CORE COURSES: 23 Hours"]
["ENGL ",1213,null,null,0,"","",null,null,null,null,null,null,null,null,null,"ENVR",1113,null,0,"",""]
["HIST",1103,null,null,0,"","",null,null,null,null,null,null,null,null,null,"SOIL",2124,null,{"$f":"IF(W9<>\"\",W9,3)*IF(S9=\"A\",4,IF(S9=\"B\",3,IF(S9=\"C\",2,IF(S9=\"D\",1,IF(AND(S9>=0,S9<=4,ISNUMBER(S9)),S9,0)))))","v":0},{"$f":"IF(OR(S9=\"A\",S9=\"B\",S9=\"C\",S9=\"D\",S9=\"F\",AND(S9>=0,S9<=4,ISNUMBER(S9))),IF(W9<>\"\",W9,3),\"\")","v":""},{"$f":"IF(OR(S9=\"A\",S9=\"B\",S9=\"C\",S9=\"D\",S9=\"P\",AND(S9>=0,S9<=4,ISNUMBER(S9))),IF(W9<>\"\",W9,3),\"\")","v":""},4,null,null,null,"AGEC",3503,null,{"$f":"IF(AG9<>\"\",AG9,3)*IF(AC9=\"A\",4,IF(AC9=\"B\",3,IF(AC9=\"C\",2,IF(AC9=\"D\",1,IF(AND(AC9>=0,AC9<=4,ISNUMBER(AC9)),AC9,0)))))","v":0},{"$f":"IF(OR(AC9=\"A\",AC9=\"B\",AC9=\"C\",AC9=\"D\",AC9=\"F\",AND(AC9>=0,AC9<=4,ISNUMBER(AC9))),IF(AG9<>\"\",AG9,3),\"\")","v":""},{"$f":"IF(OR(AC9=\"A\",AC9=\"B\",AC9=\"C\",AC9=\"D\",AC9=\"P\",AND(AC9>=0,AC9<=4,ISNUMBER(AC9))),IF(AG9<>\"\",AG9,3),\"\")","v":""}]
["POLS",1113,null,null,0,"","",null,null,null,null,null,null,null,null,null,"CHEM",3013,null,0,"","",null,null,null,null,"BIOL",3034,null,0,"","",4]
["STAT",2013,null,null,0,"","",null,null,null,null,null,null,null,null,null,"BOT",1404,null,0,"","",4,null,null,null,"ENVR",3113,null,0,"",""]
["(H)",null,null,null,0,"","",null,null,null,null,null,null,null,null,null,"CHEM",1314,null,{"$f":"IF(W12<>\"\",W12,3)*IF(S12=\"A\",4,IF(S12=\"B\",3,IF(S12=\"C\",2,IF(S12=\"D\",1,IF(AND(S12>=0,S12<=4,ISNUMBER(S12)),S12,0)))))","v":0},{"$f":"IF(OR(S12=\"A\",S12=\"B\",S12=\"C\",S12=\"D\",S12=\"F\",AND(S12>=0,S12<=4,ISNUMBER(S12))),IF(W12<>\"\",W12,3),\"\")","v":""},{"$f":"IF(OR(S12=\"A\",S12=\"B\",S12=\"C\",S12=\"D\",S12=\"P\",AND(S12>=0,S12<=4,ISNUMBER(S12))),IF(W12<>\"\",W12,3),\"\")","v":""},4,null,null,null,"ENVR",4811,null,{"$f":"IF(AG12<>\"\",AG12,3)*IF(AC12=\"A\",4,IF(AC12=\"B\",3,IF(AC12=\"C\",2,IF(AC12=\"D\",1,IF(AND(AC12>=0,AC12<=4,ISNUMBER(AC12)),AC12,0)))))","v":0},{"$f":"IF(OR(AC12=\"A\",AC12=\"B\",AC12=\"C\",AC12=\"D\",AC12=\"F\",AND(AC12>=0,AC12<=4,ISNUMBER(AC12))),IF(AG12<>\"\",AG12,3),\"\")","v":""},{"$f":"IF(OR(AC12=\"A\",AC12=\"B\",AC12=\"C\",AC12=\"D\",AC12=\"P\",AND(AC12>=0,AC12<=4,ISNUMBER(AC12))),IF(AG12<>\"\",AG12,3),\"\")","v":""},1]
["(H)",null,null,null,{"$f":"IF(H13<>\"\",H13,3)*IF(C13=\"A\",4,IF(C13=\"B\",3,IF(C13=\"C\",2,IF(C13=\"D\",1,IF(AND(C13>=0,C13<=4,ISNUMBER(C13)),C13,0)))))","v":0},{"$f":"IF(OR(C13=\"A\",C13=\"B\",C13=\"C\",C13=\"D\",C13=\"F\",AND(C13>=0,C13<=4,ISNUMBER(C13))),IF(H13<>\"\",H13,3),\"\")","v":""},{"$f":"IF(OR(C13=\"A\",C13=\"B\",C13=\"C\",C13=\"D\",C13=\"P\",AND(C13>=0,C13<=4,ISNUMBER(C13))),IF(H13<>\"\",H13,3),\"\")","v":""},null,null,null,null,null,null,null,null,null,"CHEM",1515,null,0,"","",5,null,null,null,"ENVR",4813,null,{"$f":"IF(AG13<>\"\",AG13,3)*IF(AC13=\"A\",4,IF(AC13=\"B\",3,IF(AC13=\"C\",2,IF(AC13=\"D\",1,IF(AND(AC13>=0,AC13<=4,ISNUMBER(AC13)),AC13,0)))))","v":0},{"$f":"IF(OR(AC13=\"A\",AC13=\"B\",AC13=\"C\",AC13=\"D\",AC13=\"F\",AND(AC13>=0,AC13<=4,ISNUMBER(AC13))),IF(AG13<>\"\",AG13,3),\"\")","v":""},{"$f":"IF(OR(AC13=\"A\",AC13=\"B\",AC13=\"C\",AC13=\"D\",AC13=\"P\",AND(AC13>=0,AC13<=4,ISNUMBER(AC13))),IF(AG13<>\"\",AG13,3),\"\")","v":""}]
["(N)",null,null,null,0,"","",null,null,null,null,null,null,null,null,null,"GEOL",1114,null,{"$f":"IF(W14<>\"\",W14,3)*IF(S14=\"A\",4,IF(S14=\"B\",3,IF(S14=\"C\",2,IF(S14=\"D\",1,IF(AND(S14>=0,S14<=4,ISNUMBER(S14)),S14,0)))))","v":0},{"$f":"IF(OR(S14=\"A\",S14=\"B\",S14=\"C\",S14=\"D\",S14=\"F\",AND(S14>=0,S14<=4,ISNUMBER(S14))),IF(W14<>\"\",W14,3),\"\")","v":""},{"$f":"IF(OR(S14=\"A\",S14=\"B\",S14=\"C\",S14=\"D\",S14=\"P\",AND(S14>=0,S14<=4,ISNUMBER(S14))),IF(W14<>\"\",W14,3),\"\")","v":""},4,null,null,null,"NREM",4043,null,{"$f":"IF(AG14<>\"\",AG14,3)*IF(AC14=\"A\",4,IF(AC14=\"B\",3,IF(AC14=\"C\",2,IF(AC14=\"D\",1,IF(AND(AC14>=0,AC14<=4,ISNUMBER(AC14)),AC14,0)))))","v":0},{"$f":"IF(OR(AC14=\"A\",AC14=\"B\",AC14=\"C\",AC14=\"D\",AC14=\"F\",AND(AC14>=0,AC14<=4,ISNUMBER(AC14))),IF(AG14<>\"\",AG14,3),\"\")","v":""},{"$f":"IF(OR(AC14=\"A\",AC14=\"B\",AC14=\"C\",AC14=\"D\",AC14=\"P\",AND(AC14>=0,AC14<=4,ISNUMBER(AC14))),IF(AG14<>\"\",AG14,3),\"\")","v":""}]
["BIOL",1114,null,null,0,"","",4,null,null,null,null,null,null,null,null,"PHYS",1114,null,0,"","",4,null,null,null,"NREM",4443,null,{"$f":"IF(AG15<>\"\",AG15,3)*IF(AC15=\"A\",4,IF(AC15=\"B\",3,IF(AC15=\"C\",2,IF(AC15=\"D\",1,IF(AND(AC15>=0,AC15<=4,ISNUMBER(AC15)),AC15,0)))))","v":0},{"$f":"IF(OR(AC15=\"A\",AC15=\"B\",AC15=\"C\",AC15=\"D\",AC15=\"F\",AND(AC15>=0,AC15<=4,ISNUMBER(AC15))),IF(AG15<>\"\",AG15,3),\"\")","v":""},{"$f":"IF(OR(AC15=\"A\",AC15=\"B\",AC15=\"C\",AC15=\"D\",AC15=\"P\",AND(AC15>=0,AC15<=4,ISNUMBER(AC15))),IF(AG15<>\"\",AG15,3),\"\")","v":""}]
["AGEC",1113,null,null,0,"","",null,null,null,null,null,null,null,null,null,"MATH",1513,null,0,"","",null,null,null,null,"ENVR",4893,null,{"$f":"IF(AG16<>\"\",AG16,3)*IF(AC16=\"A\",4,IF(AC16=\"B\",3,IF(AC16=\"C\",2,IF(AC16=\"D\",1,IF(AND(AC16>=0,AC16<=4,ISNUMBER(AC16)),AC16,0)))))","v":0},{"$f":"IF(OR(AC16=\"A\",AC16=\"B\",AC16=\"C\",AC16=\"D\",AC16=\"F\",AND(AC16>=0,AC16<=4,ISNUMBER(AC16))),IF(AG16<>\"\",AG16,3),\"\")","v":""},{"$f":"IF(OR(AC16=\"A\",AC16=\"B\",AC16=\"C\",AC16=\"D\",AC16=\"P\",AND(AC16>=0,AC16<=4,ISNUMBER(AC16))),IF(AG16<>\"\",AG16,3),\"\")","v":""}]
["AGCM",3203,null,null,0,"","",null,null,null,null,null,null,null,null,null,"MATH",2103,null,0,"",""]
["GENED",null,null,null,{"$f":"IF(H18<>\"\",H18,3)*IF(C18=\"A\",4,IF(C18=\"B\",3,IF(C18=\"C\",2,IF(C18=\"D\",1,IF(AND(C18>=0,C18<=4,ISNUMBER(C18)),C18,0)))))","v":0},{"$f":"IF(OR(C18=\"A\",C18=\"B\",C18=\"C\",C18=\"D\",C18=\"F\",AND(C18>=0,C18<=4,ISNUMBER(C18))),IF(H18<>\"\",H18,3),\"\")","v":""},{"$f":"IF(OR(C18=\"A\",C18=\"B\",C18=\"C\",C18=\"D\",C18=\"P\",AND(C18>=0,C18<=4,ISNUMBER(C18))),IF(H18<>\"\",H18,3),\"\")","v":""},null,null,null,null,null,null,null,null,null,"AGCM",3103,null,0,"","",null,null,null,null,"9 HOURS ADDITIONAL CORE"]
["GENED",null,null,null,{"$f":"IF(H19<>\"\",H19,3)*IF(C19=\"A\",4,IF(C19=\"B\",3,IF(C19=\"C\",2,IF(C19=\"D\",1,IF(AND(C19>=0,C19<=4,ISNUMBER(C19)),C19,0)))))","v":0},{"$f":"IF(OR(C19=\"A\",C19=\"B\",C19=\"C\",C19=\"D\",C19=\"F\",AND(C19>=0,C19<=4,ISNUMBER(C19))),IF(H19<>\"\",H19,3),\"\")","v":""},{"$f":"IF(OR(C19=\"A\",C19=\"B\",C19=\"C\",C19=\"D\",C19=\"P\",AND(C19>=0,C19<=4,ISNUMBER(C19))),IF(H19<>\"\",H19,3),\"\")","v":""},null,null,null,null,null,null,null,null,null,null,null,null,{"$f":"IF(W19<>\"\",W19,3)*IF(S19=\"A\",4,IF(S19=\"B\",3,IF(S19=\"C\",2,IF(S19=\"D\",1,IF(AND(S19>=0,S19<=4,ISNUMBER(S19)),S19,0)))))","v":0},{"$f":"IF(OR(S19=\"A\",S19=\"B\",S19=\"C\",S19=\"D\",S19=\"F\",AND(S19>=0,S19<=4,ISNUMBER(S19))),IF(W19<>\"\",W19,3),\"\")","v":""},{"$f":"IF(OR(S19=\"A\",S19=\"B\",S19=\"C\",S19=\"D\",S19=\"P\",AND(S19>=0,S19<=4,ISNUMBER(S19))),IF(W19<>\"\",W19,3),\"\")","v":""},null,null,null,null,"AGEC",4503,null,{"$f":"IF(AG19<>\"\",AG19,3)*IF(AC19=\"A\",4,IF(AC19=\"B\",3,IF(AC19=\"C\",2,IF(AC19=\"D\",1,IF(AND(AC19>=0,AC19<=4,ISNUMBER(AC19)),AC19,0)))))","v":0},{"$f":"IF(OR(AC19=\"A\",AC19=\"B\",AC19=\"C\",AC19=\"D\",AC19=\"F\",AND(AC19>=0,AC19<=4,ISNUMBER(AC19))),IF(AG19<>\"\",AG19,3),\"\")","v":""},{"$f":"IF(OR(AC19=\"A\",AC19=\"B\",AC19=\"C\",AC19=\"D\",AC19=\"P\",AND(AC19>=0,AC19<=4,ISNUMBER(AC19))),IF(AG19<>\"\",AG19,3),\"\")","v":""}]
["(I)",null,null,null,0,"","",null,null,null,null,null,null,null,null,null,null,null,null,null,null,null,null,null,null,null,"NREM",4023,null,{"$f":"IF(AG20<>\"\",AG20,3)*IF(AC20=\"A\",4,IF(AC20=\"B\",3,IF(AC20=\"C\",2,IF(AC20=\"D\",1,IF(AND(AC20>=0,AC20<=4,ISNUMBER(AC20)),AC20,0)))))","v":0},{"$f":"IF(OR(AC20=\"A\",AC20=\"B\",AC20=\"C\",AC20=\"D\",AC20=\"F\",AND(AC20>=0,AC20<=4,ISNUMBER(AC20))),IF(AG20<>\"\",AG20,3),\"\")","v":""},{"$f":"IF(OR(AC20=\"A\",AC20=\"B\",AC20=\"C\",AC20=\"D\",AC20=\"P\",AND(AC20>=0,AC20<=4,ISNUMBER(AC20))),IF(AG20<>\"\",AG20,3),\"\")","v":""}]
["(D)",null,null,null,0,"","",null,null,null,null,null,null,null,null,null,null,null,null,null,null,null,null,"Graduate Semester",null,null,"SOC",4433,null,{"$f":"IF(AG21<>\"\",AG21,3)*IF(AC21=\"A\",4,IF(AC21=\"B\",3,IF(AC21=\"C\",2,IF(AC21=\"D\",1,IF(AND(AC21>=0,AC21<=4,ISNUMBER(AC21)),AC21,0)))))","v":0},{"$f":"IF(OR(AC21=\"A\",AC21=\"B\",AC21=\"C\",AC21=\"D\",AC21=\"F\",AND(AC21>=0,AC21<=4,ISNUMBER(AC21))),IF(AG21<>\"\",AG21,3),\"\")","v":""},{"$f":"IF(OR(AC21=\"A\",AC21=\"B\",AC21=\"C\",AC21=\"D\",AC21=\"P\",AND(AC21>=0,AC21<=4,ISNUMBER(AC21))),IF(AG21<>\"\",AG21,3),\"\")","v":""}]
[null,null,null,null,0,"","",null,null,null,null,null,null,null,null,null,"Credits and GPAs as of this date:"]
[null,null,null,null,0,"","",null,null,null,null,null,null,null,null,null,{"$f":"SUM(G7:G24,V7:V19,AF9:AF16,AF19:AF21,AF32:AF37,G29:G44,O29:O44)","v":0},null,"Hours for graduation",null,null,null,null,null,null,null,"11 HOURS OF RELATED COURSES FROM:"]
[null,null,null,null,0,"","",null,null,null,null,null,null,null,null,null,{"$f":"IF(SUM(F7:F24,U7:U19,AE9:AE16,AE19:AE21,AE32:AE37, F29:F44,N29:N44)=0,\"N/A\",ROUNDDOWN(SUM(E7:E24,T7:T19,AD9:AD16,AD19:AD21,AD32:AD37,E29:E44,M29:M44)/SUM(F7:F24,U7:U19,AE9:AE16,AE19:AE21,AE32:AE37,F29:F44,N29:N44),2))","v":"N/A"},null,"Grad/Ret GPA"]
[null,null,null,null,null,null,null,null,null,null,null,null,null,null,null,null,{"$f":"SUMIF(B7:B24,\">2999\",F7:F24)+SUMIF(B29:B44,\">2999\",F29:F44)+SUMIF(J29:J44,\">2999\",N29:N44)+SUMIF(R7:R19,\">2999\",U7:U19)+SUMIF(AB9:AB16,\">2999\",AE9:AE16)+SUMIF(AB19:AB21,\">2999\",AE19:AE21)+SUMIF(AB32:AB37,\">2999\",AE32:AE37)","v":0},null,"UPPER DIV HOURS (40)"]
["Elective Hours:",null,null,null,null,null,null,null,null,null,null,null,null,null,null,null,{"$f":"SUMIF(B7:B24,\">2999\",E7:E24)+SUMIF(B29:B44,\">2999\",E29:E44)+SUMIF(J29:J44,\">2999\",M29:M44)+SUMIF(R7:R19,\">2999\",T7:T19)+SUMIF(AB9:AB16,\">2999\",AD9:AD16)+SUMIF(AB19:AB21,\">2999\",AD19:AD21)+SUMIF(AB32:AB37,\">2999\",AD32:AD37)","v":0},null,"Upper div points (100)"]
["Non-Ag",null,null,null,null,null,null,null,"Ag Elect ",null,null,null,null,null,null,null,{"$f":"IF(SUM(Q26)=0,\"N/A\",Q26/Q25)","v":"N/A"},null,"Upper div GPA"]
["Course",null,"Grd","Cr",null,null,null,null,"Course",null,"Grd","Cr","GPts","GPACr","GrCr",null,null,null,"60 Senior College Hours"]
[null,null,null,null,{"$f":"D29*IF(OR(C29=\"A\",C29=\"RA\"),4,IF(OR(C29=\"B\",C29=\"RB\"),3,IF(OR(C29=\"C\",C29=\"RC\"),2,IF(OR(C29=\"D\",C29=\"RD\"),1,IF(AND(C29>=0,C29<=4,ISNUMBER(C29)),C29,0)))))","v":0},{"$f":"IF(OR(C29=\"\",D29=\"\"),\"\",IF(OR(C29=\"A\",C29=\"B\",C29=\"C\",C29=\"D\",C29=\"F\",C29=\"RA\",C29=\"RB\",C29=\"RC\",C29=\"RD\",C29=\"RF\",AND(C29>=0,C29<=4,ISNUMBER(C29))),D29,\"\"))","v":""},{"$f":"IF(OR(C29=\"\",D29=\"\"),\"\",IF(OR(C29=\"A\",C29=\"B\",C29=\"C\",C29=\"D\",C29=\"P\",AND(C29>=0,C29<=4,ISNUMBER(C29))),D29,\"\"))","v":""},null,null,null,null,null,{"$f":"L29*IF(OR(K29=\"A\",K29=\"RA\"),4,IF(OR(K29=\"B\",K29=\"RB\"),3,IF(OR(K29=\"C\",K29=\"RC\"),2,IF(OR(K29=\"D\",K29=\"RD\"),1,IF(AND(K29>=0,K29=4,ISNUMBER(K29)),K29,0)))))","v":0},{"$f":"IF(OR(K29=\"\",L29=\"\"),\"\",IF(OR(K29=\"A\",K29=\"B\",K29=\"C\",K29=\"D\",K29=\"F\",K29=\"RA\",K29=\"RB\",K29=\"RC\",K29=\"RD\",K29=\"RF\",AND(K29>=0,K29<=4,ISNUMBER(K29))),L29,\"\"))","v":""},{"$f":"IF(OR(K29=\"\",L29=\"\"),\"\",IF(OR(K29=\"A\",K29=\"B\",K29=\"C\",K29=\"D\",K29=\"P\",AND(K29>=0,K29<=4,ISNUMBER(K29))),L29,\"\"))","v":""},null,124,null,"HOURS NEEDED"]
[null,null,null,null,0,"","",null,null,null,null,null,0,"","",null,"NOTES:"]
[null,null,null,null,0,"","",null,null,null,null,null,0,"",""]
[null,null,null,null,0,"","",null,null,null,null,null,0,"","",null,null,null,null,null,null,null,null,null,null,null,null,null,null,{"$f":"IF(AG32<>\"\",AG32,3)*IF(AC32=\"A\",4,IF(AC32=\"B\",3,IF(AC32=\"C\",2,IF(AC32=\"D\",1,IF(AND(AC32>=0,AC32<=4,ISNUMBER(AC32)),AC32,0)))))","v":0},{"$f":"IF(OR(AC32=\"A\",AC32=\"B\",AC32=\"C\",AC32=\"D\",AC32=\"F\",AND(AC32>=0,AC32<=4,ISNUMBER(AC32))),IF(AG32<>\"\",AG32,3),\"\")","v":""},{"$f":"IF(OR(AC32=\"A\",AC32=\"B\",AC32=\"C\",AC32=\"D\",AC32=\"P\",AND(AC32>=0,AC32<=4,ISNUMBER(AC32))),IF(AG32<>\"\",AG32,3),\"\")","v":""}]
[null,null,null,null,0,"","",null,null,null,null,null,0,"","",null,null,null,null,null,null,null,null,null,null,null,null,null,null,0,"",""]
[null,null,null,null,0,"","",null,null,null,null,null,0,"","",null,null,null,null,null,null,null,null,null,null,null,null,null,null,0,"",""]
[null,null,null,null,0,"","",null,null,null,null,null,0,"","",null,null,null,null,null,null,null,null,null,null,null,null,null,null,{"$f":"IF(AG35<>\"\",AG35,3)*IF(AC35=\"A\",4,IF(AC35=\"B\",3,IF(AC35=\"C\",2,IF(AC35=\"D\",1,IF(AND(AC35>=0,AC35<=4,ISNUMBER(AC35)),AC35,0)))))","v":0},{"$f":"IF(OR(AC35=\"A\",AC35=\"B\",AC35=\"C\",AC35=\"D\",AC35=\"F\",AND(AC35>=0,AC35<=4,ISNUMBER(AC35))),IF(AG35<>\"\",AG35,3),\"\")","v":""},{"$f":"IF(OR(AC35=\"A\",AC35=\"B\",AC35=\"C\",AC35=\"D\",AC35=\"P\",AND(AC35>=0,AC35<=4,ISNUMBER(AC35))),IF(AG35<>\"\",AG35,3),\"\")","v":""}]
[null,null,null,null,0,"","",null,null,null,null,null,0,"","",null,null,null,null,null,null,null,null,null,null,null,null,null,null,0,"",""]
[null,null,null,null,0,"","",null,null,null,null,null,0,"","",null,null,null,null,null,null,null,null,null,null,null,null,null,null,0,"",""]
[null,null,null,null,0,"","",null,null,null,null,null,0,"",""]
[null,null,null,null,0,"","",null,null,null,null,null,0,"",""]
[null,null,null,null,0,"","",null,null,null,null,null,0,"",""]
[null,null,null,null,0,"","",null,null,null,null,null,0,"",""]
[null,null,null,null,0,"","",null,null,null,null,null,0,"",""]
[null,null,null,null,0,"","",null,null,null,null,null,0,"",""]
[null,null,null,null,0,"","",null,null,null,null,null,0,"",""]

{"sheet":"GRAD CHECK","index":1,"n_rows":45,"n_cols":6,"rows_kept":45,"cut":false,"hidden":false,"merged":[[44,1,44,8],[24,1,24,5],[27,1,27,2],[28,1,28,3],[28,4,28,5],[38,1,38,8],[41,1,41,8],[20,2,20,3],[0,0,0,5],[1,0,1,5],[2,0,2,5],[6,1,6,3],[6,4,6,5],[9,1,9,3],[12,1,12,3],[12,4,12,6],[13,1,13,2],[15,1,15,2],[18,1,18,2]]}
["GRADUATION CHECK"]
["By"]
["COLLEGE OF AGRICULTURAL SCIENCES AND NATURAL RESOURCES"]
[]
[]
["Name:",null,null,null,"Date:"]
[null,{"$f":"'ENVR-NATR'!B1","v":"Name, Student's"}]
[]
["ID:",null,null,null,"Graduation Date:"]
[null,{"$f":"'ENVR-NATR'!S1","v":"999-99-999"},null,null,{"$f":"'ENVR-NATR'!Q21","v":"00:00:00"}]
[]
["EMAIL:",null,null,null,"Major:"]
[null,null,null,null,{"$f":"'ENVR-NATR'!Z1","v":"ENVR-ENVP"}]
[]
["Advisor:",null,null,null,"Grad/Ret GPA:"]
[null,{"$f":"'ENVR-NATR'!AG1","v":"AdvisorName"},null,null,{"$f":"'ENVR-NATR'!Q24","v":"N/A"}]
[]
[null,"REMINDER:",null,null,"Upper Division GPA:"]
[null,null,null,null,{"$f":"'ENVR-NATR'!Q27","v":"N/A"}]
["Total Hours to Date:",null,{"$f":"'ENVR-NATR'!Q23","v":0},null,"Total  Upper Div Hours to Date:",{"$f":"'ENVR-NATR'!Q25","v":0}]
["Current Enrollment:",null,null,null,"Total  Upper Div Points to Date:",{"$f":"'ENVR-NATR'!Q26","v":0}]
[]
["Deficiencies/Remaining Hours:"]
[]
[]
[]
["Hours Needed from a 4 yr. School: ",null,null,null,"Upper Div. hours & points needed: "]
[]
[]
[]
["Number of hours needed to complete requirements:"]
[null,null,null,null,"(hrs. = current enrollment + deficiencies)"]
[]
[]
[]
[]
[]
["APPROVED BY:"]
[null,"________________________________________________________________________ Adviser/Date Signed"]
[]
[]
[null,"_______________________________________________________________ Department Head/Date Signed"]
[]
[]
[null,"____________________________________________________________________ Assoc. Dean/Date Signed"]

{"sheet":"ADVISOR'S NOTES","index":2,"n_rows":1,"n_cols":2,"rows_kept":1,"cut":false,"hidden":false,"merged":[]}
["DATE","NOTES"]

{"sheet":"CONCENTRATION SHEET","index":3,"n_rows":39,"n_cols":3,"rows_kept":39,"cut":false,"hidden":false,"merged":[[25,0,25,2],[26,0,26,2],[27,0,27,2],[28,1,29,1],[30,1,37,1],[24,0,24,2],[11,0,11,2],[17,1,19,1],[17,2,19,2],[22,0,22,2],[23,0,23,2]]}
[]
[]
[]
[]
[]
[]
[]
[]
[]
[]
[]
["General Education Requirements:  40 Hours"]
["Area","Hours","To be selected from:"]
["English Composition ",6,"ENGL 1113 or 1313; & 1213 or 1413 or 3323 (See Academic Regulation 3.5 in Catalog) "]
["American History & Government",6,"HIST 1103(or 1483 or 1493); POLS 1113"]
["Analytical & Quantitative Thought (A)",3,"STAT 2013*"]
["Humanities (H)",6,"Courses designated (H)"]
["Natural Sciences (N)",7,"BIOL 1114*, course designated (N)"]
["   Must include one Laboratory"]
["   Science (L) course."]
["Social & Behavioral Sciences (S)",6,"AGEC 1113*; AGCM 3203* or SPCH 2713*"]
["Additional General Education",6,"Courses designated A, H, N, or S"]
["Diversity (D) & International Dimension(I)"]
["May be completed in any part of the degree plan."]
["At least one Diversity (D) course"]
["At least one International Dimension (I) course"]
["*College & Departmental requirements that may be used to meet GE requirements."]
["College/Departmental Requirements:  41 Hours"]
["Agricultural Sciences and",11,"AG 1011; ENVR 1113; SOIL 2124; "]
["Natural Resources ",null,"CHEM 3013 (or BIOC 2344 or CHEM3015)"]
["Additional Requirements",27]
["(If CHEM1414 taken, then must have both CHEM3015 and BIOC2344)",null,"BOT 1404 "]
[null,null,"CHEM 1314 or CHEM 1215;"]
[null,null,"CHEM 1515 or CHEM 1225; "]
[null,null,"GEOL 1114 or BIOL 1604"]
[]
[null,null,"PHYS  1114;"]
[null,null,"MATH 1513 and MATH 2103"]
["Written Communication",3,"BCOM 3113 or AGCM 3103 or ENGL 3323 (If  ENGL 3323 is used to satisfy ENGL 1213 above then hours in this block are 0.)"]