{"text_format":"1","workbook":"xlsx","n_sheets":3,"sheets":["PASS","GRAD CHECK","ADVISOR'S NOTES"],"not_rendered":{"charts":0,"images":0,"macros":0,"external_links":0,"defined_names":2,"comments":1,"pivot_tables":0},"unopened":[],"bounds":{"document_bytes":16777216,"sheet_cells":100000,"rows_first":2000,"rows_last":500,"rows_between":2000,"halvings":0,"cell_chars":16384,"cell_head_chars":4096},"cells_cut":0,"cells_raw":0,"read":"whole","date_system":"1900"}

{"sheet":"PASS","index":0,"n_rows":43,"n_cols":36,"rows_kept":43,"cut":false,"hidden":false,"merged":[[23,17,23,18],[7,3,7,4],[7,9,7,12],[7,24,7,25],[8,3,8,4],[8,9,8,12],[8,24,8,25],[9,9,9,12],[13,24,13,25],[10,3,10,4],[10,9,10,12],[9,3,9,4],[12,24,12,25],[11,24,11,25],[10,24,10,25],[9,24,9,25],[0,2,0,17],[0,19,0,25],[0,33,0,35],[6,3,6,4],[6,9,6,12],[6,24,6,25],[0,26,0,28],[11,3,11,4],[11,9,11,12],[12,3,12,4],[12,9,12,12],[14,24,14,25],[19,9,19,12],[16,17,16,23],[13,3,13,4],[13,9,13,12],[14,3,14,4],[14,9,14,12],[18,17,18,18],[19,17,19,18],[15,3,15,4],[15,9,15,12],[17,3,17,4],[17,9,17,12],[16,3,16,4],[16,9,16,12],[43,34,43,35],[44,34,44,35],[45,34,45,35],[24,17,24,18],[39,34,39,35],[40,34,40,35],[41,34,41,35],[28,34,28,35],[29,34,29,35],[30,34,30,35],[31,34,31,35],[32,34,32,35],[38,34,38,35],[35,34,35,35],[36,34,36,35],[37,34,37,35],[42,34,42,35],[22,3,22,4],[22,9,22,12],[18,3,18,4],[18,9,18,12],[19,3,19,4],[33,34,33,35],[34,34,34,35],[23,1,23,12],[20,17,20,18],[21,17,21,18],[22,17,22,18],[21,3,21,4],[21,9,21,12],[20,3,20,4],[20,9,20,12]]}
[null,"NAME:","STUDENT NAME",null,null,null,null,null,null,null,null,null,null,null,null,null,null,null,"ID:","999-99-999",null,null,null,null,null,null,"PASS-CPM",null,null,"ADV:",null,null,null,"AdvisorName"]
[]
[null,"General Education Requirements: 40 Hours",null,null,null,null,null,null,null,null,null,null,null,null,null,null,null,"College/Dept. Requirements: 25 Hours",null,null,null,null,null,null,null,null,null,"Major Requirements: 55 Hours",null,null,null,null,null,null,null,"2016-17"]
[]
[null,"Course",null,"Grade",null,"GPts","GPACr","GrCr",null,null,"Deviation",null,null,null,null,null,null,"Course",null,"Grade","GPts","GPACr","GrCr",null,"Deviation",null,null,"Course",null,"Grade","GPts","GPACr","GrCr",null,"Deviation"]
[]
[null,"ENGL ",1113,null,null,{"$f":"IF(I7<>\"\",I7,3)*IF(D7=\"A\",4,IF(D7=\"B\",3,IF(D7=\"C\",2,IF(D7=\"D\",1,IF(AND(D7>=0,D7<=4,ISNUMBER(D7)),D7,0)))))","v":0},{"$f":"IF(OR(D7=\"A\",D7=\"B\",D7=\"C\",D7=\"D\",D7=\"F\",AND(D7>=0,D7<=4,ISNUMBER(D7))),IF(I7<>\"\",I7,3),\"\")","v":""},{"$f":"IF(OR(D7=\"A\",D7=\"B\",D7=\"C\",D7=\"D\",D7=\"P\",AND(D7>=0,D7<=4,ISNUMBER(D7))),IF(I7<>\"\",I7,3),\"\")","v":""},null,null,null,null,null,null,null,null,null,"AG",1011,null,{"$f":"IF(X7<>\"\",X7,3)*IF(T7=\"A\",4,IF(T7=\"B\",3,IF(T7=\"C\",2,IF(T7=\"D\",1,IF(AND(T7>=0,T7<=4,ISNUMBER(T7)),T7,0)))))","v":0},{"$f":"IF(OR(T7=\"A\",T7=\"B\",T7=\"C\",T7=\"D\",T7=\"F\",AND(T7>=0,T7<=4,ISNUMBER(T7))),IF(X7<>\"\",X7,3),\"\")","v":""},{"$f":"IF(OR(T7=\"A\",T7=\"B\",T7=\"C\",T7=\"D\",T7=\"P\",AND(T7>=0,T7<=4,ISNUMBER(T7))),IF(X7<>\"\",X7,3),\"\")","v":""},1,null,null,null,"Core Courses: 50 Hours"]
[null,"ENGL ",1213,null,null,0,"","",null,null,null,null,null,null,null,null,null,"PLNT",1213,null,{"$f":"IF(X8<>\"\",X8,3)*IF(T8=\"A\",4,IF(T8=\"B\",3,IF(T8=\"C\",2,IF(T8=\"D\",1,IF(AND(T8>=0,T8<=4,ISNUMBER(T8)),T8,0)))))","v":0},{"$f":"IF(OR(T8=\"A\",T8=\"B\",T8=\"C\",T8=\"D\",T8=\"F\",AND(T8>=0,T8<=4,ISNUMBER(T8))),IF(X8<>\"\",X8,3),\"\")","v":""},{"$f":"IF(OR(T8=\"A\",T8=\"B\",T8=\"C\",T8=\"D\",T8=\"P\",AND(T8>=0,T8<=4,ISNUMBER(T8))),IF(X8<>\"\",X8,3),\"\")","v":""}]
[null,"HIST",1103,null,null,0,"","",null,null,null,null,null,null,null,null,null,"ENTO",2993,null,0,"","",null,null,null,null,"BOT",1404,null,{"$f":"IF(AH9<>\"\",AH9,3)*IF(AD9=\"A\",4,IF(AD9=\"B\",3,IF(AD9=\"C\",2,IF(AD9=\"D\",1,IF(AND(AD9>=0,AD9<=4,ISNUMBER(AD9)),AD9,0)))))","v":0},{"$f":"IF(OR(AD9=\"A\",AD9=\"B\",AD9=\"C\",AD9=\"D\",AD9=\"F\",AND(AD9>=0,AD9<=4,ISNUMBER(AD9))),IF(AH9<>\"\",AH9,3),\"\")","v":""},{"$f":"IF(OR(AD9=\"A\",AD9=\"B\",AD9=\"C\",AD9=\"D\",AD9=\"P\",AND(AD9>=0,AD9<=4,ISNUMBER(AD9))),IF(AH9<>\"\",AH9,3),\"\")","v":""},4]
[null,"POLS",1113,null,null,0,"","",null,null,null,null,null,null,null,null,null,"MATH",1513,null,0,"","",null,null,null,null,"BOT",3463,null,{"$f":"IF(AH10<>\"\",AH10,3)*IF(AD10=\"A\",4,IF(AD10=\"B\",3,IF(AD10=\"C\",2,IF(AD10=\"D\",1,IF(AND(AD10>=0,AD10<=4,ISNUMBER(AD10)),AD10,0)))))","v":0},{"$f":"IF(OR(AD10=\"A\",AD10=\"B\",AD10=\"C\",AD10=\"D\",AD10=\"F\",AND(AD10>=0,AD10<=4,ISNUMBER(AD10))),IF(AH10<>\"\",AH10,3),\"\")","v":""},{"$f":"IF(OR(AD10=\"A\",AD10=\"B\",AD10=\"C\",AD10=\"D\",AD10=\"P\",AND(AD10>=0,AD10<=4,ISNUMBER(AD10))),IF(AH10<>\"\",AH10,3),\"\")","v":""}]
[null,"STAT",2013,null,null,0,"","",null,null,null,null,null,null,null,null,null,"BIOL",1114,null,{"$f":"IF(X11<>\"\",X11,3)*IF(T11=\"A\",4,IF(T11=\"B\",3,IF(T11=\"C\",2,IF(T11=\"D\",1,IF(AND(T11>=0,T11<=4,ISNUMBER(T11)),T11,0)))))","v":0},{"$f":"IF(OR(T11=\"A\",T11=\"B\",T11=\"C\",T11=\"D\",T11=\"F\",AND(T11>=0,T11<=4,ISNUMBER(T11))),IF(X11<>\"\",X11,3),\"\")","v":""},{"$f":"IF(OR(T11=\"A\",T11=\"B\",T11=\"C\",T11=\"D\",T11=\"P\",AND(T11>=0,T11<=4,ISNUMBER(T11))),IF(X11<>\"\",X11,3),\"\")","v":""},4,null,null,null,"BIOC",2344,null,0,"","",4]
[null,"(H)",null,null,null,0,"","",null,null,null,null,null,null,null,null,null,"CHEM",1515,null,0,"","",5,null,null,null,"PLNT",1101,null,{"$f":"IF(AH12<>\"\",AH12,3)*IF(AD12=\"A\",4,IF(AD12=\"B\",3,IF(AD12=\"C\",2,IF(AD12=\"D\",1,IF(AND(AD12>=0,AD12<=4,ISNUMBER(AD12)),AD12,0)))))","v":0},{"$f":"IF(OR(AD12=\"A\",AD12=\"B\",AD12=\"C\",AD12=\"D\",AD12=\"F\",AND(AD12>=0,AD12<=4,ISNUMBER(AD12))),IF(AH12<>\"\",AH12,3),\"\")","v":""},{"$f":"IF(OR(AD12=\"A\",AD12=\"B\",AD12=\"C\",AD12=\"D\",AD12=\"P\",AND(AD12>=0,AD12<=4,ISNUMBER(AD12))),IF(AH12<>\"\",AH12,3),\"\")","v":""},1]
[null,"(H)",null,null,null,0,"","",null,null,null,null,null,null,null,null,null,"AGCM",3103,null,{"$f":"IF(X13<>\"\",X13,3)*IF(T13=\"A\",4,IF(T13=\"B\",3,IF(T13=\"C\",2,IF(T13=\"D\",1,IF(AND(T13>=0,T13<=4,ISNUMBER(T13)),T13,0)))))","v":0},{"$f":"IF(OR(T13=\"A\",T13=\"B\",T13=\"C\",T13=\"D\",T13=\"F\",AND(T13>=0,T13<=4,ISNUMBER(T13))),IF(X13<>\"\",X13,3),\"\")","v":""},{"$f":"IF(OR(T13=\"A\",T13=\"B\",T13=\"C\",T13=\"D\",T13=\"P\",AND(T13>=0,T13<=4,ISNUMBER(T13))),IF(X13<>\"\",X13,3),\"\")","v":""},null,null,null,null,"PLNT",2013,null,{"$f":"IF(AH13<>\"\",AH13,3)*IF(AD13=\"A\",4,IF(AD13=\"B\",3,IF(AD13=\"C\",2,IF(AD13=\"D\",1,IF(AND(AD13>=0,AD13<=4,ISNUMBER(AD13)),AD13,0)))))","v":0},{"$f":"IF(OR(AD13=\"A\",AD13=\"B\",AD13=\"C\",AD13=\"D\",AD13=\"F\",AND(AD13>=0,AD13<=4,ISNUMBER(AD13))),IF(AH13<>\"\",AH13,3),\"\")","v":""},{"$f":"IF(OR(AD13=\"A\",AD13=\"B\",AD13=\"C\",AD13=\"D\",AD13=\"P\",AND(AD13>=0,AD13<=4,ISNUMBER(AD13))),IF(AH13<>\"\",AH13,3),\"\")","v":""}]
[null,"(N)",null,null,null,0,"","",null,null,null,null,null,null,null,null,null,"AGCM",3203,null,0,"","",null,null,null,null,"PLNT",2041,null,{"$f":"IF(AH14<>\"\",AH14,3)*IF(AD14=\"A\",4,IF(AD14=\"B\",3,IF(AD14=\"C\",2,IF(AD14=\"D\",1,IF(AND(AD14>=0,AD14<=4,ISNUMBER(AD14)),AD14,0)))))","v":0},{"$f":"IF(OR(AD14=\"A\",AD14=\"B\",AD14=\"C\",AD14=\"D\",AD14=\"F\",AND(AD14>=0,AD14<=4,ISNUMBER(AD14))),IF(AH14<>\"\",AH14,3),\"\")","v":""},{"$f":"IF(OR(AD14=\"A\",AD14=\"B\",AD14=\"C\",AD14=\"D\",AD14=\"P\",AND(AD14>=0,AD14<=4,ISNUMBER(AD14))),IF(AH14<>\"\",AH14,3),\"\")","v":""},1]
[null,"CHEM",1314,null,null,0,"","",4,null,null,null,null,null,null,null,null,null,null,null,null,null,"",null,null,null,null,"PLNT",3554,null,{"$f":"IF(AH15<>\"\",AH15,3)*IF(AD15=\"A\",4,IF(AD15=\"B\",3,IF(AD15=\"C\",2,IF(AD15=\"D\",1,IF(AND(AD15>=0,AD15<=4,ISNUMBER(AD15)),AD15,0)))))","v":0},{"$f":"IF(OR(AD15=\"A\",AD15=\"B\",AD15=\"C\",AD15=\"D\",AD15=\"F\",AND(AD15>=0,AD15<=4,ISNUMBER(AD15))),IF(AH15<>\"\",AH15,3),\"\")","v":""},{"$f":"IF(OR(AD15=\"A\",AD15=\"B\",AD15=\"C\",AD15=\"D\",AD15=\"P\",AND(AD15>=0,AD15<=4,ISNUMBER(AD15))),IF(AH15<>\"\",AH15,3),\"\")","v":""},4]
[null,"AGEC",1113,null,null,0,"","",3,null,null,null,null,null,null,null,null,null,null,null,null,null,null,null,null,null,null,"PLNT",4013,null,0,"",""]
[null,"GENED",null,null,null,0,"","",null,null,null,null,null,null,null,null,null,null,null,null,null,null,null,null,"Graduate Semester",null,null,"PLNT",4123,null,0,"",""]
[null,"GENED",null,null,null,{"$f":"IF(I18<>\"\",I18,3)*IF(D18=\"A\",4,IF(D18=\"B\",3,IF(D18=\"C\",2,IF(D18=\"D\",1,IF(AND(D18>=0,D18<=4,ISNUMBER(D18)),D18,0)))))","v":0},{"$f":"IF(OR(D18=\"A\",D18=\"B\",D18=\"C\",D18=\"D\",D18=\"F\",AND(D18>=0,D18<=4,ISNUMBER(D18))),IF(I18<>\"\",I18,3),\"\")","v":""},{"$f":"IF(OR(D18=\"A\",D18=\"B\",D18=\"C\",D18=\"D\",D18=\"P\",AND(D18>=0,D18<=4,ISNUMBER(D18))),IF(I18<>\"\",I18,3),\"\")","v":""},null,null,null,null,null,null,null,null,null,"Credits and GPAs as of this date:",null,null,null,null,null,null,null,null,null,"PLNT",4353,null,{"$f":"IF(AH18<>\"\",AH18,3)*IF(AD18=\"A\",4,IF(AD18=\"B\",3,IF(AD18=\"C\",2,IF(AD18=\"D\",1,IF(AND(AD18>=0,AD18<=4,ISNUMBER(AD18)),AD18,0)))))","v":0},{"$f":"IF(OR(AD18=\"A\",AD18=\"B\",AD18=\"C\",AD18=\"D\",AD18=\"F\",AND(AD18>=0,AD18<=4,ISNUMBER(AD18))),IF(AH18<>\"\",AH18,3),\"\")","v":""},{"$f":"IF(OR(AD18=\"A\",AD18=\"B\",AD18=\"C\",AD18=\"D\",AD18=\"P\",AND(AD18>=0,AD18<=4,ISNUMBER(AD18))),IF(AH18<>\"\",AH18,3),\"\")","v":""}]
[null,"GENED",null,null,null,0,"","",null,null,null,null,null,null,null,null,null,{"$f":"SUM(H7:H23,W7:W14,AG9:AG25,AG29:AG38,H28:H43,P28:P43)","v":0},null,"Hours for graduation",null,null,null,null,null,null,null,"PLNT",4571,null,0,"","",1]
[null,"(D)",null,null,null,0,"","",null,null,null,null,null,null,null,null,null,{"$f":"IF(SUM(G7:G23,V7:V14,AF9:AF25,AF29:AF33,G28:G43,O28:O43)=0,\"N/A\",ROUNDDOWN(SUM(F7:F23,U7:U14,AE9:AE25,AE29:AE33,F28:F43,N28:N43)/SUM(G7:G23,V7:V14,AF9:AF25,AF29:AF33,G28:G43,O28:O43),2))","v":"N/A"},null,"Grad/Ret GPA",null,null,null,null,null,null,null,"PLNT",4613,null,0,"",""]
[null,"(I)",null,null,null,0,"","",null,null,null,null,null,null,null,null,null,{"$f":"SUMIF(C7:C23,\">2999\",H7:H23)+SUMIF(C28:C43,\">2999\",H28:H43)+SUMIF(K28:K43,\">2999\",P28:P43)+SUMIF(S7:S14,\">2999\",W7:W14)+SUMIF(AC9:AC25,\">2999\",AG9:AG25)+SUMIF(AC29:AC39,\">2999\",AG29:AG39)","v":0},null,"UPPER DIV HOURS (40)",null,null,null,null,null,null,null,"PLNT",4573,null,0,"",""]
[null,null,null,null,null,0,"","",null,null,null,null,null,null,null,null,null,{"$f":"SUMIF(C7:C23,\">2999\",F7:F23)+SUMIF(C28:C43,\">2999\",F28:F43)+SUMIF(K28:K43,\">2999\",N28:N43)+SUMIF(S7:S14,\">2999\",U7:U14)+SUMIF(AC9:AC25,\">2999\",AE9:AE25)+SUMIF(AC34:AC38,\">2999\",AE34:AE38)","v":0},null,"Upper div points (100)",null,null,null,null,null,null,null,"PLNT",4080,null,0,"","",3]
[null,null,null,null,null,0,"","",null,null,null,null,null,null,null,null,null,{"$f":"IF(SUM(R22)=0,\"N/A\",R22/R21)","v":"N/A"},null,"Upper div GPA",null,null,null,null,null,null,null,"SOIL",2124,null,0,"","",4]
[null,null,null,null,null,null,null,null,null,null,null,null,null,null,null,null,null,null,null,"60 Senior College Hours",null,null,null,null,null,null,null,"SOIL",4213,null,{"$f":"IF(AH24<>\"\",AH24,3)*IF(AD24=\"A\",4,IF(AD24=\"B\",3,IF(AD24=\"C\",2,IF(AD24=\"D\",1,IF(AND(AD24>=0,AD24<=4,ISNUMBER(AD24)),AD24,0)))))","v":0},{"$f":"IF(OR(AD24=\"A\",AD24=\"B\",AD24=\"C\",AD24=\"D\",AD24=\"F\",AND(AD24>=0,AD24<=4,ISNUMBER(AD24))),IF(AH24<>\"\",AH24,3),\"\")","v":""},{"$f":"IF(OR(AD24=\"A\",AD24=\"B\",AD24=\"C\",AD24=\"D\",AD24=\"P\",AND(AD24>=0,AD24<=4,ISNUMBER(AD24))),IF(AH24<>\"\",AH24,3),\"\")","v":""}]
[null,"General Elective Hours:",null,null,null,null,null,null,null,null,null,null,null,null,null,null,null,120,null,"HOURS NEEDED",null,null,null,null,null,null,null,"SOIL",4234,null,0,"","",4]
[null,"Non-Ag",null,null,null,null,null,null,null,"Ag Elect "]
[null,"Course",null,"Grd","Cr",null,null,null,null,"Course",null,"Grd","Cr","GPts","GPACr","GrCr",null,"NOTES:",null,null,null,null,null,null,null,null,null,"Related Courses: 5 Hours"]
[null,null,null,null,null,{"$f":"E28*IF(OR(D28=\"A\",D28=\"RA\"),4,IF(OR(D28=\"B\",D28=\"RB\"),3,IF(OR(D28=\"C\",D28=\"RC\"),2,IF(OR(D28=\"D\",D28=\"RD\"),1,IF(AND(D28>=0,D28<=4,ISNUMBER(D28)),D28,0)))))","v":0},{"$f":"IF(OR(D28=\"\",E28=\"\"),\"\",IF(OR(D28=\"A\",D28=\"B\",D28=\"C\",D28=\"D\",D28=\"F\",D28=\"RA\",D28=\"RB\",D28=\"RC\",D28=\"RD\",D28=\"RF\",AND(D28>=0,D28<=4,ISNUMBER(D28))),E28,\"\"))","v":""},{"$f":"IF(OR(D28=\"\",E28=\"\"),\"\",IF(OR(D28=\"A\",D28=\"B\",D28=\"C\",D28=\"D\",D28=\"P\",AND(D28>=0,D28<=4,ISNUMBER(D28))),E28,\"\"))","v":""},null,null,null,null,null,{"$f":"M28*IF(OR(L28=\"A\",L28=\"RA\"),4,IF(OR(L28=\"B\",L28=\"RB\"),3,IF(OR(L28=\"C\",L28=\"RC\"),2,IF(OR(L28=\"D\",L28=\"RD\"),1,IF(AND(L28>=0,L28=4,ISNUMBER(L28)),L28,0)))))","v":0},{"$f":"IF(OR(L28=\"\",M28=\"\"),\"\",IF(OR(L28=\"A\",L28=\"B\",L28=\"C\",L28=\"D\",L28=\"F\",L28=\"RA\",L28=\"RB\",L28=\"RC\",L28=\"RD\",L28=\"RF\",AND(L28>=0,L28<=4,ISNUMBER(L28))),M28,\"\"))","v":""},{"$f":"IF(OR(L28=\"\",M28=\"\"),\"\",IF(OR(L28=\"A\",L28=\"B\",L28=\"C\",L28=\"D\",L28=\"P\",AND(L28>=0,L28<=4,ISNUMBER(L28))),M28,\"\"))","v":""}]
[null,null,null,null,null,0,"","",null,null,null,null,null,0,"","",null,null,null,null,null,null,null,null,null,null,null,null,null,null,{"$f":"IF(AH29<>\"\",AH29,3)*IF(AD29=\"A\",4,IF(AD29=\"B\",3,IF(AD29=\"C\",2,IF(AD29=\"D\",1,IF(AND(AD29>=0,AD29<=4,ISNUMBER(AD29)),AD29,0)))))","v":0},{"$f":"IF(OR(AD29=\"A\",AD29=\"B\",AD29=\"C\",AD29=\"D\",AD29=\"F\",AND(AD29>=0,AD29<=4,ISNUMBER(AD29))),IF(AH29<>\"\",AH29,3),\"\")","v":""},{"$f":"IF(OR(AD29=\"A\",AD29=\"B\",AD29=\"C\",AD29=\"D\",AD29=\"P\",AND(AD29>=0,AD29<=4,ISNUMBER(AD29))),IF(AH29<>\"\",AH29,3),\"\")","v":""}]
[null,null,null,null,null,0,"","",null,null,null,null,null,0,"","",null,null,null,null,null,null,null,null,null,null,null,null,null,null,{"$f":"IF(AH30<>\"\",AH30,3)*IF(AD30=\"A\",4,IF(AD30=\"B\",3,IF(AD30=\"C\",2,IF(AD30=\"D\",1,IF(AND(AD30>=0,AD30<=4,ISNUMBER(AD30)),AD30,0)))))","v":0},{"$f":"IF(OR(AD30=\"A\",AD30=\"B\",AD30=\"C\",AD30=\"D\",AD30=\"F\",AND(AD30>=0,AD30<=4,ISNUMBER(AD30))),IF(AH30<>\"\",AH30,3),\"\")","v":""},{"$f":"IF(OR(AD30=\"A\",AD30=\"B\",AD30=\"C\",AD30=\"D\",AD30=\"P\",AND(AD30>=0,AD30<=4,ISNUMBER(AD30))),IF(AH30<>\"\",AH30,3),\"\")","v":""}]
[null,null,null,null,null,0,"","",null,null,null,null,null,0,"","",null,null,null,null,null,null,null,null,null,null,null,null,null,null,0,"",""]
[null,null,null,null,null,0,"","",null,null,null,null,null,0,"","",null,null,null,null,null,null,null,null,null,null,null,null,null,null,{"$f":"IF(AH32<>\"\",AH32,3)*IF(AD32=\"A\",4,IF(AD32=\"B\",3,IF(AD32=\"C\",2,IF(AD32=\"D\",1,IF(AND(AD32>=0,AD32<=4,ISNUMBER(AD32)),AD32,0)))))","v":0},{"$f":"IF(OR(AD32=\"A\",AD32=\"B\",AD32=\"C\",AD32=\"D\",AD32=\"F\",AND(AD32>=0,AD32<=4,ISNUMBER(AD32))),IF(AH32<>\"\",AH32,3),\"\")","v":""},{"$f":"IF(OR(AD32=\"A\",AD32=\"B\",AD32=\"C\",AD32=\"D\",AD32=\"P\",AND(AD32>=0,AD32<=4,ISNUMBER(AD32))),IF(AH32<>\"\",AH32,3),\"\")","v":""}]
[null,null,null,null,null,0,"","",null,null,null,null,null,0,"","",null,null,null,null,null,null,null,null,null,null,null,null,null,null,0,"",""]
[null,null,null,null,null,0,"","",null,null,null,null,null,0,"","",null,null,null,null,null,null,null,null,null,null,null,null,null,null,{"$f":"IF(AH34<>\"\",AH34,3)*IF(AD34=\"A\",4,IF(AD34=\"B\",3,IF(AD34=\"C\",2,IF(AD34=\"D\",1,IF(AND(AD34>=0,AD34<=4,ISNUMBER(AD34)),AD34,0)))))","v":0},{"$f":"IF(OR(AD34=\"A\",AD34=\"B\",AD34=\"C\",AD34=\"D\",AD34=\"F\",AND(AD34>=0,AD34<=4,ISNUMBER(AD34))),IF(AH34<>\"\",AH34,3),\"\")","v":""},{"$f":"IF(OR(AD34=\"A\",AD34=\"B\",AD34=\"C\",AD34=\"D\",AD34=\"P\",AND(AD34>=0,AD34<=4,ISNUMBER(AD34))),IF(AH34<>\"\",AH34,3),\"\")","v":""}]
[null,null,null,null,null,0,"","",null,null,null,null,null,0,"","",null,null,null,null,null,null,null,null,null,null,null,null,null,null,0,"",""]
[null,null,null,null,null,0,"","",null,null,null,null,null,0,"","",null,null,null,null,null,null,null,null,null,null,null,null,null,null,{"$f":"IF(AH36<>\"\",AH36,3)*IF(AD36=\"A\",4,IF(AD36=\"B\",3,IF(AD36=\"C\",2,IF(AD36=\"D\",1,IF(AND(AD36>=0,AD36<=4,ISNUMBER(AD36)),AD36,0)))))","v":0},{"$f":"IF(OR(AD36=\"A\",AD36=\"B\",AD36=\"C\",AD36=\"D\",AD36=\"F\",AND(AD36>=0,AD36<=4,ISNUMBER(AD36))),IF(AH36<>\"\",AH36,3),\"\")","v":""},{"$f":"IF(OR(AD36=\"A\",AD36=\"B\",AD36=\"C\",AD36=\"D\",AD36=\"P\",AND(AD36>=0,AD36<=4,ISNUMBER(AD36))),IF(AH36<>\"\",AH36,3),\"\")","v":""}]
[null,null,null,null,null,0,"","",null,null,null,null,null,0,"","",null,null,null,null,null,null,null,null,null,null,null,null,null,null,0,"",""]
[null,null,null,null,null,0,"","",null,null,null,null,null,0,"","",null,null,null,null,null,null,null,null,null,null,null,null,null,null,0,"",""]
[null,null,null,null,null,0,"","",null,null,null,null,null,0,"","",null,null,null,null,null,null,null,null,null,null,null,null,null,null,0,"",""]
[null,null,null,null,null,0,"","",null,null,null,null,null,0,"",""]
[null,null,null,null,null,0,"","",null,null,null,null,null,0,"",""]
[null,null,null,null,null,0,"","",null,null,null,null,null,0,"",""]
[null,null,null,null,null,0,"","",null,null,null,null,null,0,"",""]

{"sheet":"GRAD CHECK","index":1,"n_rows":45,"n_cols":6,"rows_kept":45,"cut":false,"hidden":false,"merged":[[44,1,44,8],[24,1,24,5],[27,1,27,2],[28,1,28,3],[28,4,28,5],[38,1,38,8],[41,1,41,8],[20,2,20,3],[0,0,0,5],[1,0,1,5],[2,0,2,5],[6,1,6,3],[6,4,6,5],[9,1,9,3],[12,1,12,3],[12,4,12,6],[13,1,13,2],[15,1,15,2],[18,1,18,2]]}
["GRADUATION CHECK"]
["By"]
["COLLEGE OF AGRICULTURE SCIENCES AND NATURAL RESOURCES"]
[]
[]
["Name:",null,null,null,"Date:"]
[null,{"$f":"PASS!C1","v":"STUDENT NAME"}]
[]
["ID:",null,null,null,"Graduation Date:"]
[null,{"$f":"PASS!T1","v":"999-99-999"},null,null,{"$f":"PASS!R17","v":"00:00:00"}]
[]
["EMAIL:",null,null,null,"Major:"]
[null,null,null,null,{"$f":"PASS!AA1","v":"PASS-CPM"}]
[]
["Advisor:",null,null,null,"Grad/Ret GPA:"]
[null,{"$f":"PASS!AH1","v":"AdvisorName"},null,null,{"$f":"PASS!R20","v":"N/A"}]
[]
[null,"REMINDER:",null,null,"Upper Division GPA:"]
[null,null,null,null,{"$f":"PASS!R23","v":"N/A"}]
["Total Hours to Date:",null,{"$f":"PASS!R19","v":0},null,"Total  Upper Div Hours to Date:",{"$f":"PASS!R21","v":0}]
["Current Enrollment:",null,null,null,"Total  Upper Div Points to Date:",{"$f":"PASS!R22","v":0}]
[]
["Deficiencies/Remaining Hours:"]
[]
[]
[]
["Hours Needed from a 4 yr. School: ",null,null,null,"Upper Div. hours & points needed: "]
[]
[]
[]
["Number of hours needed to complete requirements:"]
[null,null,null,null,"(hrs. = current courses + deficiencies)"]
[]
[]
[]
[]
[]
["APPROVED BY:"]
[null,"________________________________________________________________________ Adviser/Date Signed"]
[]
[]
[null,"_______________________________________________________________ Department Head/Date Signed"]
[]
[]
[null,"____________________________________________________________________ Assoc. Dean/Date Signed"]

{"sheet":"ADVISOR'S NOTES","index":2,"n_rows":1,"n_cols":2,"rows_kept":1,"cut":false,"hidden":false,"merged":[]}
["DATE","NOTES"]