{"text_format":"1","workbook":"xlsx","n_sheets":3,"sheets":["NREM","GRAD CHECK","ADVISOR'S NOTES"],"not_rendered":{"charts":0,"images":0,"macros":0,"external_links":0,"defined_names":2,"comments":1,"pivot_tables":0},"unopened":[],"bounds":{"document_bytes":16777216,"sheet_cells":100000,"rows_first":2000,"rows_last":500,"rows_between":2000,"halvings":0,"cell_chars":16384,"cell_head_chars":4096},"cells_cut":0,"cells_raw":0,"read":"whole","date_system":"1900"}

{"sheet":"NREM","index":0,"n_rows":42,"n_cols":35,"rows_kept":42,"cut":false,"hidden":false,"merged":[[9,33,9,34],[18,33,18,34],[37,33,37,34],[13,23,13,24],[15,23,15,24],[11,33,11,34],[20,33,20,34],[19,33,19,34],[21,33,21,34],[25,33,25,34],[24,33,24,34],[33,33,33,34],[27,33,27,34],[28,33,28,34],[16,33,16,34],[11,23,11,24],[0,1,0,16],[7,2,7,3],[7,8,7,11],[6,2,6,3],[6,8,6,11],[0,18,0,24],[0,32,0,34],[8,33,8,34],[7,23,7,24],[6,23,6,24],[8,2,8,3],[8,23,8,24],[9,23,9,24],[17,33,17,34],[15,33,15,34],[8,8,8,11],[14,33,14,34],[13,33,13,34],[11,2,11,3],[11,8,11,11],[13,2,13,3],[13,8,13,11],[12,33,12,34],[9,2,9,3],[9,8,9,11],[10,33,10,34],[17,2,17,3],[17,8,17,11],[10,2,10,3],[10,8,10,11],[16,2,16,3],[16,8,16,11],[12,2,12,3],[12,8,12,11],[14,2,14,3],[14,8,14,11],[15,2,15,3],[15,8,15,11],[18,16,18,22],[20,16,20,17],[21,8,21,11],[21,2,21,3],[23,16,23,17],[22,0,22,11],[18,2,18,3],[18,8,18,11],[19,2,19,3],[19,8,19,11],[20,2,20,3],[20,8,20,11],[24,16,24,17],[25,16,25,17],[21,16,21,17],[26,16,26,17],[22,16,22,17],[12,23,12,24],[14,23,14,24],[45,33,45,34],[38,33,38,34],[40,33,40,34],[39,33,39,34],[44,33,44,34],[42,33,42,34]]}
["NAME:","NAME, STUDENT",null,null,null,null,null,null,null,null,null,null,null,null,null,null,null,"ID:","999-99-999",null,null,null,null,null,null,"NREM-FAEC",null,null,"ADV:",null,null,null,"ADVISOR"]
[]
["General Eduction Requirements: 40 Hours",null,null,null,null,null,null,null,null,null,null,null,null,null,null,null,"College/Dept. Requirements: 33 Hours",null,null,null,null,null,null,null,null,null,"Major Requirements: 52 Hours",null,null,null,null,null,null,null,"2016-17"]
[]
["Course",null,"Grade",null,"GPts","GPACr","GrCr",null,null,"Deviation",null,null,null,null,null,null,"Course",null,"Grade","GPts","GPACr","GrCr",null,"Deviation",null,null,"Course",null,"Grade","GPts","GPACr","GrCr",null,"Deviation"]
[]
["ENGL ",1113,null,null,{"$f":"IF(H7<>\"\",H7,3)*IF(C7=\"A\",4,IF(C7=\"B\",3,IF(C7=\"C\",2,IF(C7=\"D\",1,IF(AND(C7>=0,C7<=4,ISNUMBER(C7)),C7,0)))))","v":0},{"$f":"IF(OR(C7=\"A\",C7=\"B\",C7=\"C\",C7=\"D\",C7=\"F\",AND(C7>=0,C7<=4,ISNUMBER(C7))),IF(H7<>\"\",H7,3),\"\")","v":""},{"$f":"IF(OR(C7=\"A\",C7=\"B\",C7=\"C\",C7=\"D\",C7=\"P\",AND(C7>=0,C7<=4,ISNUMBER(C7))),IF(H7<>\"\",H7,3),\"\")","v":""},null,null,null,null,null,null,null,null,null,"AG",1011,null,{"$f":"IF(W7<>\"\",W7,3)*IF(S7=\"A\",4,IF(S7=\"B\",3,IF(S7=\"C\",2,IF(S7=\"D\",1,IF(AND(S7>=0,S7<=4,ISNUMBER(S7)),S7,0)))))","v":0},{"$f":"IF(OR(S7=\"A\",S7=\"B\",S7=\"C\",S7=\"D\",S7=\"F\",AND(S7>=0,S7<=4,ISNUMBER(S7))),IF(W7<>\"\",W7,3),\"\")","v":""},{"$f":"IF(OR(S7=\"A\",S7=\"B\",S7=\"C\",S7=\"D\",S7=\"P\",AND(S7>=0,S7<=4,ISNUMBER(S7))),IF(W7<>\"\",W7,3),\"\")","v":""},1,null,null,null,"Core Courses: 42 Hours"]
["ENGL ",1213,null,null,{"$f":"IF(H8<>\"\",H8,3)*IF(C8=\"A\",4,IF(C8=\"B\",3,IF(C8=\"C\",2,IF(C8=\"D\",1,IF(AND(C8>=0,C8<=4,ISNUMBER(C8)),C8,0)))))","v":0},{"$f":"IF(OR(C8=\"A\",C8=\"B\",C8=\"C\",C8=\"D\",C8=\"F\",AND(C8>=0,C8<=4,ISNUMBER(C8))),IF(H8<>\"\",H8,3),\"\")","v":""},{"$f":"IF(OR(C8=\"A\",C8=\"B\",C8=\"C\",C8=\"D\",C8=\"P\",AND(C8>=0,C8<=4,ISNUMBER(C8))),IF(H8<>\"\",H8,3),\"\")","v":""},null,null,null,null,null,null,null,null,null,"NREM",1012,null,{"$f":"IF(W8<>\"\",W8,3)*IF(S8=\"A\",4,IF(S8=\"B\",3,IF(S8=\"C\",2,IF(S8=\"D\",1,IF(AND(S8>=0,S8<=4,ISNUMBER(S8)),S8,0)))))","v":0},{"$f":"IF(OR(S8=\"A\",S8=\"B\",S8=\"C\",S8=\"D\",S8=\"F\",AND(S8>=0,S8<=4,ISNUMBER(S8))),IF(W8<>\"\",W8,3),\"\")","v":""},{"$f":"IF(OR(S8=\"A\",S8=\"B\",S8=\"C\",S8=\"D\",S8=\"P\",AND(S8>=0,S8<=4,ISNUMBER(S8))),IF(W8<>\"\",W8,3),\"\")","v":""},2]
["HIST",1103,null,null,0,"","",null,null,null,null,null,null,null,null,null,"NREM",2013,null,0,"","",null,null,null,null,"ANSI",3423,null,{"$f":"IF(AG9<>\"\",AG9,3)*IF(AC9=\"A\",4,IF(AC9=\"B\",3,IF(AC9=\"C\",2,IF(AC9=\"D\",1,IF(AND(AC9>=0,AC9<=4,ISNUMBER(AC9)),AC9,0)))))","v":0},{"$f":"IF(OR(AC9=\"A\",AC9=\"B\",AC9=\"C\",AC9=\"D\",AC9=\"F\",AND(AC9>=0,AC9<=4,ISNUMBER(AC9))),IF(AG9<>\"\",AG9,3),\"\")","v":""},{"$f":"IF(OR(AC9=\"A\",AC9=\"B\",AC9=\"C\",AC9=\"D\",AC9=\"P\",AND(AC9>=0,AC9<=4,ISNUMBER(AC9))),IF(AG9<>\"\",AG9,3),\"\")","v":""}]
["POLS",1113,null,null,0,"","",null,null,null,null,null,null,null,null,null,"BOT",1404,null,0,"","",4,null,null,null,"NREM",3012,null,{"$f":"IF(AG10<>\"\",AG10,3)*IF(AC10=\"A\",4,IF(AC10=\"B\",3,IF(AC10=\"C\",2,IF(AC10=\"D\",1,IF(AND(AC10>=0,AC10<=4,ISNUMBER(AC10)),AC10,0)))))","v":0},{"$f":"IF(OR(AC10=\"A\",AC10=\"B\",AC10=\"C\",AC10=\"D\",AC10=\"F\",AND(AC10>=0,AC10<=4,ISNUMBER(AC10))),IF(AG10<>\"\",AG10,3),\"\")","v":""},{"$f":"IF(OR(AC10=\"A\",AC10=\"B\",AC10=\"C\",AC10=\"D\",AC10=\"P\",AND(AC10>=0,AC10<=4,ISNUMBER(AC10))),IF(AG10<>\"\",AG10,3),\"\")","v":""},2]
["MATH",1513,null,null,0,"","",null,null,null,null,null,null,null,null,null,"BIOL",1604,null,0,"","",4,null,null,null,"NREM",3013,null,0,"",""]
["STAT",2013,null,null,0,"","",null,null,null,null,null,null,null,null,null,"CHEM",1314,null,0,"","",4,null,null,null,"NREM",3523,null,{"$f":"IF(AG12<>\"\",AG12,3)*IF(AC12=\"A\",4,IF(AC12=\"B\",3,IF(AC12=\"C\",2,IF(AC12=\"D\",1,IF(AND(AC12>=0,AC12<=4,ISNUMBER(AC12)),AC12,0)))))","v":0},{"$f":"IF(OR(AC12=\"A\",AC12=\"B\",AC12=\"C\",AC12=\"D\",AC12=\"F\",AND(AC12>=0,AC12<=4,ISNUMBER(AC12))),IF(AG12<>\"\",AG12,3),\"\")","v":""},{"$f":"IF(OR(AC12=\"A\",AC12=\"B\",AC12=\"C\",AC12=\"D\",AC12=\"P\",AND(AC12>=0,AC12<=4,ISNUMBER(AC12))),IF(AG12<>\"\",AG12,3),\"\")","v":""}]
["(H)",null,null,null,0,"","",null,null,null,null,null,null,null,null,null,"CHEM",1515,null,0,"","",5,null,null,null,"NREM",4001,null,0,"","",1]
["(H)",null,null,null,0,"","",null,null,null,null,null,null,null,null,null,"GEOL",1114,null,{"$f":"IF(W14<>\"\",W14,3)*IF(S14=\"A\",4,IF(S14=\"B\",3,IF(S14=\"C\",2,IF(S14=\"D\",1,IF(AND(S14>=0,S14<=4,ISNUMBER(S14)),S14,0)))))","v":0},{"$f":"IF(OR(S14=\"A\",S14=\"B\",S14=\"C\",S14=\"D\",S14=\"F\",AND(S14>=0,S14<=4,ISNUMBER(S14))),IF(W14<>\"\",W14,3),\"\")","v":""},{"$f":"IF(OR(S14=\"A\",S14=\"B\",S14=\"C\",S14=\"D\",S14=\"P\",AND(S14>=0,S14<=4,ISNUMBER(S14))),IF(W14<>\"\",W14,3),\"\")","v":""},4,null,null,null,"NREM",4414,null,0,"","",4]
["(N)",null,null,null,{"$f":"IF(H15<>\"\",H15,3)*IF(C15=\"A\",4,IF(C15=\"B\",3,IF(C15=\"C\",2,IF(C15=\"D\",1,IF(AND(C15>=0,C15<=4,ISNUMBER(C15)),C15,0)))))","v":0},{"$f":"IF(OR(C15=\"A\",C15=\"B\",C15=\"C\",C15=\"D\",C15=\"F\",AND(C15>=0,C15<=4,ISNUMBER(C15))),IF(H15<>\"\",H15,3),\"\")","v":""},{"$f":"IF(OR(C15=\"A\",C15=\"B\",C15=\"C\",C15=\"D\",C15=\"P\",AND(C15>=0,C15<=4,ISNUMBER(C15))),IF(H15<>\"\",H15,3),\"\")","v":""},null,null,null,null,null,null,null,null,null,"AGCM",3103,null,{"$f":"IF(W15<>\"\",W15,3)*IF(S15=\"A\",4,IF(S15=\"B\",3,IF(S15=\"C\",2,IF(S15=\"D\",1,IF(AND(S15>=0,S15<=4,ISNUMBER(S15)),S15,0)))))","v":0},{"$f":"IF(OR(S15=\"A\",S15=\"B\",S15=\"C\",S15=\"D\",S15=\"F\",AND(S15>=0,S15<=4,ISNUMBER(S15))),IF(W15<>\"\",W15,3),\"\")","v":""},{"$f":"IF(OR(S15=\"A\",S15=\"B\",S15=\"C\",S15=\"D\",S15=\"P\",AND(S15>=0,S15<=4,ISNUMBER(S15))),IF(W15<>\"\",W15,3),\"\")","v":""},null,null,null,null,"NREM",4424,null,0,"","",4]
["BIOL",1114,null,null,0,"",{"$f":"IF(OR(C16=\"A\",C16=\"B\",C16=\"C\",C16=\"D\",C16=\"P\",AND(C16>=0,C16<=4,ISNUMBER(C16))),IF(H16<>\"\",H16,3),\"\")","v":""},4,null,null,null,null,null,null,null,null,"AGCM",3203,null,0,"","",null,null,null,null,"NREM",4443,null,{"$f":"IF(AG16<>\"\",AG16,3)*IF(AC16=\"A\",4,IF(AC16=\"B\",3,IF(AC16=\"C\",2,IF(AC16=\"D\",1,IF(AND(AC16>=0,AC16<=4,ISNUMBER(AC16)),AC16,0)))))","v":0},{"$f":"IF(OR(AC16=\"A\",AC16=\"B\",AC16=\"C\",AC16=\"D\",AC16=\"F\",AND(AC16>=0,AC16<=4,ISNUMBER(AC16))),IF(AG16<>\"\",AG16,3),\"\")","v":""},{"$f":"IF(OR(AC16=\"A\",AC16=\"B\",AC16=\"C\",AC16=\"D\",AC16=\"P\",AND(AC16>=0,AC16<=4,ISNUMBER(AC16))),IF(AG16<>\"\",AG16,3),\"\")","v":""}]
["AGEC",1113,null,null,0,"","",null,null,null,null,null,null,null,null,null,null,null,null,null,null,null,null,null,null,null,"NREM",4452,null,{"$f":"IF(AG17<>\"\",AG17,3)*IF(AC17=\"A\",4,IF(AC17=\"B\",3,IF(AC17=\"C\",2,IF(AC17=\"D\",1,IF(AND(AC17>=0,AC17<=4,ISNUMBER(AC17)),AC17,0)))))","v":0},{"$f":"IF(OR(AC17=\"A\",AC17=\"B\",AC17=\"C\",AC17=\"D\",AC17=\"F\",AND(AC17>=0,AC17<=4,ISNUMBER(AC17))),IF(AG17<>\"\",AG17,3),\"\")","v":""},{"$f":"IF(OR(AC17=\"A\",AC17=\"B\",AC17=\"C\",AC17=\"D\",AC17=\"P\",AND(AC17>=0,AC17<=4,ISNUMBER(AC17))),IF(AG17<>\"\",AG17,3),\"\")","v":""},2]
["GENED",null,null,null,{"$f":"IF(H18<>\"\",H18,3)*IF(C18=\"A\",4,IF(C18=\"B\",3,IF(C18=\"C\",2,IF(C18=\"D\",1,IF(AND(C18>=0,C18<=4,ISNUMBER(C18)),C18,0)))))","v":0},{"$f":"IF(OR(C18=\"A\",C18=\"B\",C18=\"C\",C18=\"D\",C18=\"F\",AND(C18>=0,C18<=4,ISNUMBER(C18))),IF(H18<>\"\",H18,3),\"\")","v":""},{"$f":"IF(OR(C18=\"A\",C18=\"B\",C18=\"C\",C18=\"D\",C18=\"P\",AND(C18>=0,C18<=4,ISNUMBER(C18))),IF(H18<>\"\",H18,3),\"\")","v":""},null,null,null,null,null,null,null,null,null,null,null,null,null,null,null,null,null,null,null,"NREM",4453,null,{"$f":"IF(AG18<>\"\",AG18,3)*IF(AC18=\"A\",4,IF(AC18=\"B\",3,IF(AC18=\"C\",2,IF(AC18=\"D\",1,IF(AND(AC18>=0,AC18<=4,ISNUMBER(AC18)),AC18,0)))))","v":0},{"$f":"IF(OR(AC18=\"A\",AC18=\"B\",AC18=\"C\",AC18=\"D\",AC18=\"F\",AND(AC18>=0,AC18<=4,ISNUMBER(AC18))),IF(AG18<>\"\",AG18,3),\"\")","v":""},{"$f":"IF(OR(AC18=\"A\",AC18=\"B\",AC18=\"C\",AC18=\"D\",AC18=\"P\",AND(AC18>=0,AC18<=4,ISNUMBER(AC18))),IF(AG18<>\"\",AG18,3),\"\")","v":""}]
["GENED",null,null,null,0,"","",null,null,null,null,null,null,null,null,null,null,null,null,null,null,null,null,"Graduate Semester",null,null,"STAT",3013,null,0,"",""]
["(I)",null,null,null,0,"","",null,null,null,null,null,null,null,null,null,"Credits and GPAs as of this date:",null,null,null,null,null,null,null,null,null,"BIOL",3104,null,{"$f":"IF(AG20<>\"\",AG20,3)*IF(AC20=\"A\",4,IF(AC20=\"B\",3,IF(AC20=\"C\",2,IF(AC20=\"D\",1,IF(AND(AC20>=0,AC20<=4,ISNUMBER(AC20)),AC20,0)))))","v":0},{"$f":"IF(OR(AC20=\"A\",AC20=\"B\",AC20=\"C\",AC20=\"D\",AC20=\"F\",AND(AC20>=0,AC20<=4,ISNUMBER(AC20))),IF(AG20<>\"\",AG20,3),\"\")","v":""},{"$f":"IF(OR(AC20=\"A\",AC20=\"B\",AC20=\"C\",AC20=\"D\",AC20=\"P\",AND(AC20>=0,AC20<=4,ISNUMBER(AC20))),IF(AG20<>\"\",AG20,3),\"\")","v":""},4]
["(D)",null,null,null,0,"","",null,null,null,null,null,null,null,null,null,{"$f":"SUM(G7:G22,V7:V16,AF7:AF22,AF28:AF29,AF38:AF42,G27:G42,O27:O42)","v":0},null,"Hours for graduation",null,null,null,null,null,null,null,"BIOL",4413,null,0,"",""]
[null,null,null,null,0,"","",null,null,null,null,null,null,null,null,null,{"$f":"IF(SUM(F7:F22,U7:U16,AE9:AE22, AE28:AE29,AE38:AE43,F27:F42,N27:N42)=0,\"N/A\",ROUNDDOWN(SUM(E7:E22,T7:T16,AD9:AD22,AD28:AD29,AD38:AD43,E27:E42,M27:M42)/SUM(F7:F22,U7:U16,AE9:AE22,AE28:AE29,AE38:AE43,F27:F42,N27:N42),2))","v":"N/A"},null,"Grad/Ret GPA",null,null,null,null,null,null,null,"BIOL",4434,null,0,"","",4]
[null,null,null,null,null,null,null,null,null,null,null,null,null,null,null,null,{"$f":"SUMIF(B7:B22,\">2999\",G7:G22)+SUMIF(B27:B42,\">2999\",G27:G42)+SUMIF(J27:J42,\">2999\",O27:O42)+SUMIF(R7:R16,\">2999\",V7:V16)+SUMIF(AB9:AB22,\">2999\",AF9:AF22)+SUMIF(AB28:AB29,\">2999\",AF28:AF29)+SUMIF(AB38:AB43,\">2999\",AF38:AF43)","v":0},null,"UPPER DIV HOURS (40)"]
["General Elective Hours:",null,null,null,null,null,null,null,null,null,null,null,null,null,null,null,{"$f":"SUMIF(B7:B22,\">2999\",E7:E22)+SUMIF(B27:B42,\">2999\",E27:E42)+SUMIF(J27:J42,\">2999\",M27:M41)+SUMIF(R7:R16,\">2999\",T7:T16)+SUMIF(AB9:AB22,\">2999\",AD9:AD22)+SUMIF(AB28:AB29,\">2999\",AD28:AD29)+SUMIF(AB38:AB43,\">2999\",AD38:AD43)","v":0},null,"Upper div points (100)",null,null,null,null,null,null,null,"Related courses; 6 hours from:"]
["Non-Ag",null,null,null,null,null,null,null,"Ag Elect ",null,null,null,null,null,null,null,{"$f":"IF(SUM(Q24)=0,\"N/A\",Q24/Q23)","v":"N/A"},null,"Upper div GPA"]
["Course",null,"Grd","Cr",null,null,null,null,"Course",null,"Grd","Cr","GPts","GPACr","GrCr",null,null,null,"60 Senior College Hours"]
[null,null,null,null,{"$f":"D27*IF(OR(C27=\"A\",C27=\"RA\"),4,IF(OR(C27=\"B\",C27=\"RB\"),3,IF(OR(C27=\"C\",C27=\"RC\"),2,IF(OR(C27=\"D\",C27=\"RD\"),1,IF(AND(C27>=0,C27<=4,ISNUMBER(C27)),C27,0)))))","v":0},{"$f":"IF(OR(C27=\"\",D27=\"\"),\"\",IF(OR(C27=\"A\",C27=\"B\",C27=\"C\",C27=\"D\",C27=\"F\",C27=\"RA\",C27=\"RB\",C27=\"RC\",C27=\"RD\",C27=\"RF\",AND(C27>=0,C27<=4,ISNUMBER(C27))),D27,\"\"))","v":""},{"$f":"IF(OR(C27=\"\",D27=\"\"),\"\",IF(OR(C27=\"A\",C27=\"B\",C27=\"C\",C27=\"D\",C27=\"P\",AND(C27>=0,C27<=4,ISNUMBER(C27))),D27,\"\"))","v":""},null,null,null,null,null,{"$f":"L27*IF(OR(K27=\"A\",K27=\"RA\"),4,IF(OR(K27=\"B\",K27=\"RB\"),3,IF(OR(K27=\"C\",K27=\"RC\"),2,IF(OR(K27=\"D\",K27=\"RD\"),1,IF(AND(K27>=0,K27=4,ISNUMBER(K27)),K27,0)))))","v":0},{"$f":"IF(OR(K27=\"\",L27=\"\"),\"\",IF(OR(K27=\"A\",K27=\"B\",K27=\"C\",K27=\"D\",K27=\"F\",K27=\"RA\",K27=\"RB\",K27=\"RC\",K27=\"RD\",K27=\"RF\",AND(K27>=0,K27<=4,ISNUMBER(K27))),L27,\"\"))","v":""},{"$f":"IF(OR(K27=\"\",L27=\"\"),\"\",IF(OR(K27=\"A\",K27=\"B\",K27=\"C\",K27=\"D\",K27=\"P\",AND(K27>=0,K27<=4,ISNUMBER(K27))),L27,\"\"))","v":""},null,125,null,"HOURS NEEDED"]
[null,null,null,null,0,"","",null,null,null,null,null,0,"","",null,"NOTES:",null,null,null,null,null,null,null,null,null,null,null,null,{"$f":"IF(AG28<>\"\",AG28,3)*IF(AC28=\"A\",4,IF(AC28=\"B\",3,IF(AC28=\"C\",2,IF(AC28=\"D\",1,IF(AND(AC28>=0,AC28<=4,ISNUMBER(AC28)),AC28,0)))))","v":0},{"$f":"IF(OR(AC28=\"A\",AC28=\"B\",AC28=\"C\",AC28=\"D\",AC28=\"F\",AND(AC28>=0,AC28<=4,ISNUMBER(AC28))),IF(AG28<>\"\",AG28,3),\"\")","v":""},{"$f":"IF(OR(AC28=\"A\",AC28=\"B\",AC28=\"C\",AC28=\"D\",AC28=\"P\",AND(AC28>=0,AC28<=4,ISNUMBER(AC28))),IF(AG28<>\"\",AG28,3),\"\")","v":""}]
[null,null,null,null,0,"","",null,null,null,null,null,0,"","",null,null,null,null,null,null,null,null,null,null,null,null,null,null,0,"",""]
[null,null,null,null,0,"","",null,null,null,null,null,0,"",""]
[null,null,null,null,0,"","",null,null,null,null,null,0,"","",null,null,null,null,null,null,null,null,null,null,null,"Related courses; 4 hours from:"]
[null,null,null,null,0,"","",null,null,null,null,null,0,"",""]
[null,null,null,null,0,"","",null,null,null,null,null,0,"",""]
[null,null,null,null,0,"","",null,null,null,null,null,0,"",""]
[null,null,null,null,0,"","",null,null,null,null,null,0,"",""]
[null,null,null,null,0,"","",null,null,null,null,null,0,"",""]
[null,null,null,null,0,"","",null,null,null,null,null,0,"",""]
[null,null,null,null,0,"","",null,null,null,null,null,0,"","",null,null,null,null,null,null,null,null,null,null,null,null,null,null,{"$f":"IF(AG38<>\"\",AG38,3)*IF(AC38=\"A\",4,IF(AC38=\"B\",3,IF(AC38=\"C\",2,IF(AC38=\"D\",1,IF(AND(AC38>=0,AC38<=4,ISNUMBER(AC38)),AC38,0)))))","v":0},{"$f":"IF(OR(AC38=\"A\",AC38=\"B\",AC38=\"C\",AC38=\"D\",AC38=\"F\",AND(AC38>=0,AC38<=4,ISNUMBER(AC38))),IF(AG38<>\"\",AG38,3),\"\")","v":""},{"$f":"IF(OR(AC38=\"A\",AC38=\"B\",AC38=\"C\",AC38=\"D\",AC38=\"P\",AND(AC38>=0,AC38<=4,ISNUMBER(AC38))),IF(AG38<>\"\",AG38,3),\"\")","v":""}]
[null,null,null,null,0,"","",null,null,null,null,null,0,"","",null,null,null,null,null,null,null,null,null,null,null,null,null,null,{"$f":"IF(AG39<>\"\",AG39,3)*IF(AC39=\"A\",4,IF(AC39=\"B\",3,IF(AC39=\"C\",2,IF(AC39=\"D\",1,IF(AND(AC39>=0,AC39<=4,ISNUMBER(AC39)),AC39,0)))))","v":0},{"$f":"IF(OR(AC39=\"A\",AC39=\"B\",AC39=\"C\",AC39=\"D\",AC39=\"F\",AND(AC39>=0,AC39<=4,ISNUMBER(AC39))),IF(AG39<>\"\",AG39,3),\"\")","v":""},{"$f":"IF(OR(AC39=\"A\",AC39=\"B\",AC39=\"C\",AC39=\"D\",AC39=\"P\",AND(AC39>=0,AC39<=4,ISNUMBER(AC39))),IF(AG39<>\"\",AG39,3),\"\")","v":""}]
[null,null,null,null,0,"","",null,null,null,null,null,0,"","",null,null,null,null,null,null,null,null,null,null,null,null,null,null,{"$f":"IF(AG40<>\"\",AG40,3)*IF(AC40=\"A\",4,IF(AC40=\"B\",3,IF(AC40=\"C\",2,IF(AC40=\"D\",1,IF(AND(AC40>=0,AC40<=4,ISNUMBER(AC40)),AC40,0)))))","v":0},{"$f":"IF(OR(AC40=\"A\",AC40=\"B\",AC40=\"C\",AC40=\"D\",AC40=\"F\",AND(AC40>=0,AC40<=4,ISNUMBER(AC40))),IF(AG40<>\"\",AG40,3),\"\")","v":""},{"$f":"IF(OR(AC40=\"A\",AC40=\"B\",AC40=\"C\",AC40=\"D\",AC40=\"P\",AND(AC40>=0,AC40<=4,ISNUMBER(AC40))),IF(AG40<>\"\",AG40,3),\"\")","v":""}]
[null,null,null,null,0,"","",null,null,null,null,null,0,"","",null,null,null,null,null,null,null,null,null,null,null,null,null,null,0,"",""]
[null,null,null,null,0,"","",null,null,null,null,null,0,"",""]

{"sheet":"GRAD CHECK","index":1,"n_rows":45,"n_cols":6,"rows_kept":45,"cut":false,"hidden":false,"merged":[[44,1,44,8],[24,1,24,5],[27,1,27,2],[28,1,28,3],[28,4,28,5],[38,1,38,8],[41,1,41,8],[20,2,20,3],[0,0,0,5],[1,0,1,5],[2,0,2,5],[6,1,6,3],[6,4,6,5],[9,1,9,3],[12,1,12,3],[12,4,12,6],[13,1,13,2],[15,1,15,2],[18,1,18,2]]}
["GRADUATION CHECK"]
["By"]
["COLLEGE OF AGRICULTURE SCIENCES AND NATURAL RESOURCES"]
[]
[]
["Name:",null,null,null,"Date:"]
[null,{"$f":"NREM!B1","v":"NAME, STUDENT"}]
[]
["ID:",null,null,null,"Graduation Date:"]
[null,{"$f":"NREM!S1","v":"999-99-999"}]
[]
["EMAIL:",null,null,null,"Major:"]
[null,null,null,null,{"$f":"NREM!Z1","v":"NREM-FAEC"}]
[]
["Advisor:",null,null,null,"Grad/Ret GPA:"]
[null,{"$f":"NREM!AG1","v":"ADVISOR"},null,null,{"$f":"NREM!Q22","v":"N/A"}]
[]
[null,"REMINDER:",null,null,"Upper Division GPA:"]
[null,null,null,null,{"$f":"NREM!Q25","v":"N/A"}]
["Total Hours to Date:",null,{"$f":"NREM!Q21","v":0},null,"Total  Upper Div Hours to Date:",{"$f":"NREM!Q23","v":0}]
["Current Enrollment:",null,null,null,"Total  Upper Div Points to Date:",{"$f":"NREM!Q24","v":0}]
[]
["Deficiencies/Remaining Hours:"]
[]
[]
[]
["Hours Needed from a 4 yr. School: ",null,null,null,"Upper Div. hours & points needed: "]
[]
[]
[]
["Number of hours needed to complete requirements:"]
[null,null,null,null,"(hrs. = current courses + deficiencies)"]
[]
[]
[]
[]
[]
["APPROVED BY:"]
[null,"________________________________________________________________________ Adviser/Date Signed"]
[]
[]
[null,"_______________________________________________________________ Department Head/Date Signed"]
[]
[]
[null,"____________________________________________________________________ Assoc. Dean/Date Signed"]

{"sheet":"ADVISOR'S NOTES","index":2,"n_rows":1,"n_cols":2,"rows_kept":1,"cut":false,"hidden":false,"merged":[]}
["DATE","NOTES"]