{"text_format":"1","workbook":"xlsx","n_sheets":3,"sheets":["BIMB ","GRAD CHECK","ADVISOR'S NOTES"],"not_rendered":{"charts":0,"images":0,"macros":0,"external_links":0,"defined_names":2,"comments":1,"pivot_tables":0},"unopened":[],"bounds":{"document_bytes":16777216,"sheet_cells":100000,"rows_first":2000,"rows_last":500,"rows_between":2000,"halvings":0,"cell_chars":16384,"cell_head_chars":4096},"cells_cut":0,"cells_raw":0,"read":"whole","date_system":"1900"}

{"sheet":"BIMB ","index":0,"n_rows":43,"n_cols":35,"rows_kept":43,"cut":false,"hidden":false,"merged":[[7,2,7,3],[7,8,7,11],[8,33,8,34],[8,2,8,3],[8,8,8,11],[7,23,7,24],[0,1,0,16],[0,18,0,24],[0,25,0,27],[0,32,0,34],[6,2,6,3],[6,8,6,11],[9,8,9,11],[10,33,10,34],[10,2,10,3],[10,8,10,11],[11,23,11,24],[10,23,10,24],[11,33,11,34],[9,33,9,34],[9,2,9,3],[11,2,11,3],[11,8,11,11],[22,0,22,11],[18,16,18,17],[19,8,19,11],[20,2,20,3],[20,8,20,11],[21,2,21,3],[21,8,21,11],[15,2,15,3],[15,8,15,11],[18,2,18,3],[18,8,18,11],[12,33,12,34],[12,2,12,3],[12,8,12,11],[12,23,12,24],[13,2,13,3],[13,8,13,11],[14,2,14,3],[14,8,14,11],[17,16,17,17],[19,2,19,3],[19,16,19,17],[17,2,17,3],[17,8,17,11],[16,2,16,3],[16,8,16,11],[13,33,13,34],[14,33,14,34],[20,16,20,17],[32,33,32,34],[33,33,33,34],[31,33,31,34],[27,33,27,34],[29,33,29,34],[15,33,15,34],[21,33,21,34],[18,33,18,34],[17,33,17,34],[16,33,16,34],[20,33,20,34],[19,33,19,34],[15,16,15,22],[34,33,34,34],[30,33,30,34],[21,16,21,17],[22,16,22,17],[23,16,23,17],[35,33,35,34],[36,33,36,34],[37,33,37,34],[41,33,41,34],[42,33,42,34],[38,33,38,34],[40,33,40,34],[39,33,39,34]]}
["NAME:","Name, Student's",null,null,null,null,null,null,null,null,null,null,null,null,null,null,null,"ID:","999-99-999",null,null,null,null,null,null,"BIMB",null,null,"ADV:",null,null,null,"Advisor'sName"]
[]
["General Education Requirements: 40 Hours",null,null,null,null,null,null,null,null,null,null,null,null,null,null,null,"College/Dept. Requirements: 13 Hours",null,null,null,null,null,null,null,null,null,"Major Requirements: 67 Hours",null,null,null,null,null,null,null,"2016-17"]
[]
["Course",null,"Grade",null,"GPts","GPACr","GrCr",null,null,"Deviation",null,null,null,null,null,null,"Course",null,"Grade","GPts","GPACr","GrCr",null,"Deviation",null,null,"Course",null,"Grade","GPts","GPACr","GrCr",null,"Deviation"]
[]
["ENGL ",1113,null,null,{"$f":"IF(H7<>\"\",H7,3)*IF(C7=\"A\",4,IF(C7=\"B\",3,IF(C7=\"C\",2,IF(C7=\"D\",1,IF(AND(C7>=0,C7<=4,ISNUMBER(C7)),C7,0)))))","v":0},{"$f":"IF(OR(C7=\"A\",C7=\"B\",C7=\"C\",C7=\"D\",C7=\"F\",AND(C7>=0,C7<=4,ISNUMBER(C7))),IF(H7<>\"\",H7,3),\"\")","v":""},{"$f":"IF(OR(C7=\"A\",C7=\"B\",C7=\"C\",C7=\"D\",C7=\"P\",AND(C7>=0,C7<=4,ISNUMBER(C7))),IF(H7<>\"\",H7,3),\"\")","v":""},null,null,null,null,null,null,null,null,null,null,null,null,null,null,null,null,null,null,null,"CORE COURSES:  62 HOURS"]
["ENGL ",1213,null,null,0,"","",null,null,null,null,null,null,null,null,null,"AG",1011,null,{"$f":"IF(W8<>\"\",W8,3)*IF(S8=\"A\",4,IF(S8=\"B\",3,IF(S8=\"C\",2,IF(S8=\"D\",1,IF(AND(S8>=0,S8<=4,ISNUMBER(S8)),S8,0)))))","v":0},{"$f":"IF(OR(S8=\"A\",S8=\"B\",S8=\"C\",S8=\"D\",S8=\"F\",AND(S8>=0,S8<=4,ISNUMBER(S8))),IF(W8<>\"\",W8,3),\"\")","v":""},{"$f":"IF(OR(S8=\"A\",S8=\"B\",S8=\"C\",S8=\"D\",S8=\"P\",AND(S8>=0,S8<=4,ISNUMBER(S8))),IF(W8<>\"\",W8,3),\"\")","v":""},1]
["HIST",1103,null,null,0,"","",null,null,null,null,null,null,null,null,null,"PLNT",1213,null,{"$f":"IF(W9<>\"\",W9,3)*IF(S9=\"A\",4,IF(S9=\"B\",3,IF(S9=\"C\",2,IF(S9=\"D\",1,IF(AND(S9>=0,S9<=4,ISNUMBER(S9)),S9,0)))))","v":0},{"$f":"IF(OR(S9=\"A\",S9=\"B\",S9=\"C\",S9=\"D\",S9=\"F\",AND(S9>=0,S9<=4,ISNUMBER(S9))),IF(W9<>\"\",W9,3),\"\")","v":""},{"$f":"IF(OR(S9=\"A\",S9=\"B\",S9=\"C\",S9=\"D\",S9=\"P\",AND(S9>=0,S9<=4,ISNUMBER(S9))),IF(W9<>\"\",W9,3),\"\")","v":""},null,null,null,null,"BIOC",3723,null,{"$f":"IF(AG9<>\"\",AG9,3)*IF(AC9=\"A\",4,IF(AC9=\"B\",3,IF(AC9=\"C\",2,IF(AC9=\"D\",1,IF(AND(AC9>=0,AC9<=4,ISNUMBER(AC9)),AC9,0)))))","v":0},{"$f":"IF(OR(AC9=\"A\",AC9=\"B\",AC9=\"C\",AC9=\"D\",AC9=\"F\",AND(AC9>=0,AC9<=4,ISNUMBER(AC9))),IF(AG9<>\"\",AG9,3),\"\")","v":""},{"$f":"IF(OR(AC9=\"A\",AC9=\"B\",AC9=\"C\",AC9=\"D\",AC9=\"P\",AND(AC9>=0,AC9<=4,ISNUMBER(AC9))),IF(AG9<>\"\",AG9,3),\"\")","v":""}]
["POLS",1113,null,null,0,"","",null,null,null,null,null,null,null,null,null,"FDSC",1133,null,{"$f":"IF(W10<>\"\",W10,3)*IF(S10=\"A\",4,IF(S10=\"B\",3,IF(S10=\"C\",2,IF(S10=\"D\",1,IF(AND(S10>=0,S10<=4,ISNUMBER(S10)),S10,0)))))","v":0},{"$f":"IF(OR(S10=\"A\",S10=\"B\",S10=\"C\",S10=\"D\",S10=\"F\",AND(S10>=0,S10<=4,ISNUMBER(S10))),IF(W10<>\"\",W10,3),\"\")","v":""},{"$f":"IF(OR(S10=\"A\",S10=\"B\",S10=\"C\",S10=\"D\",S10=\"P\",AND(S10>=0,S10<=4,ISNUMBER(S10))),IF(W10<>\"\",W10,3),\"\")","v":""},null,null,null,null,"BIOC",3813,null,0,"",""]
["MATH",2144,null,null,0,"","",4,null,null,null,null,null,null,null,null,"AGCM",3103,null,{"$f":"IF(W11<>\"\",W11,3)*IF(S11=\"A\",4,IF(S11=\"B\",3,IF(S11=\"C\",2,IF(S11=\"D\",1,IF(AND(S11>=0,S11<=4,ISNUMBER(S11)),S11,0)))))","v":0},{"$f":"IF(OR(S11=\"A\",S11=\"B\",S11=\"C\",S11=\"D\",S11=\"F\",AND(S11>=0,S11<=4,ISNUMBER(S11))),IF(W11<>\"\",W11,3),\"\")","v":""},{"$f":"IF(OR(S11=\"A\",S11=\"B\",S11=\"C\",S11=\"D\",S11=\"P\",AND(S11>=0,S11<=4,ISNUMBER(S11))),IF(W11<>\"\",W11,3),\"\")","v":""},null,null,null,null,"BIOC",3224,null,0,"","",4]
["(H)",null,null,null,0,"","",null,null,null,null,null,null,null,null,null,"AGCM",3203,null,0,"","",null,null,null,null,"BIOC",4883,null,0,"",""]
["(H)",null,null,null,0,"","",null,null,null,null,null,null,null,null,null,null,null,null,null,null,null,null,null,null,null,"BIOC",4990,null,{"$f":"IF(AG13<>\"\",AG13,3)*IF(AC13=\"A\",4,IF(AC13=\"B\",3,IF(AC13=\"C\",2,IF(AC13=\"D\",1,IF(AND(AC13>=0,AC13<=4,ISNUMBER(AC13)),AC13,0)))))","v":0},{"$f":"IF(OR(AC13=\"A\",AC13=\"B\",AC13=\"C\",AC13=\"D\",AC13=\"F\",AND(AC13>=0,AC13<=4,ISNUMBER(AC13))),IF(AG13<>\"\",AG13,3),\"\")","v":""},{"$f":"IF(OR(AC13=\"A\",AC13=\"B\",AC13=\"C\",AC13=\"D\",AC13=\"P\",AND(AC13>=0,AC13<=4,ISNUMBER(AC13))),IF(AG13<>\"\",AG13,3),\"\")","v":""},2]
["(N)",null,null,null,0,"","",5,null,null,null,null,null,null,null,null,null,null,null,null,null,null,null,null,null,null,"MATH",2153,null,0,"",""]
["CHEM",1314,null,null,{"$f":"IF(H15<>\"\",H15,3)*IF(C15=\"A\",4,IF(C15=\"B\",3,IF(C15=\"C\",2,IF(C15=\"D\",1,IF(AND(C15>=0,C15<=4,ISNUMBER(C15)),C15,0)))))","v":0},{"$f":"IF(OR(C15=\"A\",C15=\"B\",C15=\"C\",C15=\"D\",C15=\"F\",AND(C15>=0,C15<=4,ISNUMBER(C15))),IF(H15<>\"\",H15,3),\"\")","v":""},{"$f":"IF(OR(C15=\"A\",C15=\"B\",C15=\"C\",C15=\"D\",C15=\"P\",AND(C15>=0,C15<=4,ISNUMBER(C15))),IF(H15<>\"\",H15,3),\"\")","v":""},4,null,null,null,null,null,null,null,null,null,null,null,null,null,null,null,null,null,null,"MICR",2123,null,0,"",""]
["AGEC",1113,null,null,0,"","",null,null,null,null,null,null,null,null,null,null,null,null,null,null,null,null,"Graduate Semester",null,null,"MICR",2132,null,{"$f":"IF(AG16<>\"\",AG16,3)*IF(AC16=\"A\",4,IF(AC16=\"B\",3,IF(AC16=\"C\",2,IF(AC16=\"D\",1,IF(AND(AC16>=0,AC16<=4,ISNUMBER(AC16)),AC16,0)))))","v":0},{"$f":"IF(OR(AC16=\"A\",AC16=\"B\",AC16=\"C\",AC16=\"D\",AC16=\"F\",AND(AC16>=0,AC16<=4,ISNUMBER(AC16))),IF(AG16<>\"\",AG16,3),\"\")","v":""},{"$f":"IF(OR(AC16=\"A\",AC16=\"B\",AC16=\"C\",AC16=\"D\",AC16=\"P\",AND(AC16>=0,AC16<=4,ISNUMBER(AC16))),IF(AG16<>\"\",AG16,3),\"\")","v":""},2]
["GENED",null,null,null,0,"","",null,null,null,null,null,null,null,null,null,"Credits and GPAs as of this date:",null,null,null,null,null,null,null,null,null,"BIOL",1114,null,0,"","",4]
["GENED",null,null,null,{"$f":"IF(H18<>\"\",H18,3)*IF(C18=\"A\",4,IF(C18=\"B\",3,IF(C18=\"C\",2,IF(C18=\"D\",1,IF(AND(C18>=0,C18<=4,ISNUMBER(C18)),C18,0)))))","v":0},{"$f":"IF(OR(C18=\"A\",C18=\"B\",C18=\"C\",C18=\"D\",C18=\"F\",AND(C18>=0,C18<=4,ISNUMBER(C18))),IF(H18<>\"\",H18,3),\"\")","v":""},{"$f":"IF(OR(C18=\"A\",C18=\"B\",C18=\"C\",C18=\"D\",C18=\"P\",AND(C18>=0,C18<=4,ISNUMBER(C18))),IF(H18<>\"\",H18,3),\"\")","v":""},null,null,null,null,null,null,null,null,null,{"$f":"SUM(G7:G22,V8:V13,AF9:AF27,AF30:AF42,G27:G42,O28:O43)","v":0},null,"Hours for graduation",null,null,null,null,null,null,null,"BIOL",1604,null,{"$f":"IF(AG18<>\"\",AG18,3)*IF(AC18=\"A\",4,IF(AC18=\"B\",3,IF(AC18=\"C\",2,IF(AC18=\"D\",1,IF(AND(AC18>=0,AC18<=4,ISNUMBER(AC18)),AC18,0)))))","v":0},{"$f":"IF(OR(AC18=\"A\",AC18=\"B\",AC18=\"C\",AC18=\"D\",AC18=\"F\",AND(AC18>=0,AC18<=4,ISNUMBER(AC18))),IF(AG18<>\"\",AG18,3),\"\")","v":""},{"$f":"IF(OR(AC18=\"A\",AC18=\"B\",AC18=\"C\",AC18=\"D\",AC18=\"P\",AND(AC18>=0,AC18<=4,ISNUMBER(AC18))),IF(AG18<>\"\",AG18,3),\"\")","v":""},4]
["(D)",null,null,null,0,"","",null,null,null,null,null,null,null,null,null,{"$f":"IF(SUM(F7:F22,U8:U13,AE9:AE27,AE30:AE42,F27:F42,N28:N43)=0,\"N/A\",ROUNDDOWN(SUM(E7:E22,T8:T13,AD9:AD27,AD30:AD42,E27:E42,M28:M43)/SUM(F7:F22,U8:U13,AE9:AE27,AE30:AE42,F27:F42,N28:N43),2))","v":"N/A"},null,"Grad/Ret GPA",null,null,null,null,null,null,null,"BIOL",3023,null,0,"",""]
["(I)",null,null,null,0,"","",null,null,null,null,null,null,null,null,null,{"$f":"SUMIF(B7:B22,\">2999\",F7:F22)+SUMIF(B27:B42,\">2999\",F27:F42)+SUMIF(J27:J42,\">2999\",N28:N43)+SUMIF(R8:R13,\">2999\",U8:U13)+SUMIF(AB9:AB27,\">2999\",AE9:AE27)+SUMIF(AB30:AB42,\">2999\",AE30:AE42)","v":0},null,"UPPER DIV HOURS (40)",null,null,null,null,null,null,null,"PHYS",1114,null,{"$f":"IF(AG20<>\"\",AG20,3)*IF(AC20=\"A\",4,IF(AC20=\"B\",3,IF(AC20=\"C\",2,IF(AC20=\"D\",1,IF(AND(AC20>=0,AC20<=4,ISNUMBER(AC20)),AC20,0)))))","v":0},{"$f":"IF(OR(AC20=\"A\",AC20=\"B\",AC20=\"C\",AC20=\"D\",AC20=\"F\",AND(AC20>=0,AC20<=4,ISNUMBER(AC20))),IF(AG20<>\"\",AG20,3),\"\")","v":""},{"$f":"IF(OR(AC20=\"A\",AC20=\"B\",AC20=\"C\",AC20=\"D\",AC20=\"P\",AND(AC20>=0,AC20<=4,ISNUMBER(AC20))),IF(AG20<>\"\",AG20,3),\"\")","v":""},4]
[null,null,null,null,0,"","",null,null,null,null,null,null,null,null,null,{"$f":"SUMIF(B7:B22,\">2999\",E7:E22)+SUMIF(B27:B42,\">2999\",E27:E42)+SUMIF(J27:J42,\">2999\",M28:M43)+SUMIF(R8:R13,\">2999\",T8:T13)+SUMIF(AB9:AB27,\">2999\",AD9:AD27)+SUMIF(AB30:AB42,\">2999\",AD30:AD42)","v":0},null,"Upper div points (100)",null,null,null,null,null,null,null,"PHYS",1214,null,0,"","",4]
[null,null,null,null,0,"","",null,null,null,null,null,null,null,null,null,{"$f":"IF(SUM(Q21)=0,\"N/A\",Q21/Q20)","v":"N/A"},null,"Upper div GPA",null,null,null,null,null,null,null,"BIOL",3204,null,{"$f":"IF(AG22<>\"\",AG22,3)*IF(AC22=\"A\",4,IF(AC22=\"B\",3,IF(AC22=\"C\",2,IF(AC22=\"D\",1,IF(AND(AC22>=0,AC22<=4,ISNUMBER(AC22)),AC22,0)))))","v":0},{"$f":"IF(OR(AC22=\"A\",AC22=\"B\",AC22=\"C\",AC22=\"D\",AC22=\"F\",AND(AC22>=0,AC22<=4,ISNUMBER(AC22))),IF(AG22<>\"\",AG22,3),\"\")","v":""},{"$f":"IF(OR(AC22=\"A\",AC22=\"B\",AC22=\"C\",AC22=\"D\",AC22=\"P\",AND(AC22>=0,AC22<=4,ISNUMBER(AC22))),IF(AG22<>\"\",AG22,3),\"\")","v":""},4]
[null,null,null,null,null,null,null,null,null,null,null,null,null,null,null,null,null,null,"60 Senior College Hours",null,null,null,null,null,null,null,"CHEM",1515,null,{"$f":"IF(AG23<>\"\",AG23,3)*IF(AC23=\"A\",4,IF(AC23=\"B\",3,IF(AC23=\"C\",2,IF(AC23=\"D\",1,IF(AND(AC23>=0,AC23<=4,ISNUMBER(AC23)),AC23,0)))))","v":0},{"$f":"IF(OR(AC23=\"A\",AC23=\"B\",AC23=\"C\",AC23=\"D\",AC23=\"F\",AND(AC23>=0,AC23<=4,ISNUMBER(AC23))),IF(AG23<>\"\",AG23,3),\"\")","v":""},{"$f":"IF(OR(AC23=\"A\",AC23=\"B\",AC23=\"C\",AC23=\"D\",AC23=\"P\",AND(AC23>=0,AC23<=4,ISNUMBER(AC23))),IF(AG23<>\"\",AG23,3),\"\")","v":""},5]
["Elective Hours:",null,null,null,null,null,null,null,null,null,null,null,null,null,null,null,120,null,"HOURS NEEDED",null,null,null,null,null,null,null,"CHEM",2113,null,0,"",""]
["Non-Ag",null,null,null,null,null,null,null,"Ag Elect ",null,null,null,null,null,null,null,"NOTES:",null,null,null,null,null,null,null,null,null,"CHEM",3053,null,0,"",""]
["Course",null,"Grd","Cr",null,null,null,null,"Course",null,"Grd","Cr",null,null,null,null,null,null,null,null,null,null,null,null,null,null,"CHEM",3112,null,0,"","",2]
[null,null,null,null,{"$f":"D27*IF(OR(C27=\"A\",C27=\"RA\"),4,IF(OR(C27=\"B\",C27=\"RB\"),3,IF(OR(C27=\"C\",C27=\"RC\"),2,IF(OR(C27=\"D\",C27=\"RD\"),1,IF(AND(C27>=0,C27<=4,ISNUMBER(C27)),C27,0)))))","v":0},{"$f":"IF(OR(C27=\"\",D27=\"\"),\"\",IF(OR(C27=\"A\",C27=\"B\",C27=\"C\",C27=\"D\",C27=\"F\",C27=\"RA\",C27=\"RB\",C27=\"RC\",C27=\"RD\",C27=\"RF\",AND(C27>=0,C27<=4,ISNUMBER(C27))),D27,\"\"))","v":""},{"$f":"IF(OR(C27=\"\",D27=\"\"),\"\",IF(OR(C27=\"A\",C27=\"B\",C27=\"C\",C27=\"D\",C27=\"P\",AND(C27>=0,C27<=4,ISNUMBER(C27))),D27,\"\"))","v":""},null,null,null,null,null,"GPts","GPACr","GrCr",null,null,null,null,null,null,null,null,null,null,null,"CHEM",3153,null,0,"",""]
[null,null,null,null,0,"","",null,null,null,null,null,{"$f":"L27*IF(OR(K27=\"A\",K27=\"RA\"),4,IF(OR(K27=\"B\",K27=\"RB\"),3,IF(OR(K27=\"C\",K27=\"RC\"),2,IF(OR(K27=\"D\",K27=\"RD\"),1,IF(AND(K27>=0,K27=4,ISNUMBER(K27)),K27,0)))))","v":0},{"$f":"IF(OR(K27=\"\",L27=\"\"),\"\",IF(OR(K27=\"A\",K27=\"B\",K27=\"C\",K27=\"D\",K27=\"F\",K27=\"RA\",K27=\"RB\",K27=\"RC\",K27=\"RD\",K27=\"RF\",AND(K27>=0,K27<=4,ISNUMBER(K27))),L27,\"\"))","v":""},{"$f":"IF(OR(K27=\"\",L27=\"\"),\"\",IF(OR(K27=\"A\",K27=\"B\",K27=\"C\",K27=\"D\",K27=\"P\",AND(K27>=0,K27<=4,ISNUMBER(K27))),L27,\"\"))","v":""}]
[null,null,null,null,0,"","",null,null,null,null,null,0,"","",null,null,null,null,null,null,null,null,null,null,null," (RELATED COURSES): 5 HOURS"]
[null,null,null,null,0,"","",null,null,null,null,null,0,"","",null,null,null,null,null,null,null,null,null,null,null,null,null,null,{"$f":"IF(AG30<>\"\",AG30,3)*IF(AC30=\"A\",4,IF(AC30=\"B\",3,IF(AC30=\"C\",2,IF(AC30=\"D\",1,IF(AND(AC30>=0,AC30<=4,ISNUMBER(AC30)),AC30,0)))))","v":0},{"$f":"IF(OR(AC30=\"A\",AC30=\"B\",AC30=\"C\",AC30=\"D\",AC30=\"F\",AND(AC30>=0,AC30<=4,ISNUMBER(AC30))),IF(AG30<>\"\",AG30,3),\"\")","v":""},{"$f":"IF(OR(AC30=\"A\",AC30=\"B\",AC30=\"C\",AC30=\"D\",AC30=\"P\",AND(AC30>=0,AC30<=4,ISNUMBER(AC30))),IF(AG30<>\"\",AG30,3),\"\")","v":""}]
[null,null,null,null,0,"","",null,null,null,null,null,0,"","",null,null,null,null,null,null,null,null,null,null,null,null,null,null,0,"",""]
[null,null,null,null,0,"","",null,null,null,null,null,0,"","",null,null,null,null,null,null,null,null,null,null,null,null,null,null,0,"",""]
[null,null,null,null,0,"","",null,null,null,null,null,0,"","",null,null,null,null,null,null,null,null,null,null,null,null,null,null,0,"",""]
[null,null,null,null,0,"","",null,null,null,null,null,0,"","",null,null,null,null,null,null,null,null,null,null,null,null,null,null,0,"",""]
[null,null,null,null,0,"","",null,null,null,null,null,0,"","",null,null,null,null,null,null,null,null,null,null,null,null,null,null,0,"",""]
[null,null,null,null,0,"","",null,null,null,null,null,0,"","",null,null,null,null,null,null,null,null,null,null,null,null,null,null,{"$f":"IF(AG36<>\"\",AG36,3)*IF(AC36=\"A\",4,IF(AC36=\"B\",3,IF(AC36=\"C\",2,IF(AC36=\"D\",1,IF(AND(AC36>=0,AC36<=4,ISNUMBER(AC36)),AC36,0)))))","v":0},{"$f":"IF(OR(AC36=\"A\",AC36=\"B\",AC36=\"C\",AC36=\"D\",AC36=\"F\",AND(AC36>=0,AC36<=4,ISNUMBER(AC36))),IF(AG36<>\"\",AG36,3),\"\")","v":""},{"$f":"IF(OR(AC36=\"A\",AC36=\"B\",AC36=\"C\",AC36=\"D\",AC36=\"P\",AND(AC36>=0,AC36<=4,ISNUMBER(AC36))),IF(AG36<>\"\",AG36,3),\"\")","v":""}]
[null,null,null,null,0,"","",null,null,null,null,null,0,"","",null,null,null,null,null,null,null,null,null,null,null,null,null,null,0,"",""]
[null,null,null,null,0,"","",null,null,null,null,null,0,"","",null,null,null,null,null,null,null,null,null,null,null,null,null,null,0,"",""]
[null,null,null,null,0,"","",null,null,null,null,null,0,"","",null,null,null,null,null,null,null,null,null,null,null,null,null,null,0,"",""]
[null,null,null,null,0,"","",null,null,null,null,null,0,"","",null,null,null,null,null,null,null,null,null,null,null,null,null,null,0,"","",2]
[null,null,null,null,0,"","",null,null,null,null,null,0,"","",null,null,null,null,null,null,null,null,null,null,null,null,null,null,{"$f":"IF(AG41<>\"\",AG41,3)*IF(AC41=\"A\",4,IF(AC41=\"B\",3,IF(AC41=\"C\",2,IF(AC41=\"D\",1,IF(AND(AC41>=0,AC41<=4,ISNUMBER(AC41)),AC41,0)))))","v":0},{"$f":"IF(OR(AC41=\"A\",AC41=\"B\",AC41=\"C\",AC41=\"D\",AC41=\"F\",AND(AC41>=0,AC41<=4,ISNUMBER(AC41))),IF(AG41<>\"\",AG41,3),\"\")","v":""},{"$f":"IF(OR(AC41=\"A\",AC41=\"B\",AC41=\"C\",AC41=\"D\",AC41=\"P\",AND(AC41>=0,AC41<=4,ISNUMBER(AC41))),IF(AG41<>\"\",AG41,3),\"\")","v":""}]
[null,null,null,null,0,"","",null,null,null,null,null,0,"","",null,null,null,null,null,null,null,null,null,null,null,null,null,null,0,"",""]
[null,null,null,null,null,null,null,null,null,null,null,null,0,"",""]

{"sheet":"GRAD CHECK","index":1,"n_rows":45,"n_cols":6,"rows_kept":45,"cut":false,"hidden":false,"merged":[[44,1,44,8],[24,1,24,5],[27,1,27,2],[28,1,28,3],[28,4,28,5],[38,1,38,8],[41,1,41,8],[20,2,20,3],[0,0,0,5],[1,0,1,5],[2,0,2,5],[6,1,6,3],[6,4,6,5],[9,1,9,3],[12,1,12,3],[12,4,12,6],[13,1,13,2],[15,1,15,2],[17,1,18,3]]}
["GRADUATION CHECK"]
["By"]
["COLLEGE OF AGRICULTURE SCIENCES AND NATURAL RESOURCES"]
[]
[]
["Name:",null,null,null,"Date:"]
[null,{"$f":"'BIMB '!$B$1:$Q$1","v":"Name, Student's"}]
[]
["ID:",null,null,null,"Graduation Date:"]
[null,{"$f":"'BIMB '!$S$1","v":"999-99-999"},null,null,{"$f":"'BIMB '!$Q$16","v":"00:00:00"}]
[]
["EMAIL:",null,null,null,"Major:"]
[null,null,null,null,{"$f":"'BIMB '!$Z$1","v":"BIMB"}]
[]
["Advisor:",null,null,null,"Grad/Ret GPA:"]
[null,{"$f":"'BIMB '!$AG$1","v":"Advisor'sName"},null,null,{"$f":"'BIMB '!$Q$19","v":"N/A"}]
[]
[null,"REMINDER:",null,null,"Upper Division GPA:"]
[null,null,null,null,{"$f":"'BIMB '!$Q$22","v":"N/A"}]
["Total Hours to Date:",null,{"$f":"'BIMB '!$Q$18","v":0},null,"Total  Upper Div Hours to Date:",{"$f":"'BIMB '!$Q$20","v":0}]
["Current Enrollment:",null,null,null,"Total  Upper Div Points to Date:",{"$f":"'BIMB '!$Q$21","v":0}]
[]
["Deficiencies/Remaining Hours:"]
[]
[]
[]
["Hours Needed from a 4 yr. School: ",null,null,null,"Upper Div. hours & points needed: "]
[]
[]
[]
["Number of hours needed to complete requirements:"]
[null,null,null,null,"(hrs. = current courses + deficiencies)"]
[]
[]
[]
[]
[]
["APPROVED BY:"]
[null,"________________________________________________________________________ Adviser/Date Signed"]
[]
[]
[null,"_______________________________________________________________ Department Head/Date Signed"]
[]
[]
[null,"____________________________________________________________________ Assoc. Dean/Date Signed"]

{"sheet":"ADVISOR'S NOTES","index":2,"n_rows":1,"n_cols":2,"rows_kept":1,"cut":false,"hidden":false,"merged":[]}
["DATE","NOTES"]