{"text_format":"1","workbook":"xlsx","n_sheets":3,"sheets":["ANSI-PROD","GRAD CHECK","ADVISOR'S NOTES"],"not_rendered":{"charts":0,"images":0,"macros":0,"external_links":0,"defined_names":2,"comments":1,"pivot_tables":0},"unopened":[],"bounds":{"document_bytes":16777216,"sheet_cells":100000,"rows_first":2000,"rows_last":500,"rows_between":2000,"halvings":0,"cell_chars":16384,"cell_head_chars":4096},"cells_cut":0,"cells_raw":0,"read":"whole","date_system":"1900"}

{"sheet":"ANSI-PROD","index":0,"n_rows":43,"n_cols":35,"rows_kept":43,"cut":false,"hidden":false,"merged":[[9,33,9,34],[11,33,11,34],[10,33,10,34],[28,33,28,34],[39,33,39,34],[38,33,38,34],[36,33,36,34],[32,33,32,34],[33,33,33,34],[34,33,34,34],[19,33,19,34],[18,33,18,34],[17,33,17,34],[17,16,17,17],[17,2,17,3],[17,8,17,11],[23,16,23,17],[19,16,19,17],[20,16,20,17],[21,16,21,17],[22,16,22,17],[18,16,18,17],[21,0,21,11],[18,2,18,3],[18,8,18,11],[19,2,19,3],[19,8,19,11],[20,2,20,3],[20,8,20,11],[16,33,16,34],[12,2,12,3],[12,8,12,11],[13,23,13,24],[14,2,14,3],[14,8,14,11],[13,33,13,34],[15,16,15,22],[15,2,15,3],[15,8,15,11],[16,2,16,3],[16,8,16,11],[11,2,11,3],[11,8,11,11],[10,23,10,24],[14,33,14,34],[11,23,11,24],[13,2,13,3],[13,8,13,11],[12,23,12,24],[6,2,6,3],[6,8,6,11],[6,23,6,24],[10,2,10,3],[10,8,10,11],[9,23,9,24],[9,2,9,3],[9,8,9,11],[0,1,0,16],[8,2,8,3],[8,8,8,11],[7,23,7,24],[27,33,27,34],[15,33,15,34],[0,18,0,24],[0,32,0,34],[8,33,8,34],[20,33,20,34],[21,33,21,34],[26,33,26,34],[8,23,8,24],[12,33,12,34],[7,2,7,3],[7,8,7,11]]}
["NAME:","LNAME, FNAME",null,null,null,null,null,null,null,null,null,null,null,null,null,null,null,"ID:","999-99-999",null,null,null,null,null,null,"ANSI-PROD",null,null,"ADV:",null,null,null,"LNAME"]
[]
["General Education Requirements: 40 Hours",null,null,null,null,null,null,null,null,null,null,null,null,null,null,null,"College/Dept. Requirements: 23 Hours",null,null,null,null,null,null,null,null,null,"Major Requirements: 57 Hours",null,null,null,null,null,null,null,"2016-17"]
[]
["Course",null,"Grade",null,"GPts","GPACr","GrCr",null,null,"Deviation",null,null,null,null,null,null,"Course",null,"Grade","GPts","GPACr","GrCr",null,"Deviation",null,null,"Course",null,"Grade","GPts","GPACr","GrCr",null,"Deviation"]
[]
["ENGL ",1113,null,null,{"$f":"IF(H7<>\"\",H7,3)*IF(C7=\"A\",4,IF(C7=\"B\",3,IF(C7=\"C\",2,IF(C7=\"D\",1,IF(AND(C7>=0,C7<=4,ISNUMBER(C7)),C7,0)))))","v":0},{"$f":"IF(OR(C7=\"A\",C7=\"B\",C7=\"C\",C7=\"D\",C7=\"F\",AND(C7>=0,C7<=4,ISNUMBER(C7))),IF(H7<>\"\",H7,3),\"\")","v":""},{"$f":"IF(OR(C7=\"A\",C7=\"B\",C7=\"C\",C7=\"D\",C7=\"P\",AND(C7>=0,C7<=4,ISNUMBER(C7))),IF(H7<>\"\",H7,3),\"\")","v":""},null,null,null,null,null,null,null,null,null,"AG",1011,null,{"$f":"IF(W7<>\"\",W7,3)*IF(S7=\"A\",4,IF(S7=\"B\",3,IF(S7=\"C\",2,IF(S7=\"D\",1,IF(AND(S7>=0,S7<=4,ISNUMBER(S7)),S7,0)))))","v":0},{"$f":"IF(OR(S7=\"A\",S7=\"B\",S7=\"C\",S7=\"D\",S7=\"F\",AND(S7>=0,S7<=4,ISNUMBER(S7))),IF(W7<>\"\",W7,3),\"\")","v":""},{"$f":"IF(OR(S7=\"A\",S7=\"B\",S7=\"C\",S7=\"D\",S7=\"P\",AND(S7>=0,S7<=4,ISNUMBER(S7))),IF(W7<>\"\",W7,3),\"\")","v":""},1,null,null,null,"Core Courses: 41 Hours"]
["ENGL ",1213,null,null,{"$f":"IF(H8<>\"\",H8,3)*IF(C8=\"A\",4,IF(C8=\"B\",3,IF(C8=\"C\",2,IF(C8=\"D\",1,IF(AND(C8>=0,C8<=4,ISNUMBER(C8)),C8,0)))))","v":0},{"$f":"IF(OR(C8=\"A\",C8=\"B\",C8=\"C\",C8=\"D\",C8=\"F\",AND(C8>=0,C8<=4,ISNUMBER(C8))),IF(H8<>\"\",H8,3),\"\")","v":""},{"$f":"IF(OR(C8=\"A\",C8=\"B\",C8=\"C\",C8=\"D\",C8=\"P\",AND(C8>=0,C8<=4,ISNUMBER(C8))),IF(H8<>\"\",H8,3),\"\")","v":""},null,null,null,null,null,null,null,null,null,"PLNT",1213,null,{"$f":"IF(W8<>\"\",W8,3)*IF(S8=\"A\",4,IF(S8=\"B\",3,IF(S8=\"C\",2,IF(S8=\"D\",1,IF(AND(S8>=0,S8<=4,ISNUMBER(S8)),S8,0)))))","v":0},{"$f":"IF(OR(S8=\"A\",S8=\"B\",S8=\"C\",S8=\"D\",S8=\"F\",AND(S8>=0,S8<=4,ISNUMBER(S8))),IF(W8<>\"\",W8,3),\"\")","v":""},{"$f":"IF(OR(S8=\"A\",S8=\"B\",S8=\"C\",S8=\"D\",S8=\"P\",AND(S8>=0,S8<=4,ISNUMBER(S8))),IF(W8<>\"\",W8,3),\"\")","v":""}]
["HIST",1103,null,null,0,"","",null,null,null,null,null,null,null,null,null,"ANSI",1124,null,0,"","",4,null,null,null,"ACCT",2103,null,{"$f":"IF(AG9<>\"\",AG9,3)*IF(AC9=\"A\",4,IF(AC9=\"B\",3,IF(AC9=\"C\",2,IF(AC9=\"D\",1,IF(AND(AC9>=0,AC9<=4,ISNUMBER(AC9)),AC9,0)))))","v":0},{"$f":"IF(OR(AC9=\"A\",AC9=\"B\",AC9=\"C\",AC9=\"D\",AC9=\"F\",AND(AC9>=0,AC9<=4,ISNUMBER(AC9))),IF(AG9<>\"\",AG9,3),\"\")","v":""},{"$f":"IF(OR(AC9=\"A\",AC9=\"B\",AC9=\"C\",AC9=\"D\",AC9=\"P\",AND(AC9>=0,AC9<=4,ISNUMBER(AC9))),IF(AG9<>\"\",AG9,3),\"\")","v":""}]
["POLS",1113,null,null,0,"","",null,null,null,null,null,null,null,null,null,"CHEM",1314,null,0,"","",4,null,null,null,"AGEC",3423,null,{"$f":"IF(AG10<>\"\",AG10,3)*IF(AC10=\"A\",4,IF(AC10=\"B\",3,IF(AC10=\"C\",2,IF(AC10=\"D\",1,IF(AND(AC10>=0,AC10<=4,ISNUMBER(AC10)),AC10,0)))))","v":0},{"$f":"IF(OR(AC10=\"A\",AC10=\"B\",AC10=\"C\",AC10=\"D\",AC10=\"F\",AND(AC10>=0,AC10<=4,ISNUMBER(AC10))),IF(AG10<>\"\",AG10,3),\"\")","v":""},{"$f":"IF(OR(AC10=\"A\",AC10=\"B\",AC10=\"C\",AC10=\"D\",AC10=\"P\",AND(AC10>=0,AC10<=4,ISNUMBER(AC10))),IF(AG10<>\"\",AG10,3),\"\")","v":""}]
["MATH",1513,null,null,0,"","",null,null,null,null,null,null,null,null,null,"CHEM",1515,null,0,"","",5,null,null,null,"ANSI",2112,null,{"$f":"IF(AG11<>\"\",AG11,3)*IF(AC11=\"A\",4,IF(AC11=\"B\",3,IF(AC11=\"C\",2,IF(AC11=\"D\",1,IF(AND(AC11>=0,AC11<=4,ISNUMBER(AC11)),AC11,0)))))","v":0},{"$f":"IF(OR(AC11=\"A\",AC11=\"B\",AC11=\"C\",AC11=\"D\",AC11=\"F\",AND(AC11>=0,AC11<=4,ISNUMBER(AC11))),IF(AG11<>\"\",AG11,3),\"\")","v":""},{"$f":"IF(OR(AC11=\"A\",AC11=\"B\",AC11=\"C\",AC11=\"D\",AC11=\"P\",AND(AC11>=0,AC11<=4,ISNUMBER(AC11))),IF(AG11<>\"\",AG11,3),\"\")","v":""},2]
["MATH",1613,null,null,0,"","",null,null,null,null,null,null,null,null,null,"AGCM",3103,null,{"$f":"IF(W12<>\"\",W12,3)*IF(S12=\"A\",4,IF(S12=\"B\",3,IF(S12=\"C\",2,IF(S12=\"D\",1,IF(AND(S12>=0,S12<=4,ISNUMBER(S12)),S12,0)))))","v":0},{"$f":"IF(OR(S12=\"A\",S12=\"B\",S12=\"C\",S12=\"D\",S12=\"F\",AND(S12>=0,S12<=4,ISNUMBER(S12))),IF(W12<>\"\",W12,3),\"\")","v":""},{"$f":"IF(OR(S12=\"A\",S12=\"B\",S12=\"C\",S12=\"D\",S12=\"P\",AND(S12>=0,S12<=4,ISNUMBER(S12))),IF(W12<>\"\",W12,3),\"\")","v":""},null,null,null,null,"ANSI",2253,null,{"$f":"IF(AG12<>\"\",AG12,3)*IF(AC12=\"A\",4,IF(AC12=\"B\",3,IF(AC12=\"C\",2,IF(AC12=\"D\",1,IF(AND(AC12>=0,AC12<=4,ISNUMBER(AC12)),AC12,0)))))","v":0},{"$f":"IF(OR(AC12=\"A\",AC12=\"B\",AC12=\"C\",AC12=\"D\",AC12=\"F\",AND(AC12>=0,AC12<=4,ISNUMBER(AC12))),IF(AG12<>\"\",AG12,3),\"\")","v":""},{"$f":"IF(OR(AC12=\"A\",AC12=\"B\",AC12=\"C\",AC12=\"D\",AC12=\"P\",AND(AC12>=0,AC12<=4,ISNUMBER(AC12))),IF(AG12<>\"\",AG12,3),\"\")","v":""}]
["(H)",null,null,null,0,"","",null,null,null,null,null,null,null,null,null,"AGCM",3203,null,0,"","",null,null,null,null,"ANSI",3333,null,{"$f":"IF(AG13<>\"\",AG13,3)*IF(AC13=\"A\",4,IF(AC13=\"B\",3,IF(AC13=\"C\",2,IF(AC13=\"D\",1,IF(AND(AC13>=0,AC13<=4,ISNUMBER(AC13)),AC13,0)))))","v":0},{"$f":"IF(OR(AC13=\"A\",AC13=\"B\",AC13=\"C\",AC13=\"D\",AC13=\"F\",AND(AC13>=0,AC13<=4,ISNUMBER(AC13))),IF(AG13<>\"\",AG13,3),\"\")","v":""},{"$f":"IF(OR(AC13=\"A\",AC13=\"B\",AC13=\"C\",AC13=\"D\",AC13=\"P\",AND(AC13>=0,AC13<=4,ISNUMBER(AC13))),IF(AG13<>\"\",AG13,3),\"\")","v":""}]
["(H)",null,null,null,0,"","",null,null,null,null,null,null,null,null,null,null,null,null,{"$f":"IF(W14<>\"\",W14,3)*IF(S14=\"A\",4,IF(S14=\"B\",3,IF(S14=\"C\",2,IF(S14=\"D\",1,IF(AND(S14>=0,S14<=4,ISNUMBER(S14)),S14,0)))))","v":0},{"$f":"IF(OR(S14=\"A\",S14=\"B\",S14=\"C\",S14=\"D\",S14=\"F\",AND(S14>=0,S14<=4,ISNUMBER(S14))),IF(W14<>\"\",W14,3),\"\")","v":""},{"$f":"IF(OR(S14=\"A\",S14=\"B\",S14=\"C\",S14=\"D\",S14=\"P\",AND(S14>=0,S14<=4,ISNUMBER(S14))),IF(W14<>\"\",W14,3),\"\")","v":""},null,null,null,null,"ANSI",3423,null,{"$f":"IF(AG14<>\"\",AG14,3)*IF(AC14=\"A\",4,IF(AC14=\"B\",3,IF(AC14=\"C\",2,IF(AC14=\"D\",1,IF(AND(AC14>=0,AC14<=4,ISNUMBER(AC14)),AC14,0)))))","v":0},{"$f":"IF(OR(AC14=\"A\",AC14=\"B\",AC14=\"C\",AC14=\"D\",AC14=\"F\",AND(AC14>=0,AC14<=4,ISNUMBER(AC14))),IF(AG14<>\"\",AG14,3),\"\")","v":""},{"$f":"IF(OR(AC14=\"A\",AC14=\"B\",AC14=\"C\",AC14=\"D\",AC14=\"P\",AND(AC14>=0,AC14<=4,ISNUMBER(AC14))),IF(AG14<>\"\",AG14,3),\"\")","v":""}]
["(N)",null,null,null,0,"","",null,null,null,null,null,null,null,null,null,null,null,null,null,null,null,null,null,null,null,"ANSI",3433,null,0,"",""]
["BIOL",1114,null,null,0,"","",4,null,null,null,null,null,null,null,null,null,null,null,null,null,null,null,"Graduate Semester",null,null,"ANSI",3443,null,{"$f":"IF(AG16<>\"\",AG16,3)*IF(AC16=\"A\",4,IF(AC16=\"B\",3,IF(AC16=\"C\",2,IF(AC16=\"D\",1,IF(AND(AC16>=0,AC16<=4,ISNUMBER(AC16)),AC16,0)))))","v":0},{"$f":"IF(OR(AC16=\"A\",AC16=\"B\",AC16=\"C\",AC16=\"D\",AC16=\"F\",AND(AC16>=0,AC16<=4,ISNUMBER(AC16))),IF(AG16<>\"\",AG16,3),\"\")","v":""},{"$f":"IF(OR(AC16=\"A\",AC16=\"B\",AC16=\"C\",AC16=\"D\",AC16=\"P\",AND(AC16>=0,AC16<=4,ISNUMBER(AC16))),IF(AG16<>\"\",AG16,3),\"\")","v":""}]
["AGEC",1113,null,null,0,"","",null,null,null,null,null,null,null,null,null,"Credits and GPAs as of this date:",null,null,null,null,null,null,null,null,null,"ANSI",3543,null,0,"",""]
["GENED",null,null,null,0,"","",null,null,null,null,null,null,null,null,null,{"$f":"SUM(G7:G21,V7:V14,AF9:AF22,AF27:AF29,AF33:AF35,G26:G41,O28:O43)","v":0},null,"Hours for graduation",null,null,null,null,null,null,null,"ANSI",3623,null,{"$f":"IF(AG18<>\"\",AG18,3)*IF(AC18=\"A\",4,IF(AC18=\"B\",3,IF(AC18=\"C\",2,IF(AC18=\"D\",1,IF(AND(AC18>=0,AC18<=4,ISNUMBER(AC18)),AC18,0)))))","v":0},{"$f":"IF(OR(AC18=\"A\",AC18=\"B\",AC18=\"C\",AC18=\"D\",AC18=\"F\",AND(AC18>=0,AC18<=4,ISNUMBER(AC18))),IF(AG18<>\"\",AG18,3),\"\")","v":""},{"$f":"IF(OR(AC18=\"A\",AC18=\"B\",AC18=\"C\",AC18=\"D\",AC18=\"P\",AND(AC18>=0,AC18<=4,ISNUMBER(AC18))),IF(AG18<>\"\",AG18,3),\"\")","v":""}]
["GENED",null,null,null,0,"","",null,null,null,null,null,null,null,null,null,{"$f":"IF(SUM(F7:F21,U7:U14,AE9:AE22,AE27:AE29, AE33:AE35,F26:F41,N28:N43)=0,\"N/A\",ROUNDDOWN(SUM(E7:E21,T7:T14,AD9:AD22,AD27:AD29,AD33:AD35,E26:E41,M28:M43)/SUM(F7:F21,U7:U14,AE9:AE22,AE27:AE29,AE33:AE35,F26:F41,N28:N43),2))","v":"N/A"},null,"Grad/Ret GPA",null,null,null,null,null,null,null,"ANSI",3653,null,0,"",""]
["(D)",null,null,null,0,"","",null,null,null,null,null,null,null,null,null,{"$f":"SUMIF(B7:B21,\">2999\",F7:F21)+SUMIF(B26:B41,\">2999\",F26:F41)+SUMIF(J26:J41,\">2999\",N28:N43)+SUMIF(R7:R14,\">2999\",U7:U14)+SUMIF(AB9:AB22,\">2999\",AE9:AE22)+SUMIF(AB27:AB35,\">2999\",AE27:AE35)","v":0},null,"UPPER DIV HOURS (40)",null,null,null,null,null,null,null,"ANSI",4803,null,{"$f":"IF(AG20<>\"\",AG20,3)*IF(AC20=\"A\",4,IF(AC20=\"B\",3,IF(AC20=\"C\",2,IF(AC20=\"D\",1,IF(AND(AC20>=0,AC20<=4,ISNUMBER(AC20)),AC20,0)))))","v":0},{"$f":"IF(OR(AC20=\"A\",AC20=\"B\",AC20=\"C\",AC20=\"D\",AC20=\"F\",AND(AC20>=0,AC20<=4,ISNUMBER(AC20))),IF(AG20<>\"\",AG20,3),\"\")","v":""},{"$f":"IF(OR(AC20=\"A\",AC20=\"B\",AC20=\"C\",AC20=\"D\",AC20=\"P\",AND(AC20>=0,AC20<=4,ISNUMBER(AC20))),IF(AG20<>\"\",AG20,3),\"\")","v":""}]
["(I)",null,null,null,0,"","",null,null,null,null,null,null,null,null,null,{"$f":"SUMIF(B7:B21,\">2999\",E7:E21)+SUMIF(B26:B41,\">2999\",E26:E41)+SUMIF(J26:J41,\">2999\",M28:M43)+SUMIF(R7:R14,\">2999\",T7:T14)+SUMIF(AB9:AB22,\">2999\",AD9:AD22)+SUMIF(AB27:AB29,\">2999\",AD27:AD29)+SUMIF(AB33:AB35,\">2999\",AD33:AD35)","v":0},null,"Upper div points (100)",null,null,null,null,null,null,null,"ANSI",4863,null,0,"",""]
[null,null,null,null,null,null,null,null,null,null,null,null,null,null,null,null,{"$f":"IF(SUM(Q21)=0,\"N/A\",Q21/Q20)","v":"N/A"},null,"Upper div GPA",null,null,null,null,null,null,null,"ENTO",3003,null,{"$f":"IF(AG22<>\"\",AG22,3)*IF(AC22=\"A\",4,IF(AC22=\"B\",3,IF(AC22=\"C\",2,IF(AC22=\"D\",1,IF(AND(AC22>=0,AC22<=4,ISNUMBER(AC22)),AC22,0)))))","v":0},{"$f":"IF(OR(AC22=\"A\",AC22=\"B\",AC22=\"C\",AC22=\"D\",AC22=\"F\",AND(AC22>=0,AC22<=4,ISNUMBER(AC22))),IF(AG22<>\"\",AG22,3),\"\")","v":""},{"$f":"IF(OR(AC22=\"A\",AC22=\"B\",AC22=\"C\",AC22=\"D\",AC22=\"P\",AND(AC22>=0,AC22<=4,ISNUMBER(AC22))),IF(AG22<>\"\",AG22,3),\"\")","v":""}]
["Elective Hours:",null,null,null,null,null,null,null,null,null,null,null,null,null,null,null,null,null,"60 Senior College Hours"]
["Non-Ag",null,null,null,null,null,null,null,"Ag Elect",null,null,null,null,null,null,null,120,null,"HOURS NEEDED",null,null,null,null,null,null,null,"9 hours from: "]
["Course",null,"Grd","Cr",null,null,null,null,"Course",null,"Grd","Cr",null,null,null,null,"NOTES:"]
[null,null,null,null,{"$f":"D26*IF(OR(C26=\"A\",C26=\"RA\"),4,IF(OR(C26=\"B\",C26=\"RB\"),3,IF(OR(C26=\"C\",C26=\"RC\"),2,IF(OR(C26=\"D\",C26=\"RD\"),1,IF(AND(C26>=0,C26<=4,ISNUMBER(C26)),C26,0)))))","v":0},{"$f":"IF(OR(C26=\"\",D26=\"\"),\"\",IF(OR(C26=\"A\",C26=\"B\",C26=\"C\",C26=\"D\",C26=\"F\",C26=\"RA\",C26=\"RB\",C26=\"RC\",C26=\"RD\",C26=\"RF\",AND(C26>=0,C26<=4,ISNUMBER(C26))),D26,\"\"))","v":""},{"$f":"IF(OR(C26=\"\",D26=\"\"),\"\",IF(OR(C26=\"A\",C26=\"B\",C26=\"C\",C26=\"D\",C26=\"P\",AND(C26>=0,C26<=4,ISNUMBER(C26))),D26,\"\"))","v":""}]
[null,null,null,null,0,"","",null,null,null,null,null,"GPts","GPACr","GrCr",null,null,null,null,null,null,null,null,null,null,null,"ANSI",null,null,{"$f":"IF(AG27<>\"\",AG27,3)*IF(AC27=\"A\",4,IF(AC27=\"B\",3,IF(AC27=\"C\",2,IF(AC27=\"D\",1,IF(AND(AC27>=0,AC27<=4,ISNUMBER(AC27)),AC27,0)))))","v":0},{"$f":"IF(OR(AC27=\"A\",AC27=\"B\",AC27=\"C\",AC27=\"D\",AC27=\"F\",AND(AC27>=0,AC27<=4,ISNUMBER(AC27))),IF(AG27<>\"\",AG27,3),\"\")","v":""},{"$f":"IF(OR(AC27=\"A\",AC27=\"B\",AC27=\"C\",AC27=\"D\",AC27=\"P\",AND(AC27>=0,AC27<=4,ISNUMBER(AC27))),IF(AG27<>\"\",AG27,3),\"\")","v":""}]
[null,null,null,null,0,"","",null,null,null,null,null,{"$f":"L26*IF(OR(K26=\"A\",K26=\"RA\"),4,IF(OR(K26=\"B\",K26=\"RB\"),3,IF(OR(K26=\"C\",K26=\"RC\"),2,IF(OR(K26=\"D\",K26=\"RD\"),1,IF(AND(K26>=0,K26=4,ISNUMBER(K26)),K26,0)))))","v":0},{"$f":"IF(OR(K26=\"\",L26=\"\"),\"\",IF(OR(K26=\"A\",K26=\"B\",K26=\"C\",K26=\"D\",K26=\"F\",K26=\"RA\",K26=\"RB\",K26=\"RC\",K26=\"RD\",K26=\"RF\",AND(K26>=0,K26<=4,ISNUMBER(K26))),L26,\"\"))","v":""},{"$f":"IF(OR(K26=\"\",L26=\"\"),\"\",IF(OR(K26=\"A\",K26=\"B\",K26=\"C\",K26=\"D\",K26=\"P\",AND(K26>=0,K26<=4,ISNUMBER(K26))),L26,\"\"))","v":""},null,null,null,null,null,null,null,null,null,null,null,"ANSI",null,null,{"$f":"IF(AG28<>\"\",AG28,3)*IF(AC28=\"A\",4,IF(AC28=\"B\",3,IF(AC28=\"C\",2,IF(AC28=\"D\",1,IF(AND(AC28>=0,AC28<=4,ISNUMBER(AC28)),AC28,0)))))","v":0},{"$f":"IF(OR(AC28=\"A\",AC28=\"B\",AC28=\"C\",AC28=\"D\",AC28=\"F\",AND(AC28>=0,AC28<=4,ISNUMBER(AC28))),IF(AG28<>\"\",AG28,3),\"\")","v":""},{"$f":"IF(OR(AC28=\"A\",AC28=\"B\",AC28=\"C\",AC28=\"D\",AC28=\"P\",AND(AC28>=0,AC28<=4,ISNUMBER(AC28))),IF(AG28<>\"\",AG28,3),\"\")","v":""}]
[null,null,null,null,0,"","",null,null,null,null,null,0,"","",null,null,null,null,null,null,null,null,null,null,null,"ANSI",null,null,0,"",""]
[null,null,null,null,0,"","",null,null,null,null,null,0,"",""]
[null,null,null,null,0,"","",null,null,null,null,null,0,"","",null,null,null,null,null,null,null,null,null,null,null,"Related Courses: 7 Hours"]
[null,null,null,null,0,"","",null,null,null,null,null,0,"",""]
[null,null,null,null,0,"","",null,null,null,null,null,0,"","",null,null,null,null,null,null,null,null,null,null,null,null,null,null,{"$f":"IF(AG33<>\"\",AG33,3)*IF(AC33=\"A\",4,IF(AC33=\"B\",3,IF(AC33=\"C\",2,IF(AC33=\"D\",1,IF(AND(AC33>=0,AC33<=4,ISNUMBER(AC33)),AC33,0)))))","v":0},{"$f":"IF(OR(AC33=\"A\",AC33=\"B\",AC33=\"C\",AC33=\"D\",AC33=\"F\",AND(AC33>=0,AC33<=4,ISNUMBER(AC33))),IF(AG33<>\"\",AG33,3),\"\")","v":""},{"$f":"IF(OR(AC33=\"A\",AC33=\"B\",AC33=\"C\",AC33=\"D\",AC33=\"P\",AND(AC33>=0,AC33<=4,ISNUMBER(AC33))),IF(AG33<>\"\",AG33,3),\"\")","v":""}]
[null,null,null,null,0,"","",null,null,null,null,null,0,"","",null,null,null,null,null,null,null,null,null,null,null,null,null,null,0,"",""]
[null,null,null,null,0,"","",null,null,null,null,null,0,"","",null,null,null,null,null,null,null,null,null,null,null,null,null,null,0,"",""]
[null,null,null,null,0,"","",null,null,null,null,null,0,"",""]
[null,null,null,null,0,"","",null,null,null,null,null,0,"",""]
[null,null,null,null,0,"","",null,null,null,null,null,0,"",""]
[null,null,null,null,0,"","",null,null,null,null,null,0,"",""]
[null,null,null,null,0,"","",null,null,null,null,null,0,"",""]
[null,null,null,null,0,"","",null,null,null,null,null,0,"",""]
[null,null,null,null,null,null,null,null,null,null,null,null,0,"",""]
[null,null,null,null,null,null,null,null,null,null,null,null,0,"",""]

{"sheet":"GRAD CHECK","index":1,"n_rows":45,"n_cols":6,"rows_kept":45,"cut":false,"hidden":false,"merged":[[44,1,44,8],[24,1,24,5],[27,1,27,2],[28,1,28,3],[28,4,28,5],[38,1,38,8],[41,1,41,8],[20,2,20,3],[0,0,0,5],[1,0,1,5],[2,0,2,5],[6,1,6,3],[6,4,6,5],[9,1,9,3],[12,1,12,3],[12,4,12,6],[13,1,13,2],[15,1,15,2],[17,1,18,3]]}
["GRADUATION CHECK"]
["By"]
["COLLEGE OF AGRICULTURE SCIENCES AND NATURAL RESOURCES"]
[]
[]
["Name:",null,null,null,"Date:"]
[null,{"$f":"'ANSI-PROD'!B1","v":"LNAME, FNAME"}]
[]
["ID:",null,null,null,"Graduation Date:"]
[null,{"$f":"'ANSI-PROD'!S1","v":"999-99-999"},null,null,{"$f":"'ANSI-PROD'!Q16","v":"00:00:00"}]
[]
["EMAIL:",null,null,null,"Major:"]
[null,null,null,null,{"$f":"'ANSI-PROD'!Z1","v":"ANSI-PROD"}]
[]
["Advisor:",null,null,null,"Grad/Ret GPA:"]
[null,{"$f":"'ANSI-PROD'!AG1","v":"LNAME"},null,null,{"$f":"'ANSI-PROD'!Q19","v":"N/A"}]
[]
[null,"REMINDER:",null,null,"Upper Division GPA:"]
[null,null,null,null,{"$f":"'ANSI-PROD'!Q22","v":"N/A"}]
["Total Hours to Date:",null,{"$f":"'ANSI-PROD'!Q18","v":0},null,"Total  Upper Div Hours to Date:",{"$f":"'ANSI-PROD'!Q20","v":0}]
["Current Enrollment:",null,null,null,"Total  Upper Div Points to Date:",{"$f":"'ANSI-PROD'!Q21","v":0}]
[]
["Deficiencies/Remaining Hours:"]
[]
[]
[]
["Hours Needed from a 4 yr. School: ",null,null,null,"Upper Div. hours & points needed: "]
[]
[]
[]
["Number of hours needed to complete requirements:"]
[null,null,null,null,"(hrs. = current courses + deficiencies)"]
[]
[]
[]
[]
[]
["APPROVED BY:"]
[null,"________________________________________________________________________ Adviser/Date Signed"]
[]
[]
[null,"_______________________________________________________________ Department Head/Date Signed"]
[]
[]
[null,"____________________________________________________________________ Assoc. Dean/Date Signed"]

{"sheet":"ADVISOR'S NOTES","index":2,"n_rows":1,"n_cols":2,"rows_kept":1,"cut":false,"hidden":false,"merged":[]}
["DATE","NOTES"]