{"text_format":"1","workbook":"xlsx","n_sheets":3,"sheets":["ANSI-BUS","GRAD CHECK ","ADVISOR'S NOTES"],"not_rendered":{"charts":0,"images":0,"macros":0,"external_links":0,"defined_names":2,"comments":1,"pivot_tables":0},"unopened":[],"bounds":{"document_bytes":16777216,"sheet_cells":100000,"rows_first":2000,"rows_last":500,"rows_between":2000,"halvings":0,"cell_chars":16384,"cell_head_chars":4096},"cells_cut":0,"cells_raw":0,"read":"whole","date_system":"1900"}

{"sheet":"ANSI-BUS","index":0,"n_rows":43,"n_cols":35,"rows_kept":43,"cut":false,"hidden":false,"merged":[[20,2,20,3],[20,8,20,11],[17,2,17,3],[17,8,17,11],[19,33,19,34],[18,2,18,3],[18,8,18,11],[19,2,19,3],[19,8,19,11],[45,33,45,34],[37,33,37,34],[39,33,39,34],[44,33,44,34],[36,33,36,34],[38,33,38,34],[40,33,40,34],[34,33,34,34],[26,33,26,34],[20,33,20,34],[21,33,21,34],[32,33,32,34],[29,33,29,34],[28,33,28,34],[27,33,27,34],[15,33,15,34],[21,2,21,3],[21,8,21,11],[33,33,33,34],[30,33,30,34],[31,33,31,34],[23,0,23,11],[22,2,22,3],[22,8,22,11],[22,16,22,17],[21,16,21,17],[18,16,18,17],[19,16,19,17],[20,16,20,17],[17,16,17,17],[16,2,16,3],[16,8,16,11],[14,16,14,22],[16,16,16,17],[14,2,14,3],[14,8,14,11],[15,2,15,3],[15,8,15,11],[11,2,11,3],[11,8,11,11],[13,33,13,34],[11,23,11,24],[14,33,14,34],[12,2,12,3],[12,8,12,11],[13,2,13,3],[13,8,13,11],[12,33,12,34],[10,2,10,3],[10,8,10,11],[10,23,10,24],[8,2,8,3],[8,8,8,11],[8,33,8,34],[9,2,9,3],[9,8,9,11],[8,23,8,24],[0,18,0,24],[0,32,0,34],[6,2,6,3],[6,8,6,11],[6,23,6,24],[0,1,0,16],[9,23,9,24],[7,2,7,3],[7,8,7,11],[7,23,7,24]]}
["NAME:","Name, Student's",null,null,null,null,null,null,null,null,null,null,null,null,null,null,null,"ID:","999-999-99",null,null,null,null,null,null,"ANSI-BUS",null,null,"ADV:",null,null,null,"ADVISOR"]
[]
["General Education Requirements: 40 Hours",null,null,null,null,null,null,null,null,null,null,null,null,null,null,null,"College/Dept. Requirements: 18 Hours",null,null,null,null,null,null,null,null,null,"Major Requirements: 62 Hours",null,null,null,null,null,null,null,"2016-17"]
[]
["Course",null,"Grade",null,"GPts","GPACr","GrCr",null,null,"Deviation",null,null,null,null,null,null,"Course",null,"Grade","GPts","GPACr","GrCr",null,"Deviation",null,null,"Course",null,"Grade","GPts","GPACr","GrCr",null,"Deviation"]
[]
["ENGL ",1113,null,null,{"$f":"IF(H7<>\"\",H7,3)*IF(C7=\"A\",4,IF(C7=\"B\",3,IF(C7=\"C\",2,IF(C7=\"D\",1,IF(AND(C7>=0,C7<=4,ISNUMBER(C7)),C7,0)))))","v":0},{"$f":"IF(OR(C7=\"A\",C7=\"B\",C7=\"C\",C7=\"D\",C7=\"F\",AND(C7>=0,C7<=4,ISNUMBER(C7))),IF(H7<>\"\",H7,3),\"\")","v":""},{"$f":"IF(OR(C7=\"A\",C7=\"B\",C7=\"C\",C7=\"D\",C7=\"P\",AND(C7>=0,C7<=4,ISNUMBER(C7))),IF(H7<>\"\",H7,3),\"\")","v":""},null,null,null,null,null,null,null,null,null,"AG",1011,null,{"$f":"IF(W7<>\"\",W7,3)*IF(S7=\"A\",4,IF(S7=\"B\",3,IF(S7=\"C\",2,IF(S7=\"D\",1,IF(AND(S7>=0,S7<=4,ISNUMBER(S7)),S7,0)))))","v":0},{"$f":"IF(OR(S7=\"A\",S7=\"B\",S7=\"C\",S7=\"D\",S7=\"F\",AND(S7>=0,S7<=4,ISNUMBER(S7))),IF(W7<>\"\",W7,3),\"\")","v":""},{"$f":"IF(OR(S7=\"A\",S7=\"B\",S7=\"C\",S7=\"D\",S7=\"P\",AND(S7>=0,S7<=4,ISNUMBER(S7))),IF(W7<>\"\",W7,3),\"\")","v":""},1,null,null,null,"Core Courses: 23 Hours"]
["ENGL ",1213,null,null,{"$f":"IF(H8<>\"\",H8,3)*IF(C8=\"A\",4,IF(C8=\"B\",3,IF(C8=\"C\",2,IF(C8=\"D\",1,IF(AND(C8>=0,C8<=4,ISNUMBER(C8)),C8,0)))))","v":0},{"$f":"IF(OR(C8=\"A\",C8=\"B\",C8=\"C\",C8=\"D\",C8=\"F\",AND(C8>=0,C8<=4,ISNUMBER(C8))),IF(H8<>\"\",H8,3),\"\")","v":""},{"$f":"IF(OR(C8=\"A\",C8=\"B\",C8=\"C\",C8=\"D\",C8=\"P\",AND(C8>=0,C8<=4,ISNUMBER(C8))),IF(H8<>\"\",H8,3),\"\")","v":""},null,null,null,null,null,null,null,null,null,"PLNT",1213,null,0,"",""]
["HIST",1103,null,null,0,"","",null,null,null,null,null,null,null,null,null,"ANSI",1124,null,0,"","",4,null,null,null,"ANSI",2112,null,{"$f":"IF(AG9<>\"\",AG9,3)*IF(AC9=\"A\",4,IF(AC9=\"B\",3,IF(AC9=\"C\",2,IF(AC9=\"D\",1,IF(AND(AC9>=0,AC9<=4,ISNUMBER(AC9)),AC9,0)))))","v":0},{"$f":"IF(OR(AC9=\"A\",AC9=\"B\",AC9=\"C\",AC9=\"D\",AC9=\"F\",AND(AC9>=0,AC9<=4,ISNUMBER(AC9))),IF(AG9<>\"\",AG9,3),\"\")","v":""},{"$f":"IF(OR(AC9=\"A\",AC9=\"B\",AC9=\"C\",AC9=\"D\",AC9=\"P\",AND(AC9>=0,AC9<=4,ISNUMBER(AC9))),IF(AG9<>\"\",AG9,3),\"\")","v":""},2]
["POLS",1113,null,null,0,"","",null,null,null,null,null,null,null,null,null,"CHEM",1314,null,0,"","",4,null,null,null,"ANSI",2253,null,0,"",""]
["MATH",1513,null,null,0,"","",null,null,null,null,null,null,null,null,null,"AGCM",3103,null,0,"","",null,null,null,null,"ANSI",3423,null,{"$f":"IF(AG11<>\"\",AG11,3)*IF(AC11=\"A\",4,IF(AC11=\"B\",3,IF(AC11=\"C\",2,IF(AC11=\"D\",1,IF(AND(AC11>=0,AC11<=4,ISNUMBER(AC11)),AC11,0)))))","v":0},{"$f":"IF(OR(AC11=\"A\",AC11=\"B\",AC11=\"C\",AC11=\"D\",AC11=\"F\",AND(AC11>=0,AC11<=4,ISNUMBER(AC11))),IF(AG11<>\"\",AG11,3),\"\")","v":""},{"$f":"IF(OR(AC11=\"A\",AC11=\"B\",AC11=\"C\",AC11=\"D\",AC11=\"P\",AND(AC11>=0,AC11<=4,ISNUMBER(AC11))),IF(AG11<>\"\",AG11,3),\"\")","v":""}]
["MATH",1613,null,null,0,"","",null,null,null,null,null,null,null,null,null,"AGCM",3203,null,0,"","",null,null,null,null,"ANSI",3433,null,0,"",""]
["(H)",null,null,null,0,"","",null,null,null,null,null,null,null,null,null,null,null,null,null,null,null,null,null,null,null,"ANSI",3443,null,0,"",""]
["(H)",null,null,null,0,"","",null,null,null,null,null,null,null,null,null,null,null,null,null,null,null,null,null,null,null,"ANSI",3543,null,0,"",""]
["(N)",null,null,null,0,"","",null,null,null,null,null,null,null,null,null,null,null,null,null,null,null,null,"Graduate Semester",null,null,"ANSI",3653,null,0,"",""]
["BIOL",1114,null,null,0,"","",4,null,null,null,null,null,null,null,null,"Credits and GPAs as of this date:",null,null,null,null,null,null,null,null,null,"ANSI",4863,null,0,"",""]
["AGEC",1113,null,null,0,"","",null,null,null,null,null,null,null,null,null,{"$f":"SUM(G7:G23,V7:V12,AF7:AF16,AF21:AF22,AF27:AF34,AF37:AF41,G28:G43,O28:O42)","v":0},null,"Hours for graduation"]
["GENED",null,null,null,0,"","",null,null,null,null,null,null,null,null,null,{"$f":"IF(SUM(F7:F23,AE9:AE16,AE21:AE22,AE27:AE34, AE37:AE41,F28:F43,N28:N43,U7:U12)=0,\"N/A\",ROUNDDOWN(SUM(E7:E23,T7:T12,AD9:AD16,AD21:AD22,AD27:AD34,AD37:AD41,E28:E43,M28:M43)/SUM(F7:F23,U7:U12,AE9:AE16,AE21:AE22,AE27:AE34,AE37:AE41,F28:F43,N28:N43),2))","v":"N/A"},null,"Grad/Ret GPA",null,null,null,null,null,null,null,"Additional Core:  6 hours"]
["GENED",null,null,null,0,"","",null,null,null,null,null,null,null,null,null,{"$f":"SUMIF(B7:B23,\">2999\",F7:F23)+SUMIF(B28:B43,\">2999\",F28:F43)+SUMIF(J28:J43,\">2999\",N28:N42)+SUMIF(R7:R12,\">2999\",U7:U12)+SUMIF(AB7:AB16,\">2999\",AE7:AE16)+SUMIF(AB21:AB22,\">2999\",AE21:AE22)+SUMIF(AB27:AB34,\">2999\",AE27:AE34)+SUMIF(AB37:AB41,\">2999\",AE37:AE41)","v":0},null,"UPPER DIV HOURS (40)",null,null,null,null,null,null,null,"ANSI 4023,4423,4543,4553,4613,4633, 4643,4703,4713"]
["(D)",null,null,null,0,"","",null,null,null,null,null,null,null,null,null,{"$f":"SUMIF(B7:B23,\">2999\",E7:E23)+SUMIF(B28:B43,\">2999\",E28:E43)+SUMIF(J28:J43,\">2999\",M28:M43)+SUMIF(R7:R12,\">2999\",T7:T12)+SUMIF(AB9:AB16,\">2999\",AD9:AD16)+SUMIF(AB21:AB22,\">2999\",AD21:AD22)+SUMIF(AB27:AB34,\">2999\",AD27:AD34)+SUMIF(AB37:AB41,\">2999\",AD37:AD41)","v":0},null,"Upper div points (100)"]
["(I)",null,null,null,0,"","",null,null,null,null,null,null,null,null,null,{"$f":"IF(SUM(Q20)=0,\"N/A\",Q20/Q19)","v":"N/A"},null,"Upper div GPA",null,null,null,null,null,null,null,"ANSI",null,null,{"$f":"IF(AG21<>\"\",AG21,3)*IF(AC21=\"A\",4,IF(AC21=\"B\",3,IF(AC21=\"C\",2,IF(AC21=\"D\",1,IF(AND(AC21>=0,AC21<=4,ISNUMBER(AC21)),AC21,0)))))","v":0},{"$f":"IF(OR(AC21=\"A\",AC21=\"B\",AC21=\"C\",AC21=\"D\",AC21=\"F\",AND(AC21>=0,AC21<=4,ISNUMBER(AC21))),IF(AG21<>\"\",AG21,3),\"\")","v":""},{"$f":"IF(OR(AC21=\"A\",AC21=\"B\",AC21=\"C\",AC21=\"D\",AC21=\"P\",AND(AC21>=0,AC21<=4,ISNUMBER(AC21))),IF(AG21<>\"\",AG21,3),\"\")","v":""}]
[null,null,null,null,0,"","",null,null,null,null,null,null,null,null,null,null,null,"60 Senior College Hours",null,null,null,null,null,null,null,"ANSI",null,null,0,"",""]
[null,null,null,null,0,"","",null,null,null,null,null,null,null,null,null,120,null,"HOURS NEEDED"]
[null,null,null,null,null,null,null,null,null,null,null,null,null,null,null,null,"NOTES:",null,null,null,null,null,null,null,null,null,"Additional Core: 24 Hours (listed and"]
["Elective Hours:",null,null,null,null,null,null,null,null,null,null,null,null,null,null,null,null,null,null,null,null,null,null,null,null,null,"12hr updiv AGEC,ECON,FIN,MKTG,MGMT"]
["Non-Ag",null,null,null,null,null,null,null,"Ag Elect "]
["Course",null,"Grd","Cr",null,null,null,null,"Course",null,"Grd","Cr","GPts","GPACr","GrCr",null,null,null,null,null,null,null,null,null,null,null,"AGEC",3423,null,{"$f":"IF(AG27<>\"\",AG27,3)*IF(AC27=\"A\",4,IF(AC27=\"B\",3,IF(AC27=\"C\",2,IF(AC27=\"D\",1,IF(AND(AC27>=0,AC27<=4,ISNUMBER(AC27)),AC27,0)))))","v":0},{"$f":"IF(OR(AC27=\"A\",AC27=\"B\",AC27=\"C\",AC27=\"D\",AC27=\"F\",AND(AC27>=0,AC27<=4,ISNUMBER(AC27))),IF(AG27<>\"\",AG27,3),\"\")","v":""},{"$f":"IF(OR(AC27=\"A\",AC27=\"B\",AC27=\"C\",AC27=\"D\",AC27=\"P\",AND(AC27>=0,AC27<=4,ISNUMBER(AC27))),IF(AG27<>\"\",AG27,3),\"\")","v":""}]
[null,null,null,null,{"$f":"D28*IF(OR(C28=\"A\",C28=\"RA\"),4,IF(OR(C28=\"B\",C28=\"RB\"),3,IF(OR(C28=\"C\",C28=\"RC\"),2,IF(OR(C28=\"D\",C28=\"RD\"),1,IF(AND(C28>=0,C28<=4,ISNUMBER(C28)),C28,0)))))","v":0},{"$f":"IF(OR(C28=\"\",D28=\"\"),\"\",IF(OR(C28=\"A\",C28=\"B\",C28=\"C\",C28=\"D\",C28=\"F\",C28=\"RA\",C28=\"RB\",C28=\"RC\",C28=\"RD\",C28=\"RF\",AND(C28>=0,C28<=4,ISNUMBER(C28))),D28,\"\"))","v":""},{"$f":"IF(OR(C28=\"\",D28=\"\"),\"\",IF(OR(C28=\"A\",C28=\"B\",C28=\"C\",C28=\"D\",C28=\"P\",AND(C28>=0,C28<=4,ISNUMBER(C28))),D28,\"\"))","v":""},null,null,null,null,null,{"$f":"L28*IF(OR(K28=\"A\",K28=\"RA\"),4,IF(OR(K28=\"B\",K28=\"RB\"),3,IF(OR(K28=\"C\",K28=\"RC\"),2,IF(OR(K28=\"D\",K28=\"RD\"),1,IF(AND(K28>=0,K28=4,ISNUMBER(K28)),K28,0)))))","v":0},{"$f":"IF(OR(K28=\"\",L28=\"\"),\"\",IF(OR(K28=\"A\",K28=\"B\",K28=\"C\",K28=\"D\",K28=\"F\",K28=\"RA\",K28=\"RB\",K28=\"RC\",K28=\"RD\",K28=\"RF\",AND(K28>=0,K28<=4,ISNUMBER(K28))),L28,\"\"))","v":""},{"$f":"IF(OR(K28=\"\",L28=\"\"),\"\",IF(OR(K28=\"A\",K28=\"B\",K28=\"C\",K28=\"D\",K28=\"P\",AND(K28>=0,K28<=4,ISNUMBER(K28))),L28,\"\"))","v":""},null,null,null,null,null,null,null,null,null,null,null,"AGEC",3713,null,0,"",""]
[null,null,null,null,0,"","",null,null,null,null,null,0,"","",null,null,null,null,null,null,null,null,null,null,null,"ACCT",2103,null,{"$f":"IF(AG29<>\"\",AG29,3)*IF(AC29=\"A\",4,IF(AC29=\"B\",3,IF(AC29=\"C\",2,IF(AC29=\"D\",1,IF(AND(AC29>=0,AC29<=4,ISNUMBER(AC29)),AC29,0)))))","v":0},{"$f":"IF(OR(AC29=\"A\",AC29=\"B\",AC29=\"C\",AC29=\"D\",AC29=\"F\",AND(AC29>=0,AC29<=4,ISNUMBER(AC29))),IF(AG29<>\"\",AG29,3),\"\")","v":""},{"$f":"IF(OR(AC29=\"A\",AC29=\"B\",AC29=\"C\",AC29=\"D\",AC29=\"P\",AND(AC29>=0,AC29<=4,ISNUMBER(AC29))),IF(AG29<>\"\",AG29,3),\"\")","v":""}]
[null,null,null,null,0,"","",null,null,null,null,null,0,"","",null,null,null,null,null,null,null,null,null,null,null,"ACCT",2203,null,0,"",""]
[null,null,null,null,0,"","",null,null,null,null,null,0,"","",null,null,null,null,null,null,null,null,null,null,null,null,null,null,{"$f":"IF(AG31<>\"\",AG31,3)*IF(AC31=\"A\",4,IF(AC31=\"B\",3,IF(AC31=\"C\",2,IF(AC31=\"D\",1,IF(AND(AC31>=0,AC31<=4,ISNUMBER(AC31)),AC31,0)))))","v":0},{"$f":"IF(OR(AC31=\"A\",AC31=\"B\",AC31=\"C\",AC31=\"D\",AC31=\"F\",AND(AC31>=0,AC31<=4,ISNUMBER(AC31))),IF(AG31<>\"\",AG31,3),\"\")","v":""},{"$f":"IF(OR(AC31=\"A\",AC31=\"B\",AC31=\"C\",AC31=\"D\",AC31=\"P\",AND(AC31>=0,AC31<=4,ISNUMBER(AC31))),IF(AG31<>\"\",AG31,3),\"\")","v":""}]
[null,null,null,null,0,"","",null,null,null,null,null,0,"","",null,null,null,null,null,null,null,null,null,null,null,null,null,null,0,"",""]
[null,null,null,null,0,"","",null,null,null,null,null,0,"","",null,null,null,null,null,null,null,null,null,null,null,null,null,null,0,"",""]
[null,null,null,null,0,"","",null,null,null,null,null,0,"","",null,null,null,null,null,null,null,null,null,null,null,null,null,null,0,"",""]
[null,null,null,null,0,"","",null,null,null,null,null,0,"",""]
[null,null,null,null,0,"","",null,null,null,null,null,0,"","",null,null,null,null,null,null,null,null,null,null,null,"Related Courses: 9 Hours"]
[null,null,null,null,0,"","",null,null,null,null,null,0,"","",null,null,null,null,null,null,null,null,null,null,null,null,null,null,{"$f":"IF(AG37<>\"\",AG37,3)*IF(AC37=\"A\",4,IF(AC37=\"B\",3,IF(AC37=\"C\",2,IF(AC37=\"D\",1,IF(AND(AC37>=0,AC37<=4,ISNUMBER(AC37)),AC37,0)))))","v":0},{"$f":"IF(OR(AC37=\"A\",AC37=\"B\",AC37=\"C\",AC37=\"D\",AC37=\"F\",AND(AC37>=0,AC37<=4,ISNUMBER(AC37))),IF(AG37<>\"\",AG37,3),\"\")","v":""},{"$f":"IF(OR(AC37=\"A\",AC37=\"B\",AC37=\"C\",AC37=\"D\",AC37=\"P\",AND(AC37>=0,AC37<=4,ISNUMBER(AC37))),IF(AG37<>\"\",AG37,3),\"\")","v":""}]
[null,null,null,null,0,"","",null,null,null,null,null,0,"","",null,null,null,null,null,null,null,null,null,null,null,null,null,null,0,"",""]
[null,null,null,null,0,"","",null,null,null,null,null,0,"","",null,null,null,null,null,null,null,null,null,null,null,null,null,null,{"$f":"IF(AG39<>\"\",AG39,3)*IF(AC39=\"A\",4,IF(AC39=\"B\",3,IF(AC39=\"C\",2,IF(AC39=\"D\",1,IF(AND(AC39>=0,AC39<=4,ISNUMBER(AC39)),AC39,0)))))","v":0},{"$f":"IF(OR(AC39=\"A\",AC39=\"B\",AC39=\"C\",AC39=\"D\",AC39=\"F\",AND(AC39>=0,AC39<=4,ISNUMBER(AC39))),IF(AG39<>\"\",AG39,3),\"\")","v":""},{"$f":"IF(OR(AC39=\"A\",AC39=\"B\",AC39=\"C\",AC39=\"D\",AC39=\"P\",AND(AC39>=0,AC39<=4,ISNUMBER(AC39))),IF(AG39<>\"\",AG39,3),\"\")","v":""}]
[null,null,null,null,0,"","",null,null,null,null,null,0,"","",null,null,null,null,null,null,null,null,null,null,null,null,null,null,0,"",""]
[null,null,null,null,0,"","",null,null,null,null,null,0,"","",null,null,null,null,null,null,null,null,null,null,null,null,null,null,{"$f":"IF(AG41<>\"\",AG41,3)*IF(AC41=\"A\",4,IF(AC41=\"B\",3,IF(AC41=\"C\",2,IF(AC41=\"D\",1,IF(AND(AC41>=0,AC41<=4,ISNUMBER(AC41)),AC41,0)))))","v":0},{"$f":"IF(OR(AC41=\"A\",AC41=\"B\",AC41=\"C\",AC41=\"D\",AC41=\"F\",AND(AC41>=0,AC41<=4,ISNUMBER(AC41))),IF(AG41<>\"\",AG41,3),\"\")","v":""},{"$f":"IF(OR(AC41=\"A\",AC41=\"B\",AC41=\"C\",AC41=\"D\",AC41=\"P\",AND(AC41>=0,AC41<=4,ISNUMBER(AC41))),IF(AG41<>\"\",AG41,3),\"\")","v":""}]
[null,null,null,null,0,"","",null,null,null,null,null,0,"",""]
[null,null,null,null,0,"","",null,null,null,null,null,0,"",""]

{"sheet":"GRAD CHECK ","index":1,"n_rows":45,"n_cols":6,"rows_kept":45,"cut":false,"hidden":false,"merged":[[0,0,0,5],[1,0,1,5],[2,0,2,5],[6,4,6,5],[6,1,6,3],[28,4,28,5],[38,1,38,8],[41,1,41,8],[44,1,44,8],[9,1,9,3],[12,1,12,3],[27,1,27,2],[20,2,20,3],[28,1,28,3],[24,1,24,5],[12,4,12,6],[13,1,13,2],[15,1,15,2],[17,1,18,3]]}
["GRADUATION CHECK"]
["By"]
["COLLEGE OF AGRICULTURE SCIENCES AND NATURAL RESOURCES"]
[]
[]
["Name:",null,null,null,"Date:"]
[null,{"$f":"'ANSI-BUS'!B1:Q1","v":"Name, Student's"}]
[]
["ID:",null,null,null,"Graduation Date:"]
[null,{"$f":"'ANSI-BUS'!S1","v":"999-999-99"},null,null,{"$f":"'ANSI-BUS'!Q15","v":"00:00:00"}]
[]
["EMAIL:",null,null,null,"Major:"]
[null,null,null,null,{"$f":"'ANSI-BUS'!Z1","v":"ANSI-BUS"}]
[]
["Advisor:",null,null,null,"Grad/Ret GPA:"]
[null,{"$f":"'ANSI-BUS'!AG1","v":"ADVISOR"},null,null,{"$f":"'ANSI-BUS'!Q18","v":"N/A"}]
[]
[null,"REMINDER:",null,null,"Upper Division GPA:"]
[null,null,null,null,{"$f":"'ANSI-BUS'!Q21","v":"N/A"}]
["Total Hours to Date:",null,{"$f":"'ANSI-BUS'!Q17","v":0},null,"Total  Upper Div Hours to Date:",{"$f":"'ANSI-BUS'!Q19","v":0}]
["Current Enrollment:",null,null,null,"Total  Upper Div Points to Date:",{"$f":"'ANSI-BUS'!Q20","v":0}]
[]
["Deficiencies/Remaining Hours:"]
[]
[]
[]
["Hours Needed from a 4 yr. School: ",null,null,null,"Upper Div. hours & points needed: "]
[]
[]
[]
["Number of hours needed to complete requirements:"]
[null,null,null,null,"(hrs. = current courses + deficiencies)"]
[]
[]
[]
[]
[]
["APPROVED BY:"]
[null,"________________________________________________________________________ Adviser/Date Signed"]
[]
[]
[null,"_______________________________________________________________ Department Head/Date Signed"]
[]
[]
[null,"____________________________________________________________________ Assoc. Dean/Date Signed"]

{"sheet":"ADVISOR'S NOTES","index":2,"n_rows":1,"n_cols":2,"rows_kept":1,"cut":false,"hidden":false,"merged":[]}
["DATE","NOTES"]