{"text_format":"1","workbook":"xlsx","n_sheets":3,"sheets":["LA","GRAD CHECK","ADVISOR'S NOTES"],"not_rendered":{"charts":0,"images":0,"macros":0,"external_links":0,"defined_names":2,"comments":1,"pivot_tables":0},"unopened":[],"bounds":{"document_bytes":16777216,"sheet_cells":100000,"rows_first":2000,"rows_last":500,"rows_between":2000,"halvings":0,"cell_chars":16384,"cell_head_chars":4096},"cells_cut":0,"cells_raw":0,"read":"whole","date_system":"1900"}

{"sheet":"LA","index":0,"n_rows":45,"n_cols":35,"rows_kept":45,"cut":false,"hidden":false,"merged":[[20,2,20,3],[20,8,20,11],[17,16,17,22],[19,16,19,17],[21,0,21,11],[18,2,18,3],[18,8,18,11],[19,2,19,3],[19,8,19,11],[32,33,32,34],[34,33,34,34],[35,33,35,34],[33,33,33,34],[20,16,20,17],[25,16,25,17],[22,16,22,17],[23,16,23,17],[24,16,24,17],[21,16,21,17],[20,33,20,34],[27,33,27,34],[42,33,42,34],[37,33,37,34],[38,33,38,34],[39,33,39,34],[36,33,36,34],[14,2,14,3],[14,8,14,11],[15,2,15,3],[15,8,15,11],[17,2,17,3],[17,8,17,11],[16,2,16,3],[16,8,16,11],[13,8,13,11],[10,2,10,3],[10,8,10,11],[9,2,9,3],[9,8,9,11],[0,1,0,16],[7,2,7,3],[7,8,7,11],[0,18,0,24],[7,23,7,24],[15,23,15,24],[10,23,10,24],[12,23,12,24],[11,33,11,34],[6,2,6,3],[6,8,6,11],[6,23,6,24],[8,2,8,3],[8,8,8,11],[8,23,8,24],[12,2,12,3],[12,8,12,11],[11,23,11,24],[11,2,11,3],[11,8,11,11],[13,2,13,3],[9,23,9,24],[10,33,10,34],[14,33,14,34],[13,33,13,34],[13,23,13,24],[12,33,12,34],[0,32,0,34],[7,33,7,34],[14,23,14,24],[25,33,25,34],[26,33,26,34],[24,33,24,34],[16,33,16,34],[17,33,17,34],[18,33,18,34],[19,33,19,34],[21,33,21,34],[22,33,22,34],[23,33,23,34],[15,33,15,34],[8,33,8,34],[9,33,9,34]]}
["NAME:","STUDENT NAME",null,null,null,null,null,null,null,null,null,null,null,null,null,null,null,"ID:","999-99-999",null,null,null,null,null,null,"LA",null,null,"ADV:",null,null,null,"ADVISOR"]
[]
["General Eduction Requirements: 42 Hours",null,null,null,null,null,null,null,null,null,null,null,null,null,null,null,"College/Dept. Requirements: 22 Hours",null,null,null,null,null,null,null,null,null,"Major Requirements: 83 Hours",null,null,null,null,null,null,null,"2015-16"]
[]
["Course",null,"Grade",null,"GPts","GPACr","GrCr",null,null,"Deviation",null,null,null,null,null,null,"Course",null,"Grade","GPts","GPACr","GrCr",null,"Deviation",null,null,"Course",null,"Grade","GPts","GPACr","GrCr",null,"Deviation"]
[]
["ENGL ",1113,null,null,{"$f":"IF(H7<>\"\",H7,3)*IF(C7=\"A\",4,IF(C7=\"B\",3,IF(C7=\"C\",2,IF(C7=\"D\",1,IF(AND(C7>=0,C7<=4,ISNUMBER(C7)),C7,0)))))","v":0},{"$f":"IF(OR(C7=\"A\",C7=\"B\",C7=\"C\",C7=\"D\",C7=\"F\",AND(C7>=0,C7<=4,ISNUMBER(C7))),IF(H7<>\"\",H7,3),\"\")","v":""},{"$f":"IF(OR(C7=\"A\",C7=\"B\",C7=\"C\",C7=\"D\",C7=\"P\",AND(C7>=0,C7<=4,ISNUMBER(C7))),IF(H7<>\"\",H7,3),\"\")","v":""},null,null,null,null,null,null,null,null,null,"AG",1011,null,{"$f":"IF(W7<>\"\",W7,3)*IF(S7=\"A\",4,IF(S7=\"B\",3,IF(S7=\"C\",2,IF(S7=\"D\",1,IF(AND(S7>=0,S7<=4,ISNUMBER(S7)),S7,0)))))","v":0},{"$f":"IF(OR(S7=\"A\",S7=\"B\",S7=\"C\",S7=\"D\",S7=\"F\",AND(S7>=0,S7<=4,ISNUMBER(S7))),IF(W7<>\"\",W7,3),\"\")","v":""},{"$f":"IF(OR(S7=\"A\",S7=\"B\",S7=\"C\",S7=\"D\",S7=\"P\",AND(S7>=0,S7<=4,ISNUMBER(S7))),IF(W7<>\"\",W7,3),\"\")","v":""},1,null,null,null,"Core Courses: 72 Hours"]
["ENGL ",1213,null,null,{"$f":"IF(H8<>\"\",H8,3)*IF(C8=\"A\",4,IF(C8=\"B\",3,IF(C8=\"C\",2,IF(C8=\"D\",1,IF(AND(C8>=0,C8<=4,ISNUMBER(C8)),C8,0)))))","v":0},{"$f":"IF(OR(C8=\"A\",C8=\"B\",C8=\"C\",C8=\"D\",C8=\"F\",AND(C8>=0,C8<=4,ISNUMBER(C8))),IF(H8<>\"\",H8,3),\"\")","v":""},{"$f":"IF(OR(C8=\"A\",C8=\"B\",C8=\"C\",C8=\"D\",C8=\"P\",AND(C8>=0,C8<=4,ISNUMBER(C8))),IF(H8<>\"\",H8,3),\"\")","v":""},null,null,null,null,null,null,null,null,null,"ACCT",2103,null,{"$f":"IF(W8<>\"\",W8,3)*IF(S8=\"A\",4,IF(S8=\"B\",3,IF(S8=\"C\",2,IF(S8=\"D\",1,IF(AND(S8>=0,S8<=4,ISNUMBER(S8)),S8,0)))))","v":0},{"$f":"IF(OR(S8=\"A\",S8=\"B\",S8=\"C\",S8=\"D\",S8=\"F\",AND(S8>=0,S8<=4,ISNUMBER(S8))),IF(W8<>\"\",W8,3),\"\")","v":""},{"$f":"IF(OR(S8=\"A\",S8=\"B\",S8=\"C\",S8=\"D\",S8=\"P\",AND(S8>=0,S8<=4,ISNUMBER(S8))),IF(W8<>\"\",W8,3),\"\")","v":""},null,null,null,null,"MCAG",2313,null,{"$f":"IF(AG8<>\"\",AG8,3)*IF(AC8=\"A\",4,IF(AC8=\"B\",3,IF(AC8=\"C\",2,IF(AC8=\"D\",1,IF(AND(AC8>=0,AC8<=4,ISNUMBER(AC8)),AC8,0)))))","v":0},{"$f":"IF(OR(AC8=\"A\",AC8=\"B\",AC8=\"C\",AC8=\"D\",AC8=\"F\",AND(AC8>=0,AC8<=4,ISNUMBER(AC8))),IF(AG8<>\"\",AG8,3),\"\")","v":""},{"$f":"IF(OR(AC8=\"A\",AC8=\"B\",AC8=\"C\",AC8=\"D\",AC8=\"P\",AND(AC8>=0,AC8<=4,ISNUMBER(AC8))),IF(AG8<>\"\",AG8,3),\"\")","v":""}]
["HIST",1103,null,null,0,"","",null,null,null,null,null,null,null,null,null,"BCOM",3113,null,0,"","",null,null,null,null,"LA",3884,null,0,"","",4]
["POLS",1113,null,null,0,"","",null,null,null,null,null,null,null,null,null,"ART",1103,null,0,"","",null,null,null,null,"LA",3894,null,0,"","",4]
["MATH",1483,null,null,0,"","",null,null,null,null,null,null,null,null,null,"LA",1013,null,{"$f":"IF(W11<>\"\",W11,3)*IF(S11=\"A\",4,IF(S11=\"B\",3,IF(S11=\"C\",2,IF(S11=\"D\",1,IF(AND(S11>=0,S11<=4,ISNUMBER(S11)),S11,0)))))","v":0},{"$f":"IF(OR(S11=\"A\",S11=\"B\",S11=\"C\",S11=\"D\",S11=\"F\",AND(S11>=0,S11<=4,ISNUMBER(S11))),IF(W11<>\"\",W11,3),\"\")","v":""},{"$f":"IF(OR(S11=\"A\",S11=\"B\",S11=\"C\",S11=\"D\",S11=\"P\",AND(S11>=0,S11<=4,ISNUMBER(S11))),IF(W11<>\"\",W11,3),\"\")","v":""},null,null,null,null,"LA",4894,null,0,"","",4]
["MATH",1613,null,null,0,"","",null,null,null,null,null,null,null,null,null,"LA",2213,null,0,"","",null,null,null,null,"LA",4453,null,0,"",""]
["(H)",null,null,null,0,"","",null,null,null,null,null,null,null,null,null,"LA",2223,null,{"$f":"IF(W13<>\"\",W13,3)*IF(S13=\"A\",4,IF(S13=\"B\",3,IF(S13=\"C\",2,IF(S13=\"D\",1,IF(AND(S13>=0,S13<=4,ISNUMBER(S13)),S13,0)))))","v":0},{"$f":"IF(OR(S13=\"A\",S13=\"B\",S13=\"C\",S13=\"D\",S13=\"F\",AND(S13>=0,S13<=4,ISNUMBER(S13))),IF(W13<>\"\",W13,3),\"\")","v":""},{"$f":"IF(OR(S13=\"A\",S13=\"B\",S13=\"C\",S13=\"D\",S13=\"P\",AND(S13>=0,S13<=4,ISNUMBER(S13))),IF(W13<>\"\",W13,3),\"\")","v":""},null,null,null,null,"LA",4433,null,{"$f":"IF(AG13<>\"\",AG13,3)*IF(AC13=\"A\",4,IF(AC13=\"B\",3,IF(AC13=\"C\",2,IF(AC13=\"D\",1,IF(AND(AC13>=0,AC13<=4,ISNUMBER(AC13)),AC13,0)))))","v":0},{"$f":"IF(OR(AC13=\"A\",AC13=\"B\",AC13=\"C\",AC13=\"D\",AC13=\"F\",AND(AC13>=0,AC13<=4,ISNUMBER(AC13))),IF(AG13<>\"\",AG13,3),\"\")","v":""},{"$f":"IF(OR(AC13=\"A\",AC13=\"B\",AC13=\"C\",AC13=\"D\",AC13=\"P\",AND(AC13>=0,AC13<=4,ISNUMBER(AC13))),IF(AG13<>\"\",AG13,3),\"\")","v":""}]
["(H)",null,null,null,0,"","",null,null,null,null,null,null,null,null,null,"LA",2323,null,0,"","",null,null,null,null,"LA",4583,null,0,"",""]
["BIOL",1114,null,null,0,"","",4,null,null,null,null,null,null,null,null,null,null,null,0,"","",null,null,null,null,"NREM",2013,null,0,"",""]
["CHEM",1314,null,null,0,"","",4,null,null,null,null,null,null,null,null,null,null,null,0,"","",null,null,null,null,"LA",3315,null,0,"","",5]
["SOIL",2124,null,null,{"$f":"IF(H17<>\"\",H17,3)*IF(C17=\"A\",4,IF(C17=\"B\",3,IF(C17=\"C\",2,IF(C17=\"D\",1,IF(AND(C17>=0,C17<=4,ISNUMBER(C17)),C17,0)))))","v":0},{"$f":"IF(OR(C17=\"A\",C17=\"B\",C17=\"C\",C17=\"D\",C17=\"F\",AND(C17>=0,C17<=4,ISNUMBER(C17))),IF(H17<>\"\",H17,3),\"\")","v":""},{"$f":"IF(OR(C17=\"A\",C17=\"B\",C17=\"C\",C17=\"D\",C17=\"P\",AND(C17>=0,C17<=4,ISNUMBER(C17))),IF(H17<>\"\",H17,3),\"\")","v":""},4,null,null,null,null,null,null,null,null,null,null,null,null,null,null,null,null,null,null,"LA",3325,null,0,"","",5]
["AGEC",1113,null,null,0,"","",null,null,null,null,null,null,null,null,null,null,null,null,null,null,null,null,"Graduate Semester",null,null,"LA",4034,null,{"$f":"IF(AG18<>\"\",AG18,3)*IF(AC18=\"A\",4,IF(AC18=\"B\",3,IF(AC18=\"C\",2,IF(AC18=\"D\",1,IF(AND(AC18>=0,AC18<=4,ISNUMBER(AC18)),AC18,0)))))","v":0},{"$f":"IF(OR(AC18=\"A\",AC18=\"B\",AC18=\"C\",AC18=\"D\",AC18=\"F\",AND(AC18>=0,AC18<=4,ISNUMBER(AC18))),IF(AG18<>\"\",AG18,3),\"\")","v":""},{"$f":"IF(OR(AC18=\"A\",AC18=\"B\",AC18=\"C\",AC18=\"D\",AC18=\"P\",AND(AC18>=0,AC18<=4,ISNUMBER(AC18))),IF(AG18<>\"\",AG18,3),\"\")","v":""},4]
["SPCH",2713,null,null,0,"","",null,null,null,null,null,null,null,null,null,"Credits and GPAs as of this date:",null,null,null,null,null,null,null,null,null,"LA",4415,null,0,"","",5]
["(I)",null,null,null,0,"","",null,null,null,null,null,null,null,null,null,{"$f":"SUM(G7:G21,V7:V16,AF7:AF27,AF30:AF42,G26:G45,O26:O45)","v":0},null,"Hours for graduation",null,null,null,null,null,null,null,"LA",4425,null,0,"","",5]
["(D)",null,null,null,0,"","",null,null,null,null,null,null,null,null,null,{"$f":"IF(SUM(F7:F21,U7:U16,AE8:AE27, AE33:AE40,F26:F45,N26:N45)=0,\"N/A\",ROUNDDOWN(SUM(E7:E21,T7:T16,AD8:AD27,AD33:AD40,E26:E45,M26:M45)/SUM(F7:F21,U7:U16,AE8:AE27,AE33:AE40,F26:F45,N26:N45),2))","v":"N/A"},null,"Grad/Ret GPA",null,null,null,null,null,null,null,"LA",4515,null,{"$f":"IF(AG21<>\"\",AG21,3)*IF(AC21=\"A\",4,IF(AC21=\"B\",3,IF(AC21=\"C\",2,IF(AC21=\"D\",1,IF(AND(AC21>=0,AC21<=4,ISNUMBER(AC21)),AC21,0)))))","v":0},{"$f":"IF(OR(AC21=\"A\",AC21=\"B\",AC21=\"C\",AC21=\"D\",AC21=\"F\",AND(AC21>=0,AC21<=4,ISNUMBER(AC21))),IF(AG21<>\"\",AG21,3),\"\")","v":""},{"$f":"IF(OR(AC21=\"A\",AC21=\"B\",AC21=\"C\",AC21=\"D\",AC21=\"P\",AND(AC21>=0,AC21<=4,ISNUMBER(AC21))),IF(AG21<>\"\",AG21,3),\"\")","v":""},5]
[null,null,null,null,null,null,null,null,null,null,null,null,null,null,null,null,{"$f":"SUMIF(B7:B21,\">2999\",G7:G21)+SUMIF(B26:B45,\">2999\",G26:G45)+SUMIF(J26:J45,\">2999\",O26:O45)+SUMIF(R7:R16,\">2999\",V7:V16)+SUMIF(AB8:AB27,\">2999\",AF8:AF27)+SUMIF(AB33:AB40,\">2999\",AF33:AF40)","v":0},null,"UPPER DIV HOURS (40)",null,null,null,null,null,null,null,"LA",4525,null,0,"","",5]
[" Elective Hours:",null,null,null,null,null,null,null,null,null,null,null,null,null,null,null,{"$f":"SUMIF(B7:B21,\">2999\",E7:E21)+SUMIF(B26:B45,\">2999\",E26:E45)+SUMIF(J26:J45,\">2999\",M26:M45)+SUMIF(R7:R16,\">2999\",T7:T16)+SUMIF(AB8:AB27,\">2999\",AD8:AD27)+SUMIF(AB34:AB40,\">2999\",AD34:AD40)","v":0},null,"Upper div points (100)",null,null,null,null,null,null,null,"HORT",2613,null,0,"",""]
["Non-Ag",null,null,null,null,null,null,null,"Ag Elect 3 hours ",null,null,null,null,null,null,null,{"$f":"IF(SUM(Q23)=0,\"N/A\",Q23/Q22)","v":"N/A"},null,"Upper div GPA",null,null,null,null,null,null,null,"LA",3112,null,{"$f":"IF(AG24<>\"\",AG24,3)*IF(AC24=\"A\",4,IF(AC24=\"B\",3,IF(AC24=\"C\",2,IF(AC24=\"D\",1,IF(AND(AC24>=0,AC24<=4,ISNUMBER(AC24)),AC24,0)))))","v":0},{"$f":"IF(OR(AC24=\"A\",AC24=\"B\",AC24=\"C\",AC24=\"D\",AC24=\"F\",AND(AC24>=0,AC24<=4,ISNUMBER(AC24))),IF(AG24<>\"\",AG24,3),\"\")","v":""},{"$f":"IF(OR(AC24=\"A\",AC24=\"B\",AC24=\"C\",AC24=\"D\",AC24=\"P\",AND(AC24>=0,AC24<=4,ISNUMBER(AC24))),IF(AG24<>\"\",AG24,3),\"\")","v":""},2]
["Course",null,"Grd","Cr",null,null,null,null,"Course",null,"Grd","Cr","GPts","GPACr","GrCr",null,"OK",null,"60 Senior College Hours",null,null,null,null,null,null,null,"LA",3682,null,{"$f":"IF(AG25<>\"\",AG25,3)*IF(AC25=\"A\",4,IF(AC25=\"B\",3,IF(AC25=\"C\",2,IF(AC25=\"D\",1,IF(AND(AC25>=0,AC25<=4,ISNUMBER(AC25)),AC25,0)))))","v":0},{"$f":"IF(OR(AC25=\"A\",AC25=\"B\",AC25=\"C\",AC25=\"D\",AC25=\"F\",AND(AC25>=0,AC25<=4,ISNUMBER(AC25))),IF(AG25<>\"\",AG25,3),\"\")","v":""},{"$f":"IF(OR(AC25=\"A\",AC25=\"B\",AC25=\"C\",AC25=\"D\",AC25=\"P\",AND(AC25>=0,AC25<=4,ISNUMBER(AC25))),IF(AG25<>\"\",AG25,3),\"\")","v":""},2]
[null,null,null,null,{"$f":"D26*IF(OR(C26=\"A\",C26=\"RA\"),4,IF(OR(C26=\"B\",C26=\"RB\"),3,IF(OR(C26=\"C\",C26=\"RC\"),2,IF(OR(C26=\"D\",C26=\"RD\"),1,IF(AND(C26>=0,C26<=4,ISNUMBER(C26)),C26,0)))))","v":0},{"$f":"IF(OR(C26=\"\",D26=\"\"),\"\",IF(OR(C26=\"A\",C26=\"B\",C26=\"C\",C26=\"D\",C26=\"F\",C26=\"RA\",C26=\"RB\",C26=\"RC\",C26=\"RD\",C26=\"RF\",AND(C26>=0,C26<=4,ISNUMBER(C26))),D26,\"\"))","v":""},{"$f":"IF(OR(C26=\"\",D26=\"\"),\"\",IF(OR(C26=\"A\",C26=\"B\",C26=\"C\",C26=\"D\",C26=\"P\",AND(C26>=0,C26<=4,ISNUMBER(C26))),D26,\"\"))","v":""},null,null,null,null,null,{"$f":"L26*IF(OR(K26=\"A\",K26=\"RA\"),4,IF(OR(K26=\"B\",K26=\"RB\"),3,IF(OR(K26=\"C\",K26=\"RC\"),2,IF(OR(K26=\"D\",K26=\"RD\"),1,IF(AND(K26>=0,K26<=4,ISNUMBER(K26)),K26,0)))))","v":0},{"$f":"IF(OR(K26=\"\",L26=\"\"),\"\",IF(OR(K26=\"A\",K26=\"B\",K26=\"C\",K26=\"D\",K26=\"F\",K26=\"RA\",K26=\"RB\",K26=\"RC\",K26=\"RD\",K26=\"RF\",AND(K26>=0,K26<=4,ISNUMBER(K26))),L26,\"\"))","v":""},{"$f":"IF(OR(K26=\"\",L26=\"\"),\"\",IF(OR(K26=\"A\",K26=\"B\",K26=\"C\",K26=\"D\",K26=\"P\",AND(K26>=0,K26<=4,ISNUMBER(K26))),L26,\"\"))","v":""},null,150,null,"HOURS NEEDED",null,null,null,null,null,null,null,"LA",4112,null,0,"","",2]
[null,null,null,null,0,"","",null,null,null,null,null,0,"","",null,"NOTES:",null,null,null,null,null,null,null,null,null,"LA",3010,null,0,"","",2]
[null,null,null,null,0,"","",null,null,null,null,null,0,"",""]
[null,null,null,null,0,"","",null,null,null,null,null,0,"",""]
[null,null,null,null,0,"","",null,null,null,null,null,0,"","",null,null,null,null,null,null,null,null,null,null,null,"Area of Emphasis: 11 Hours"]
[null,null,null,null,0,"","",null,null,null,null,null,0,"","",null,null,null,null,null,null,null,null,null,null,null,"Design - Environmental Planning - Horticulture"]
[null,null,null,null,{"$f":"D32*IF(OR(C32=\"A\",C32=\"RA\"),4,IF(OR(C32=\"B\",C32=\"RB\"),3,IF(OR(C32=\"C\",C32=\"RC\"),2,IF(OR(C32=\"D\",C32=\"RD\"),1,IF(AND(C32>=0,C32<=4,ISNUMBER(C32)),C32,0)))))","v":0},{"$f":"IF(OR(C32=\"\",D32=\"\"),\"\",IF(OR(C32=\"A\",C32=\"B\",C32=\"C\",C32=\"D\",C32=\"F\",C32=\"RA\",C32=\"RB\",C32=\"RC\",C32=\"RD\",C32=\"RF\",AND(C32>=0,C32<=4,ISNUMBER(C32))),D32,\"\"))","v":""},{"$f":"IF(OR(C32=\"\",D32=\"\"),\"\",IF(OR(C32=\"A\",C32=\"B\",C32=\"C\",C32=\"D\",C32=\"P\",AND(C32>=0,C32<=4,ISNUMBER(C32))),D32,\"\"))","v":""},null,null,null,null,null,0,"",""]
[null,null,null,null,0,"","",null,null,null,null,null,0,"","",null,null,null,null,null,null,null,null,null,null,null,null,null,null,{"$f":"IF(AG33<>\"\",AG33,3)*IF(AC33=\"A\",4,IF(AC33=\"B\",3,IF(AC33=\"C\",2,IF(AC33=\"D\",1,IF(AND(AC33>=0,AC33<=4,ISNUMBER(AC33)),AC33,0)))))","v":0},{"$f":"IF(OR(AC33=\"A\",AC33=\"B\",AC33=\"C\",AC33=\"D\",AC33=\"F\",AND(AC33>=0,AC33<=4,ISNUMBER(AC33))),IF(AG33<>\"\",AG33,3),\"\")","v":""},{"$f":"IF(OR(AC33=\"A\",AC33=\"B\",AC33=\"C\",AC33=\"D\",AC33=\"P\",AND(AC33>=0,AC33<=4,ISNUMBER(AC33))),IF(AG33<>\"\",AG33,3),\"\")","v":""}]
[null,null,null,null,0,"","",null,null,null,null,null,0,"","",null,null,null,null,null,null,null,null,null,null,null,null,null,null,0,"",""]
[null,null,null,null,0,"","",null,null,null,null,null,0,"","",null,null,null,null,null,null,null,null,null,null,null,null,null,null,0,"",""]
[null,null,null,null,0,"","",null,null,null,null,null,0,"","",null,null,null,null,null,null,null,null,null,null,null,null,null,null,0,"",""]
[null,null,null,null,0,"","",null,null,null,null,null,0,"","",null,null,null,null,null,null,null,null,null,null,null,null,null,null,0,"",""]
[null,null,null,null,0,"","",null,null,null,null,null,0,"","",null,null,null,null,null,null,null,null,null,null,null,null,null,null,0,"",""]
[null,null,null,null,0,"","",null,null,null,null,null,0,"","",null,null,null,null,null,null,null,null,null,null,null,null,null,null,{"$f":"IF(AG39<>\"\",AG39,3)*IF(AC39=\"A\",4,IF(AC39=\"B\",3,IF(AC39=\"C\",2,IF(AC39=\"D\",1,IF(AND(AC39>=0,AC39<=4,ISNUMBER(AC39)),AC39,0)))))","v":0},{"$f":"IF(OR(AC39=\"A\",AC39=\"B\",AC39=\"C\",AC39=\"D\",AC39=\"F\",AND(AC39>=0,AC39<=4,ISNUMBER(AC39))),IF(AG39<>\"\",AG39,3),\"\")","v":""},{"$f":"IF(OR(AC39=\"A\",AC39=\"B\",AC39=\"C\",AC39=\"D\",AC39=\"P\",AND(AC39>=0,AC39<=4,ISNUMBER(AC39))),IF(AG39<>\"\",AG39,3),\"\")","v":""}]
[null,null,null,null,0,"","",null,null,null,null,null,0,"","",null,null,null,null,null,null,null,null,null,null,null,null,null,null,0,"",""]
[null,null,null,null,0,"","",null,null,null,null,null,0,"",""]
[null,null,null,null,{"$f":"D42*IF(OR(C42=\"A\",C42=\"RA\"),4,IF(OR(C42=\"B\",C42=\"RB\"),3,IF(OR(C42=\"C\",C42=\"RC\"),2,IF(OR(C42=\"D\",C42=\"RD\"),1,IF(AND(C42>=0,C42<=4,ISNUMBER(C42)),C42,0)))))","v":0},{"$f":"IF(OR(C42=\"\",D42=\"\"),\"\",IF(OR(C42=\"A\",C42=\"B\",C42=\"C\",C42=\"D\",C42=\"F\",C42=\"RA\",C42=\"RB\",C42=\"RC\",C42=\"RD\",C42=\"RF\",AND(C42>=0,C42<=4,ISNUMBER(C42))),D42,\"\"))","v":""},{"$f":"IF(OR(C42=\"\",D42=\"\"),\"\",IF(OR(C42=\"A\",C42=\"B\",C42=\"C\",C42=\"D\",C42=\"P\",AND(C42>=0,C42<=4,ISNUMBER(C42))),D42,\"\"))","v":""},null,null,null,null,null,0,"",""]
[null,null,null,null,0,"","",null,null,null,null,null,0,"",""]
[null,null,null,null,0,"","",null,null,null,null,null,0,"",""]
[null,null,null,null,0,"",""]

{"sheet":"GRAD CHECK","index":1,"n_rows":45,"n_cols":6,"rows_kept":45,"cut":false,"hidden":false,"merged":[[44,1,44,8],[24,1,24,5],[27,1,27,2],[28,1,28,3],[28,4,28,5],[38,1,38,8],[41,1,41,8],[20,2,20,3],[0,0,0,5],[1,0,1,5],[2,0,2,5],[6,1,6,3],[6,4,6,5],[9,1,9,3],[12,1,12,3],[12,4,12,6],[13,1,13,2],[15,1,15,2],[18,1,18,2]]}
["GRADUATION CHECK"]
["By"]
["COLLEGE OF AGRICULTURE SCIENCES AND NATURAL RESOURCES"]
[]
[]
["Name:",null,null,null,"Date:"]
[null,{"$f":"LA!B1:Q1","v":"STUDENT NAME"}]
[]
["ID:",null,null,null,"Graduation Date:"]
[null,{"$f":"LA!S1","v":"999-99-999"},null,null,{"$f":"LA!Q18","v":"00:00:00"}]
[]
["EMAIL:",null,null,null,"Major:"]
[null,null,null,null,{"$f":"LA!Z1","v":"LA"}]
[]
["Advisor:",null,null,null,"Grad/Ret GPA:"]
[null,{"$f":"LA!AG1","v":"ADVISOR"},null,null,{"$f":"LA!Q21","v":"N/A"}]
[]
[null,"REMINDER:",null,null,"Upper Division GPA:"]
[null,null,null,null,{"$f":"LA!Q24","v":"N/A"}]
["Total Hours to Date:",null,{"$f":"LA!Q20","v":0},null,"Total  Upper Div Hours to Date:",{"$f":"LA!Q22","v":0}]
["Current Enrollment:",null,null,null,"Total  Upper Div Points to Date:",{"$f":"LA!Q23","v":0}]
[]
["Deficiencies/Remaining Hours:"]
[]
[]
[]
["Hours Needed from a 4 yr. School: ",null,null,null,"Upper Div. hours & points needed: "]
[]
[]
[]
["Number of hours needed to complete requirements:"]
[null,null,null,null,"(hrs. = current courses + deficiencies)"]
[]
[]
[]
[]
[]
["APPROVED BY:"]
[null,"________________________________________________________________________ Adviser and Date"]
[]
[]
[null,"_______________________________________________________________ Department Head and Date"]
[]
[]
[null,"________________________________________________________________________Assoc. Dean and Date"]

{"sheet":"ADVISOR'S NOTES","index":2,"n_rows":1,"n_cols":2,"rows_kept":1,"cut":false,"hidden":false,"merged":[]}
["DATE","NOTES"]