{"text_format":"1","workbook":"xlsx","n_sheets":3,"sheets":["HORT-HRTS","GRAD CHECK","ADVISOR'S NOTES"],"not_rendered":{"charts":0,"images":0,"macros":0,"external_links":0,"defined_names":2,"comments":1,"pivot_tables":0},"unopened":[],"bounds":{"document_bytes":16777216,"sheet_cells":100000,"rows_first":2000,"rows_last":500,"rows_between":2000,"halvings":0,"cell_chars":16384,"cell_head_chars":4096},"cells_cut":0,"cells_raw":0,"read":"whole","date_system":"1900"}

{"sheet":"HORT-HRTS","index":0,"n_rows":43,"n_cols":35,"rows_kept":43,"cut":false,"hidden":false,"merged":[[0,1,0,16],[0,18,0,24],[0,32,0,34],[6,2,6,3],[6,8,6,11],[6,23,6,24],[0,25,0,27],[7,2,7,3],[7,8,7,11],[7,23,7,24],[8,2,8,3],[8,8,8,11],[8,23,8,24],[9,2,9,3],[9,8,9,11],[10,2,10,3],[10,8,10,11],[13,23,13,24],[13,2,13,3],[13,8,13,11],[11,2,11,3],[11,8,11,11],[12,2,12,3],[12,8,12,11],[9,23,9,24],[10,23,10,24],[11,23,11,24],[12,23,12,24],[19,16,19,17],[17,2,17,3],[17,8,17,11],[18,2,18,3],[18,8,18,11],[21,8,21,11],[42,33,42,34],[24,16,24,17],[25,16,25,17],[26,16,26,17],[28,33,28,34],[50,33,50,34],[51,33,51,34],[52,33,52,34],[28,16,28,17],[46,33,46,34],[47,33,47,34],[48,33,48,34],[29,33,29,34],[30,33,30,34],[36,33,36,34],[37,33,37,34],[38,33,38,34],[39,33,39,34],[40,33,40,34],[41,33,41,34],[49,33,49,34],[7,33,7,34],[8,33,8,34],[10,33,10,34],[15,33,15,34],[16,33,16,34],[11,33,11,34],[12,33,12,34],[13,33,13,34],[14,33,14,34],[9,33,9,34],[14,2,14,3],[14,8,14,11],[15,2,15,3],[15,8,15,11],[15,23,15,24],[14,23,14,24],[16,2,16,3],[16,8,16,11],[26,33,26,34],[27,33,27,34],[22,0,22,11],[21,16,21,17],[22,16,22,17],[23,16,23,17],[19,2,19,3],[19,8,19,11],[17,16,17,22],[20,2,20,3],[20,8,20,11],[20,16,20,17],[27,16,27,17],[21,2,21,3]]}
["NAME:","Name, Student's",null,null,null,null,null,null,null,null,null,null,null,null,null,null,null,"ID:","999-99-999",null,null,null,null,null,null,"HORT-HRTS",null,null,"ADV:",null,null,null,"AdvisorName"]
[]
["General Eduction Requirements: 42 Hours",null,null,null,null,null,null,null,null,null,null,null,null,null,null,null,"College/Dept. Requirements: 11 Hours",null,null,null,null,null,null,null,null,null,"Major Requirements: 64 Hours",null,null,null,null,null,null,null,"2015-16"]
[]
["Course",null,"Grade",null,"GPts","GPACr","GrCr",null,null,"Deviation",null,null,null,null,null,null,"Course",null,"Grade","GPts","GPACr","GrCr",null,"Deviation",null,null,"Course",null,"Grade","GPts","GPACr","GrCr",null,"Deviation"]
[]
["ENGL ",1113,null,null,{"$f":"IF(H7<>\"\",H7,3)*IF(C7=\"A\",4,IF(C7=\"B\",3,IF(C7=\"C\",2,IF(C7=\"D\",1,IF(AND(C7>=0,C7<=4,ISNUMBER(C7)),C7,0)))))","v":0},{"$f":"IF(OR(C7=\"A\",C7=\"B\",C7=\"C\",C7=\"D\",C7=\"F\",AND(C7>=0,C7<=4,ISNUMBER(C7))),IF(H7<>\"\",H7,3),\"\")","v":""},{"$f":"IF(OR(C7=\"A\",C7=\"B\",C7=\"C\",C7=\"D\",C7=\"P\",AND(C7>=0,C7<=4,ISNUMBER(C7))),IF(H7<>\"\",H7,3),\"\")","v":""},null,null,null,null,null,null,null,null,null,"AG",1011,null,{"$f":"IF(W7<>\"\",W7,3)*IF(S7=\"A\",4,IF(S7=\"B\",3,IF(S7=\"C\",2,IF(S7=\"D\",1,IF(AND(S7>=0,S7<=4,ISNUMBER(S7)),S7,0)))))","v":0},{"$f":"IF(OR(S7=\"A\",S7=\"B\",S7=\"C\",S7=\"D\",S7=\"F\",AND(S7>=0,S7<=4,ISNUMBER(S7))),IF(W7<>\"\",W7,3),\"\")","v":""},{"$f":"IF(OR(S7=\"A\",S7=\"B\",S7=\"C\",S7=\"D\",S7=\"P\",AND(S7>=0,S7<=4,ISNUMBER(S7))),IF(W7<>\"\",W7,3),\"\")","v":""},1,null,null,null,"Core Courses: 34 Hours"]
["ENGL ",1213,null,null,0,"","",null,null,null,null,null,null,null,null,null,"HORT",1013,null,{"$f":"IF(W8<>\"\",W8,3)*IF(S8=\"A\",4,IF(S8=\"B\",3,IF(S8=\"C\",2,IF(S8=\"D\",1,IF(AND(S8>=0,S8<=4,ISNUMBER(S8)),S8,0)))))","v":0},{"$f":"IF(OR(S8=\"A\",S8=\"B\",S8=\"C\",S8=\"D\",S8=\"F\",AND(S8>=0,S8<=4,ISNUMBER(S8))),IF(W8<>\"\",W8,3),\"\")","v":""},{"$f":"IF(OR(S8=\"A\",S8=\"B\",S8=\"C\",S8=\"D\",S8=\"P\",AND(S8>=0,S8<=4,ISNUMBER(S8))),IF(W8<>\"\",W8,3),\"\")","v":""},null,null,null,null,"BIOC",2344,null,{"$f":"IF(AG8<>\"\",AG8,3)*IF(AC8=\"A\",4,IF(AC8=\"B\",3,IF(AC8=\"C\",2,IF(AC8=\"D\",1,IF(AND(AC8>=0,AC8<=4,ISNUMBER(AC8)),AC8,0)))))","v":0},{"$f":"IF(OR(AC8=\"A\",AC8=\"B\",AC8=\"C\",AC8=\"D\",AC8=\"F\",AND(AC8>=0,AC8<=4,ISNUMBER(AC8))),IF(AG8<>\"\",AG8,3),\"\")","v":""},{"$f":"IF(OR(AC8=\"A\",AC8=\"B\",AC8=\"C\",AC8=\"D\",AC8=\"P\",AND(AC8>=0,AC8<=4,ISNUMBER(AC8))),IF(AG8<>\"\",AG8,3),\"\")","v":""},4]
["HIST",1103,null,null,0,"","",null,null,null,null,null,null,null,null,null,"SOIL",2124,null,0,"","",4,null,null,null,"BOT",3463,null,0,"",""]
["POLS",1113,null,null,0,"","",null,null,null,null,null,null,null,null,null,"ENGL",3323,null,{"$f":"IF(W10<>\"\",W10,3)*IF(S10=\"A\",4,IF(S10=\"B\",3,IF(S10=\"C\",2,IF(S10=\"D\",1,IF(AND(S10>=0,S10<=4,ISNUMBER(S10)),S10,0)))))","v":0},{"$f":"IF(OR(S10=\"A\",S10=\"B\",S10=\"C\",S10=\"D\",S10=\"F\",AND(S10>=0,S10<=4,ISNUMBER(S10))),IF(W10<>\"\",W10,3),\"\")","v":""},{"$f":"IF(OR(S10=\"A\",S10=\"B\",S10=\"C\",S10=\"D\",S10=\"P\",AND(S10>=0,S10<=4,ISNUMBER(S10))),IF(W10<>\"\",W10,3),\"\")","v":""},null,null,null,null,"CHEM",1225,null,0,"","",5]
["MATH",1513,null,null,0,"","",null,null,null,null,null,null,null,null,null,null,null,null,{"$f":"IF(W11<>\"\",W11,3)*IF(S11=\"A\",4,IF(S11=\"B\",3,IF(S11=\"C\",2,IF(S11=\"D\",1,IF(AND(S11>=0,S11<=4,ISNUMBER(S11)),S11,0)))))","v":0},{"$f":"IF(OR(S11=\"A\",S11=\"B\",S11=\"C\",S11=\"D\",S11=\"F\",AND(S11>=0,S11<=4,ISNUMBER(S11))),IF(W11<>\"\",W11,3),\"\")","v":""},{"$f":"IF(OR(S11=\"A\",S11=\"B\",S11=\"C\",S11=\"D\",S11=\"P\",AND(S11>=0,S11<=4,ISNUMBER(S11))),IF(W11<>\"\",W11,3),\"\")","v":""},null,null,null,null,"ENTO",2993,null,{"$f":"IF(AG11<>\"\",AG11,3)*IF(AC11=\"A\",4,IF(AC11=\"B\",3,IF(AC11=\"C\",2,IF(AC11=\"D\",1,IF(AND(AC11>=0,AC11<=4,ISNUMBER(AC11)),AC11,0)))))","v":0},{"$f":"IF(OR(AC11=\"A\",AC11=\"B\",AC11=\"C\",AC11=\"D\",AC11=\"F\",AND(AC11>=0,AC11<=4,ISNUMBER(AC11))),IF(AG11<>\"\",AG11,3),\"\")","v":""},{"$f":"IF(OR(AC11=\"A\",AC11=\"B\",AC11=\"C\",AC11=\"D\",AC11=\"P\",AND(AC11>=0,AC11<=4,ISNUMBER(AC11))),IF(AG11<>\"\",AG11,3),\"\")","v":""}]
["STAT",2013,null,null,0,"","",null,null,null,null,null,null,null,null,null,null,null,null,0,"","",null,null,null,null,"HORT",2010,null,{"$f":"IF(AG12<>\"\",AG12,3)*IF(AC12=\"A\",4,IF(AC12=\"B\",3,IF(AC12=\"C\",2,IF(AC12=\"D\",1,IF(AND(AC12>=0,AC12<=4,ISNUMBER(AC12)),AC12,0)))))","v":0},{"$f":"IF(OR(AC12=\"A\",AC12=\"B\",AC12=\"C\",AC12=\"D\",AC12=\"F\",AND(AC12>=0,AC12<=4,ISNUMBER(AC12))),IF(AG12<>\"\",AG12,3),\"\")","v":""},{"$f":"IF(OR(AC12=\"A\",AC12=\"B\",AC12=\"C\",AC12=\"D\",AC12=\"P\",AND(AC12>=0,AC12<=4,ISNUMBER(AC12))),IF(AG12<>\"\",AG12,3),\"\")","v":""},3]
["(H)",null,null,null,0,"","",null,null,null,null,null,null,null,null,null,null,null,null,{"$f":"IF(W13<>\"\",W13,3)*IF(S13=\"A\",4,IF(S13=\"B\",3,IF(S13=\"C\",2,IF(S13=\"D\",1,IF(AND(S13>=0,S13<=4,ISNUMBER(S13)),S13,0)))))","v":0},{"$f":"IF(OR(S13=\"A\",S13=\"B\",S13=\"C\",S13=\"D\",S13=\"F\",AND(S13>=0,S13<=4,ISNUMBER(S13))),IF(W13<>\"\",W13,3),\"\")","v":""},{"$f":"IF(OR(S13=\"A\",S13=\"B\",S13=\"C\",S13=\"D\",S13=\"P\",AND(S13>=0,S13<=4,ISNUMBER(S13))),IF(W13<>\"\",W13,3),\"\")","v":""},null,null,null,null,"HORT",3084,null,{"$f":"IF(AG13<>\"\",AG13,3)*IF(AC13=\"A\",4,IF(AC13=\"B\",3,IF(AC13=\"C\",2,IF(AC13=\"D\",1,IF(AND(AC13>=0,AC13<=4,ISNUMBER(AC13)),AC13,0)))))","v":0},{"$f":"IF(OR(AC13=\"A\",AC13=\"B\",AC13=\"C\",AC13=\"D\",AC13=\"F\",AND(AC13>=0,AC13<=4,ISNUMBER(AC13))),IF(AG13<>\"\",AG13,3),\"\")","v":""},{"$f":"IF(OR(AC13=\"A\",AC13=\"B\",AC13=\"C\",AC13=\"D\",AC13=\"P\",AND(AC13>=0,AC13<=4,ISNUMBER(AC13))),IF(AG13<>\"\",AG13,3),\"\")","v":""},4]
["(H)",null,null,null,0,"","",null,null,null,null,null,null,null,null,null,null,null,null,0,"","",null,null,null,null,"HORT",3113,null,0,"",""]
["BIOL",1114,null,null,{"$f":"IF(H15<>\"\",H15,3)*IF(C15=\"A\",4,IF(C15=\"B\",3,IF(C15=\"C\",2,IF(C15=\"D\",1,IF(AND(C15>=0,C15<=4,ISNUMBER(C15)),C15,0)))))","v":0},{"$f":"IF(OR(C15=\"A\",C15=\"B\",C15=\"C\",C15=\"D\",C15=\"F\",AND(C15>=0,C15<=4,ISNUMBER(C15))),IF(H15<>\"\",H15,3),\"\")","v":""},{"$f":"IF(OR(C15=\"A\",C15=\"B\",C15=\"C\",C15=\"D\",C15=\"P\",AND(C15>=0,C15<=4,ISNUMBER(C15))),IF(H15<>\"\",H15,3),\"\")","v":""},4,null,null,null,null,null,null,null,null,null,null,null,0,"","",null,null,null,null,"PLNT",3113,null,0,"",""]
["BOT",1404,null,null,0,"","",4,null,null,null,null,null,null,null,null,null,null,null,null,null,"",null,null,null,null,"PLP",3343,null,0,"",""]
["CHEM",1314,null,null,0,"","",4,null,null,null,null,null,null,null,null,null,null,null,null,null,null,null,null,null,null,"PLNT",3554,null,{"$f":"IF(AG17<>\"\",AG17,3)*IF(AC17=\"A\",4,IF(AC17=\"B\",3,IF(AC17=\"C\",2,IF(AC17=\"D\",1,IF(AND(AC17>=0,AC17<=4,ISNUMBER(AC17)),AC17,0)))))","v":0},{"$f":"IF(OR(AC17=\"A\",AC17=\"B\",AC17=\"C\",AC17=\"D\",AC17=\"F\",AND(AC17>=0,AC17<=4,ISNUMBER(AC17))),IF(AG17<>\"\",AG17,3),\"\")","v":""},{"$f":"IF(OR(AC17=\"A\",AC17=\"B\",AC17=\"C\",AC17=\"D\",AC17=\"P\",AND(AC17>=0,AC17<=4,ISNUMBER(AC17))),IF(AG17<>\"\",AG17,3),\"\")","v":""},4]
["AGEC",1113,null,null,0,"","",null,null,null,null,null,null,null,null,null,null,null,null,null,null,null,null,"Graduate Semester"]
["SPCH",2713,null,null,0,"","",null,null,null,null,null,null,null,null,null,"Credits and GPAs as of this date:",null,null,null,null,null,null,null,null,null,"12 HOURS FROM:"]
["(I)",null,null,null,0,"","",null,null,null,null,null,null,null,null,null,{"$f":"SUM(G7:G22,V7:V15,AF8:AF17,AF27:AF30,AF37:AF43,G27:G42,O28:O43)","v":0},null,"Hours for graduation"]
["(D)",null,null,null,0,"","",null,null,null,null,null,null,null,null,null,{"$f":"IF(SUM(F7:F22,U7:U15,AE8:AE17,AE27:AE30,AE37:AE43,F27:F42,N28:N43)=0,\"N/A\",ROUNDDOWN(SUM(E7:E22,T7:T15,AD8:AD17,AD27:AD30,AD37:AD43,E27:E42,M28:M43)/SUM(F7:F22,U7:U15,AE8:AE17,AE37:AE43,AE27:AE30,F27:F42,N28:N43),2))","v":"N/A"},null,"Grad/Ret GPA"]
[null,null,null,null,0,"","",null,null,null,null,null,null,null,null,null,{"$f":"SUMIF(B7:B22,\">2999\",F7:F22)+SUMIF(B27:B42,\">2999\",F27:F42)+SUMIF(J27:J42,\">2999\",N28:N43)+SUMIF(R7:R15,\">2999\",U7:U15)+SUMIF(AB8:AB17,\">2999\",AE8:AE17)+SUMIF(AB37:AB43,\">2999\",AE37:AE43)+SUMIF(AB27:AB30,\">2999\",AE27:AE30)","v":0},null,"UPPER DIV HOURS (40)",null,null,null,null,null,null,null,null,null,null,{"$f":"IF(AG22<>\"\",AG22,3)*IF(AC22=\"A\",4,IF(AC22=\"B\",3,IF(AC22=\"C\",2,IF(AC22=\"D\",1,IF(AND(AC22>=0,AC22<=4,ISNUMBER(AC22)),AC22,0)))))","v":0},{"$f":"IF(OR(AC22=\"A\",AC22=\"B\",AC22=\"C\",AC22=\"D\",AC22=\"F\",AND(AC22>=0,AC22<=4,ISNUMBER(AC22))),IF(AG22<>\"\",AG22,3),\"\")","v":""},{"$f":"IF(OR(AC22=\"A\",AC22=\"B\",AC22=\"C\",AC22=\"D\",AC22=\"P\",AND(AC22>=0,AC22<=4,ISNUMBER(AC22))),IF(AG22<>\"\",AG22,3),\"\")","v":""}]
[null,null,null,null,null,null,null,null,null,null,null,null,null,null,null,null,{"$f":"SUMIF(B7:B22,\">2999\",E7:E22)+SUMIF(B27:B42,\">2999\",E27:E42)+SUMIF(J27:J42,\">2999\",M28:M43)+SUMIF(R7:R15,\">2999\",T7:T15)+SUMIF(AB8:AB17,\">2999\",AD8:AD17)+SUMIF(AB37:AB43,\">2999\",AD37:AD43)+SUMIF(AB27:AB30,\">2999\",AD27:AD30)","v":0},null,"Upper div points (100)",null,null,null,null,null,null,null,null,null,null,0,"",""]
["Elective Hours:",null,"3 HOURS",null,null,null,null,null,null,null,null,null,null,null,null,null,{"$f":"IF(SUM(Q23)=0,\"N/A\",Q23/Q22)","v":"N/A"},null,"Upper div GPA"]
["Non-Ag",null,null,null,null,null,null,null,"Ag Elect 3 Hours",null,null,null,null,null,null,null,{"$f":"SUM(AE9:AE46)","v":0},null,"Major Requirement Hours"]
["Course",null,"Grd","Cr",null,null,null,null,"Course",null,"Grd","Cr",null,null,null,null,{"$f":"SUM(AD9:AD46)","v":0},null,"Major Requirement Points"]
[null,null,null,null,{"$f":"D27*IF(OR(C27=\"A\",C27=\"RA\"),4,IF(OR(C27=\"B\",C27=\"RB\"),3,IF(OR(C27=\"C\",C27=\"RC\"),2,IF(OR(C27=\"D\",C27=\"RD\"),1,IF(AND(C27>=0,C27<=4,ISNUMBER(C27)),C27,0)))))","v":0},{"$f":"IF(OR(C27=\"\",D27=\"\"),\"\",IF(OR(C27=\"A\",C27=\"B\",C27=\"C\",C27=\"D\",C27=\"F\",C27=\"RA\",C27=\"RB\",C27=\"RC\",C27=\"RD\",C27=\"RF\",AND(C27>=0,C27<=4,ISNUMBER(C27))),D27,\"\"))","v":""},{"$f":"IF(OR(C27=\"\",D27=\"\"),\"\",IF(OR(C27=\"A\",C27=\"B\",C27=\"C\",C27=\"D\",C27=\"P\",AND(C27>=0,C27<=4,ISNUMBER(C27))),D27,\"\"))","v":""},null,null,null,null,null,"GPts","GPACr","GrCr",null,{"$f":"IF(SUM(Q26)=0,\"N/A\",Q26/Q25)","v":"N/A"},null,"Major GPA",null,null,null,null,null,null,null,null,null,null,{"$f":"IF(AG27<>\"\",AG27,3)*IF(AC27=\"A\",4,IF(AC27=\"B\",3,IF(AC27=\"C\",2,IF(AC27=\"D\",1,IF(AND(AC27>=0,AC27<=4,ISNUMBER(AC27)),AC27,0)))))","v":0},{"$f":"IF(OR(AC27=\"A\",AC27=\"B\",AC27=\"C\",AC27=\"D\",AC27=\"F\",AND(AC27>=0,AC27<=4,ISNUMBER(AC27))),IF(AG27<>\"\",AG27,3),\"\")","v":""},{"$f":"IF(OR(AC27=\"A\",AC27=\"B\",AC27=\"C\",AC27=\"D\",AC27=\"P\",AND(AC27>=0,AC27<=4,ISNUMBER(AC27))),IF(AG27<>\"\",AG27,3),\"\")","v":""}]
[null,null,null,null,0,"","",null,null,null,null,null,{"$f":"L27*IF(OR(K27=\"A\",K27=\"RA\"),4,IF(OR(K27=\"B\",K27=\"RB\"),3,IF(OR(K27=\"C\",K27=\"RC\"),2,IF(OR(K27=\"D\",K27=\"RD\"),1,IF(AND(K27>=0,K27=4,ISNUMBER(K27)),K27,0)))))","v":0},{"$f":"IF(OR(K27=\"\",L27=\"\"),\"\",IF(OR(K27=\"A\",K27=\"B\",K27=\"C\",K27=\"D\",K27=\"F\",K27=\"RA\",K27=\"RB\",K27=\"RC\",K27=\"RD\",K27=\"RF\",AND(K27>=0,K27<=4,ISNUMBER(K27))),L27,\"\"))","v":""},{"$f":"IF(OR(K27=\"\",L27=\"\"),\"\",IF(OR(K27=\"A\",K27=\"B\",K27=\"C\",K27=\"D\",K27=\"P\",AND(K27>=0,K27<=4,ISNUMBER(K27))),L27,\"\"))","v":""},null,null,null,"60 Senior College Hours",null,null,null,null,null,null,null,null,null,null,0,"",""]
[null,null,null,null,0,"","",null,null,null,null,null,0,"","",null,120,null,"HOURS NEEDED",null,null,null,null,null,null,null,null,null,null,0,"",""]
[null,null,null,null,0,"","",null,null,null,null,null,0,"","",null,"NOTES:",null,null,null,null,null,null,null,null,null,null,null,null,{"$f":"IF(AG30<>\"\",AG30,3)*IF(AC30=\"A\",4,IF(AC30=\"B\",3,IF(AC30=\"C\",2,IF(AC30=\"D\",1,IF(AND(AC30>=0,AC30<=4,ISNUMBER(AC30)),AC30,0)))))","v":0},{"$f":"IF(OR(AC30=\"A\",AC30=\"B\",AC30=\"C\",AC30=\"D\",AC30=\"F\",AND(AC30>=0,AC30<=4,ISNUMBER(AC30))),IF(AG30<>\"\",AG30,3),\"\")","v":""},{"$f":"IF(OR(AC30=\"A\",AC30=\"B\",AC30=\"C\",AC30=\"D\",AC30=\"P\",AND(AC30>=0,AC30<=4,ISNUMBER(AC30))),IF(AG30<>\"\",AG30,3),\"\")","v":""}]
[null,null,null,null,0,"","",null,null,null,null,null,0,"","",null,null,null,null,null,null,null,null,null,null,null,null,null,null,0,"",""]
[null,null,null,null,0,"","",null,null,null,null,null,0,"","",null,null,null,null,null,null,null,null,null,null,null,"18 HOURS FROM:"]
[null,null,null,null,0,"","",null,null,null,null,null,0,"",""]
[null,null,null,null,0,"","",null,null,null,null,null,0,"","",null,null,null,null,null,null,null,null,null,null,null,null,null,null,{"$f":"IF(AG34<>\"\",AG34,3)*IF(AC34=\"A\",4,IF(AC34=\"B\",3,IF(AC34=\"C\",2,IF(AC34=\"D\",1,IF(AND(AC34>=0,AC34<=4,ISNUMBER(AC34)),AC34,0)))))","v":0},{"$f":"IF(OR(AC34=\"A\",AC34=\"B\",AC34=\"C\",AC34=\"D\",AC34=\"F\",AND(AC34>=0,AC34<=4,ISNUMBER(AC34))),IF(AG34<>\"\",AG34,3),\"\")","v":""},{"$f":"IF(OR(AC34=\"A\",AC34=\"B\",AC34=\"C\",AC34=\"D\",AC34=\"P\",AND(AC34>=0,AC34<=4,ISNUMBER(AC34))),IF(AG34<>\"\",AG34,3),\"\")","v":""}]
[null,null,null,null,0,"","",null,null,null,null,null,0,"","",null,null,null,null,null,null,null,null,null,null,null,null,null,null,0,"",""]
[null,null,null,null,0,"","",null,null,null,null,null,0,"",""]
[null,null,null,null,0,"","",null,null,null,null,null,0,"","",null,null,null,null,null,null,null,null,null,null,null,"HORT",null,null,0,"",""]
[null,null,null,null,0,"","",null,null,null,null,null,0,"","",null,null,null,null,null,null,null,null,null,null,null,"HORT",null,null,0,"",""]
[null,null,null,null,0,"","",null,null,null,null,null,0,"","",null,null,null,null,null,null,null,null,null,null,null,"HORT",null,null,{"$f":"IF(AG39<>\"\",AG39,3)*IF(AC39=\"A\",4,IF(AC39=\"B\",3,IF(AC39=\"C\",2,IF(AC39=\"D\",1,IF(AND(AC39>=0,AC39<=4,ISNUMBER(AC39)),AC39,0)))))","v":0},{"$f":"IF(OR(AC39=\"A\",AC39=\"B\",AC39=\"C\",AC39=\"D\",AC39=\"F\",AND(AC39>=0,AC39<=4,ISNUMBER(AC39))),IF(AG39<>\"\",AG39,3),\"\")","v":""},{"$f":"IF(OR(AC39=\"A\",AC39=\"B\",AC39=\"C\",AC39=\"D\",AC39=\"P\",AND(AC39>=0,AC39<=4,ISNUMBER(AC39))),IF(AG39<>\"\",AG39,3),\"\")","v":""}]
[null,null,null,null,0,"","",null,null,null,null,null,0,"","",null,null,null,null,null,null,null,null,null,null,null,"HORT",null,null,0,"",""]
[null,null,null,null,0,"","",null,null,null,null,null,0,"","",null,null,null,null,null,null,null,null,null,null,null,"HORT",null,null,0,"",""]
[null,null,null,null,0,"","",null,null,null,null,null,0,"","",null,null,null,null,null,null,null,null,null,null,null,"HORT",null,null,{"$f":"IF(AG42<>\"\",AG42,3)*IF(AC42=\"A\",4,IF(AC42=\"B\",3,IF(AC42=\"C\",2,IF(AC42=\"D\",1,IF(AND(AC42>=0,AC42<=4,ISNUMBER(AC42)),AC42,0)))))","v":0},{"$f":"IF(OR(AC42=\"A\",AC42=\"B\",AC42=\"C\",AC42=\"D\",AC42=\"F\",AND(AC42>=0,AC42<=4,ISNUMBER(AC42))),IF(AG42<>\"\",AG42,3),\"\")","v":""},{"$f":"IF(OR(AC42=\"A\",AC42=\"B\",AC42=\"C\",AC42=\"D\",AC42=\"P\",AND(AC42>=0,AC42<=4,ISNUMBER(AC42))),IF(AG42<>\"\",AG42,3),\"\")","v":""}]
[null,null,null,null,null,null,null,null,null,null,null,null,0,"","",null,null,null,null,null,null,null,null,null,null,null,"HORT",null,null,{"$f":"IF(AG43<>\"\",AG43,3)*IF(AC43=\"A\",4,IF(AC43=\"B\",3,IF(AC43=\"C\",2,IF(AC43=\"D\",1,IF(AND(AC43>=0,AC43<=4,ISNUMBER(AC43)),AC43,0)))))","v":0},{"$f":"IF(OR(AC43=\"A\",AC43=\"B\",AC43=\"C\",AC43=\"D\",AC43=\"F\",AND(AC43>=0,AC43<=4,ISNUMBER(AC43))),IF(AG43<>\"\",AG43,3),\"\")","v":""},{"$f":"IF(OR(AC43=\"A\",AC43=\"B\",AC43=\"C\",AC43=\"D\",AC43=\"P\",AND(AC43>=0,AC43<=4,ISNUMBER(AC43))),IF(AG43<>\"\",AG43,3),\"\")","v":""}]

{"sheet":"GRAD CHECK","index":1,"n_rows":45,"n_cols":6,"rows_kept":45,"cut":false,"hidden":false,"merged":[[44,1,44,8],[24,1,24,5],[27,1,27,2],[28,1,28,3],[28,4,28,5],[38,1,38,8],[41,1,41,8],[20,2,20,3],[0,0,0,5],[1,0,1,5],[2,0,2,5],[6,1,6,3],[6,4,6,5],[9,1,9,3],[12,1,12,3],[12,4,12,6],[13,1,13,2],[15,1,15,2],[18,1,18,2]]}
["GRADUATION CHECK"]
["By"]
["COLLEGE OF AGRICULTURE SCIENCES AND NATURAL RESOURCES"]
[]
[]
["Name:",null,null,null,"Date:"]
[null,{"$f":"'HORT-HRTS'!B1:Q1","v":"Name, Student's"}]
[]
["ID:",null,null,null,"Graduation Date:"]
[null,{"$f":"'HORT-HRTS'!S1","v":"999-99-999"},null,null,{"$f":"'HORT-HRTS'!Q18","v":"00:00:00"}]
[]
["EMAIL:",null,null,null,"Major:"]
[null,null,null,null,{"$f":"'HORT-HRTS'!Z1","v":"HORT-HRTS"}]
[]
["Advisor:",null,null,null,"Grad/Ret GPA:"]
[null,{"$f":"'HORT-HRTS'!AG1","v":"AdvisorName"},null,null,{"$f":"'HORT-HRTS'!Q21","v":"N/A"}]
[]
[null,"REMINDER:",null,null,"Upper Division GPA:"]
[null,null,null,null,{"$f":"'HORT-HRTS'!Q24","v":"N/A"}]
["Total Hours to Date:",null,{"$f":"'HORT-HRTS'!Q20","v":0},null,"Total  Upper Div Hours to Date:",{"$f":"'HORT-HRTS'!Q22","v":0}]
["Current Enrollment:",null,null,null,"Total  Upper Div Points to Date:",{"$f":"'HORT-HRTS'!Q23","v":0}]
[]
["Deficiencies/Remaining Hours:"]
[]
[]
[]
["Hours Needed from a 4 yr. School: ",null,null,null,"Upper Div. hours & points needed: "]
[]
[]
[]
["Number of hours needed to complete requirements:"]
[null,null,null,null,"(hrs. = current courses + deficiencies)"]
[]
[]
[]
[]
[]
["APPROVED BY:"]
[null,"________________________________________________________________________ Adviser and Date"]
[]
[]
[null,"_______________________________________________________________ Department Head and Date"]
[]
[]
[null,"________________________________________________________________________Assoc. Dean and Date"]

{"sheet":"ADVISOR'S NOTES","index":2,"n_rows":1,"n_cols":2,"rows_kept":1,"cut":false,"hidden":false,"merged":[]}
["DATE","NOTES"]