{"text_format":"1","workbook":"xlsx","n_sheets":3,"sheets":["FDSC-SCI","GRAD CHECK ","ADVISOR'S NOTES"],"not_rendered":{"charts":0,"images":0,"macros":0,"external_links":0,"defined_names":2,"comments":1,"pivot_tables":0},"unopened":[],"bounds":{"document_bytes":16777216,"sheet_cells":100000,"rows_first":2000,"rows_last":500,"rows_between":2000,"halvings":0,"cell_chars":16384,"cell_head_chars":4096},"cells_cut":0,"cells_raw":0,"read":"whole","date_system":"1900"}

{"sheet":"FDSC-SCI","index":0,"n_rows":45,"n_cols":35,"rows_kept":45,"cut":false,"hidden":false,"merged":[[0,1,0,16],[0,18,0,24],[0,32,0,34],[6,2,6,3],[6,8,6,11],[6,23,6,24],[0,25,0,27],[8,2,8,3],[8,8,8,11],[7,23,7,24],[7,33,7,34],[9,2,9,3],[9,8,9,11],[9,23,9,24],[7,2,7,3],[8,23,8,24],[7,8,7,11],[10,2,10,3],[10,8,10,11],[11,2,11,3],[11,8,11,11],[10,23,10,24],[19,8,19,11],[13,23,13,24],[13,2,13,3],[13,8,13,11],[11,23,11,24],[12,23,12,24],[14,2,14,3],[14,8,14,11],[12,2,12,3],[12,8,12,11],[15,2,15,3],[15,16,15,22],[17,16,17,17],[18,16,18,17],[18,2,18,3],[18,8,18,11],[17,8,17,11],[15,8,15,11],[16,2,16,3],[16,8,16,11],[17,2,17,3],[25,0,25,11],[19,16,19,17],[20,16,20,17],[21,16,21,17],[22,2,22,3],[22,8,22,11],[21,2,21,3],[21,8,21,11],[22,16,22,17],[23,2,23,3],[23,8,23,11],[24,2,24,3],[24,8,24,11],[20,2,20,3],[20,8,20,11],[19,2,19,3],[41,33,41,34],[42,33,42,34],[43,33,43,34],[44,33,44,34],[23,16,23,17],[38,33,38,34],[39,33,39,34],[40,33,40,34],[25,33,25,34],[26,33,26,34],[29,33,29,34],[30,33,30,34],[33,33,33,34],[28,33,28,34],[27,33,27,34],[32,33,32,34],[17,33,17,34],[15,33,15,34],[14,33,14,34],[13,33,13,34],[16,33,16,34],[8,33,8,34],[9,33,9,34],[10,33,10,34],[11,33,11,34],[12,33,12,34],[31,33,31,34],[23,33,23,34],[21,33,21,34],[18,33,18,34],[22,33,22,34]]}
["NAME:","LNAME, FNAME ",null,null,null,null,null,null,null,null,null,null,null,null,null,null,null,"ID:","999-99-999",null,null,null,null,null,null,"FDSC-SAF",null,null,"ADV:",null,null,null,"ADVISOR"]
[]
["General Eduction Requirements: 46 Hours",null,null,null,null,null,null,null,null,null,null,null,null,null,null,null,"College/Dept. Requirements: 19 Hours",null,null,null,null,null,null,null,null,null,"Major Requirements: 55 Hours",null,null,null,null,null,null,null,"2015-16"]
[]
["Course",null,"Grade",null,"GPts","GPACr","GrCr",null,null,"Deviation",null,null,null,null,null,null,"Course",null,"Grade","GPts","GPACr","GrCr",null,"Deviation",null,null,"Course",null,"Grade","GPts","GPACr","GrCr",null,"Deviation"]
[]
["ENGL ",1113,null,null,{"$f":"IF(H7<>\"\",H7,3)*IF(C7=\"A\",4,IF(C7=\"B\",3,IF(C7=\"C\",2,IF(C7=\"D\",1,IF(AND(C7>=0,C7<=4,ISNUMBER(C7)),C7,0)))))","v":0},{"$f":"IF(OR(C7=\"A\",C7=\"B\",C7=\"C\",C7=\"D\",C7=\"F\",AND(C7>=0,C7<=4,ISNUMBER(C7))),IF(H7<>\"\",H7,3),\"\")","v":""},{"$f":"IF(OR(C7=\"A\",C7=\"B\",C7=\"C\",C7=\"D\",C7=\"P\",AND(C7>=0,C7<=4,ISNUMBER(C7))),IF(H7<>\"\",H7,3),\"\")","v":""},null,null,null,null,null,null,null,null,null,"AG",1011,null,{"$f":"IF(W7<>\"\",W7,3)*IF(S7=\"A\",4,IF(S7=\"B\",3,IF(S7=\"C\",2,IF(S7=\"D\",1,IF(AND(S7>=0,S7<=4,ISNUMBER(S7)),S7,0)))))","v":0},{"$f":"IF(OR(S7=\"A\",S7=\"B\",S7=\"C\",S7=\"D\",S7=\"F\",AND(S7>=0,S7<=4,ISNUMBER(S7))),IF(W7<>\"\",W7,3),\"\")","v":""},{"$f":"IF(OR(S7=\"A\",S7=\"B\",S7=\"C\",S7=\"D\",S7=\"P\",AND(S7>=0,S7<=4,ISNUMBER(S7))),IF(W7<>\"\",W7,3),\"\")","v":""},1,null,null,null,"Core Courses: 39 Hours"]
["ENGL ",1213,null,null,{"$f":"IF(H8<>\"\",H8,3)*IF(C8=\"A\",4,IF(C8=\"B\",3,IF(C8=\"C\",2,IF(C8=\"D\",1,IF(AND(C8>=0,C8<=4,ISNUMBER(C8)),C8,0)))))","v":0},{"$f":"IF(OR(C8=\"A\",C8=\"B\",C8=\"C\",C8=\"D\",C8=\"F\",AND(C8>=0,C8<=4,ISNUMBER(C8))),IF(H8<>\"\",H8,3),\"\")","v":""},{"$f":"IF(OR(C8=\"A\",C8=\"B\",C8=\"C\",C8=\"D\",C8=\"P\",AND(C8>=0,C8<=4,ISNUMBER(C8))),IF(H8<>\"\",H8,3),\"\")","v":""},null,null,null,null,null,null,null,null,null,"FDSC",1133,null,{"$f":"IF(W8<>\"\",W8,3)*IF(S8=\"A\",4,IF(S8=\"B\",3,IF(S8=\"C\",2,IF(S8=\"D\",1,IF(AND(S8>=0,S8<=4,ISNUMBER(S8)),S8,0)))))","v":0},{"$f":"IF(OR(S8=\"A\",S8=\"B\",S8=\"C\",S8=\"D\",S8=\"F\",AND(S8>=0,S8<=4,ISNUMBER(S8))),IF(W8<>\"\",W8,3),\"\")","v":""},{"$f":"IF(OR(S8=\"A\",S8=\"B\",S8=\"C\",S8=\"D\",S8=\"P\",AND(S8>=0,S8<=4,ISNUMBER(S8))),IF(W8<>\"\",W8,3),\"\")","v":""}]
["ENGL ",3323,null,null,0,"","",null,null,null,null,null,null,null,null,null,"BIOC",2344,null,{"$f":"IF(W9<>\"\",W9,3)*IF(S9=\"A\",4,IF(S9=\"B\",3,IF(S9=\"C\",2,IF(S9=\"D\",1,IF(AND(S9>=0,S9<=4,ISNUMBER(S9)),S9,0)))))","v":0},{"$f":"IF(OR(S9=\"A\",S9=\"B\",S9=\"C\",S9=\"D\",S9=\"F\",AND(S9>=0,S9<=4,ISNUMBER(S9))),IF(W9<>\"\",W9,3),\"\")","v":""},{"$f":"IF(OR(S9=\"A\",S9=\"B\",S9=\"C\",S9=\"D\",S9=\"P\",AND(S9>=0,S9<=4,ISNUMBER(S9))),IF(W9<>\"\",W9,3),\"\")","v":""},4,null,null,null,"ANSI",4863,null,{"$f":"IF(AG9<>\"\",AG9,3)*IF(AC9=\"A\",4,IF(AC9=\"B\",3,IF(AC9=\"C\",2,IF(AC9=\"D\",1,IF(AND(AC9>=0,AC9<=4,ISNUMBER(AC9)),AC9,0)))))","v":0},{"$f":"IF(OR(AC9=\"A\",AC9=\"B\",AC9=\"C\",AC9=\"D\",AC9=\"F\",AND(AC9>=0,AC9<=4,ISNUMBER(AC9))),IF(AG9<>\"\",AG9,3),\"\")","v":""},{"$f":"IF(OR(AC9=\"A\",AC9=\"B\",AC9=\"C\",AC9=\"D\",AC9=\"P\",AND(AC9>=0,AC9<=4,ISNUMBER(AC9))),IF(AG9<>\"\",AG9,3),\"\")","v":""}]
["HIST",1103,null,null,0,"","",null,null,null,null,null,null,null,null,null,"ENVR",1113,null,0,"","",null,null,null,null,"FDSC",3113,null,0,"",""]
["POLS",1113,null,null,0,"","",null,null,null,null,null,null,null,null,null,"FDSC",2253,null,0,"","",null,null,null,null,"FDSC",3154,null,0,"","",4]
["MATH",1513,null,null,0,"","",null,null,null,null,null,null,null,null,null,"MICR",2123,null,0,"","",null,null,null,null,"FDSC",3373,null,0,"",""]
["STAT",2013,null,null,0,"","",null,null,null,null,null,null,null,null,null,"MICR",2132,null,0,"","",2,null,null,null,"FDSC",3123,null,0,"",""]
["(H)",null,null,null,0,"","",null,null,null,null,null,null,null,null,null,null,null,null,{"$f":"IF(W14<>\"\",W14,3)*IF(S14=\"A\",4,IF(S14=\"B\",3,IF(S14=\"C\",2,IF(S14=\"D\",1,IF(AND(S14>=0,S14<=4,ISNUMBER(S14)),S14,0)))))","v":0},{"$f":"IF(OR(S14=\"A\",S14=\"B\",S14=\"C\",S14=\"D\",S14=\"F\",AND(S14>=0,S14<=4,ISNUMBER(S14))),IF(W14<>\"\",W14,3),\"\")","v":""},{"$f":"IF(OR(S14=\"A\",S14=\"B\",S14=\"C\",S14=\"D\",S14=\"P\",AND(S14>=0,S14<=4,ISNUMBER(S14))),IF(W14<>\"\",W14,3),\"\")","v":""},null,null,null,null,"FDSC",4113,null,0,"",""]
["(H)",null,null,null,0,"","",null,null,null,null,null,null,null,null,null,null,null,null,null,null,null,null,null,null,null,"FDSC",4153,null,{"$f":"IF(AG15<>\"\",AG15,3)*IF(AC15=\"A\",4,IF(AC15=\"B\",3,IF(AC15=\"C\",2,IF(AC15=\"D\",1,IF(AND(AC15>=0,AC15<=4,ISNUMBER(AC15)),AC15,0)))))","v":0},{"$f":"IF(OR(AC15=\"A\",AC15=\"B\",AC15=\"C\",AC15=\"D\",AC15=\"F\",AND(AC15>=0,AC15<=4,ISNUMBER(AC15))),IF(AG15<>\"\",AG15,3),\"\")","v":""},{"$f":"IF(OR(AC15=\"A\",AC15=\"B\",AC15=\"C\",AC15=\"D\",AC15=\"P\",AND(AC15>=0,AC15<=4,ISNUMBER(AC15))),IF(AG15<>\"\",AG15,3),\"\")","v":""}]
["BIOL",1114,null,null,0,"","",4,null,null,null,null,null,null,null,null,null,null,null,null,null,null,null,"Graduate Semester",null,null,"FDSC",4763,null,0,"",""]
["CHEM",1314,null,null,0,"","",4,null,null,null,null,null,null,null,null,"Credits and GPAs as of this date:",null,null,null,null,null,null,null,null,null,"FDSC",4900,null,0,"","",5]
["CHEM",1515,null,null,{"$f":"IF(H18<>\"\",H18,3)*IF(C18=\"A\",4,IF(C18=\"B\",3,IF(C18=\"C\",2,IF(C18=\"D\",1,IF(AND(C18>=0,C18<=4,ISNUMBER(C18)),C18,0)))))","v":0},{"$f":"IF(OR(C18=\"A\",C18=\"B\",C18=\"C\",C18=\"D\",C18=\"F\",AND(C18>=0,C18<=4,ISNUMBER(C18))),IF(H18<>\"\",H18,3),\"\")","v":""},{"$f":"IF(OR(C18=\"A\",C18=\"B\",C18=\"C\",C18=\"D\",C18=\"P\",AND(C18>=0,C18<=4,ISNUMBER(C18))),IF(H18<>\"\",H18,3),\"\")","v":""},5,null,null,null,null,null,null,null,null,{"$f":"SUM(G7:G25,V7:V14,AF8:AF19,AF21:AF24,AF26:AF34,G30:G45,O30:O45)","v":0},null,"Hours for graduation",null,null,null,null,null,null,null,"FDSC",4910,null,{"$f":"IF(AG18<>\"\",AG18,3)*IF(AC18=\"A\",4,IF(AC18=\"B\",3,IF(AC18=\"C\",2,IF(AC18=\"D\",1,IF(AND(AC18>=0,AC18<=4,ISNUMBER(AC18)),AC18,0)))))","v":0},{"$f":"IF(OR(AC18=\"A\",AC18=\"B\",AC18=\"C\",AC18=\"D\",AC18=\"F\",AND(AC18>=0,AC18<=4,ISNUMBER(AC18))),IF(AG18<>\"\",AG18,3),\"\")","v":""},{"$f":"IF(OR(AC18=\"A\",AC18=\"B\",AC18=\"C\",AC18=\"D\",AC18=\"P\",AND(AC18>=0,AC18<=4,ISNUMBER(AC18))),IF(AG18<>\"\",AG18,3),\"\")","v":""},6]
["AGEC",1113,null,null,0,"","",null,null,null,null,null,null,null,null,null,{"$f":"IF(SUM(F7:F25,U7:U14,AE8:AE19,AE21:AE24,AE26:AE34,F30:F45,N30:N45)=0,\"N/A\",ROUNDDOWN(SUM(E7:E25,T7:T14,AD8:AD19,AD21:AD24,AD26:AD34,E30:E45,M30:M45)/SUM(F7:F25,U7:U14,AE8:AE19,AE21:AE24,AE26:AE34,F30:F45,N30:N45),2))","v":"N/A"},null,"Grad/Ret GPA",null,null,null,null,null,null,null,"AGEC",3713,null,{"$f":"IF(AG19<>\"\",AG19,3)*IF(AC19=\"A\",4,IF(AC19=\"B\",3,IF(AC19=\"C\",2,IF(AC19=\"D\",1,IF(AND(AC19>=0,AC19<=4,ISNUMBER(AC19)),AC19,0)))))","v":0},{"$f":"IF(OR(AC19=\"A\",AC19=\"B\",AC19=\"C\",AC19=\"D\",AC19=\"F\",AND(AC19>=0,AC19<=4,ISNUMBER(AC19))),IF(AG19<>\"\",AG19,3),\"\")","v":""},{"$f":"IF(OR(AC19=\"A\",AC19=\"B\",AC19=\"C\",AC19=\"D\",AC19=\"P\",AND(AC19>=0,AC19<=4,ISNUMBER(AC19))),IF(AG19<>\"\",AG19,3),\"\")","v":""}]
["SPCH",2713,null,null,0,"","",null,null,null,null,null,null,null,null,null,{"$f":"SUMIF(B7:B25,\">2999\",G7:G25)+SUMIF(B30:B45,\">2999\",G30:G45)+SUMIF(J30:J45,\">2999\",O30:O45)+SUMIF(R7:R14,\">2999\",V7:V14)+SUMIF(AB8:AB19,\">2999\",AF8:AF19)+SUMIF(AB21:AB24,\">2999\",AF21:AF24)+SUMIF(AB26:AB34,\">2999\",AF26:AF34)","v":0},null,"UPPER DIV HOURS (40)"]
["(I)",null,null,null,0,"","",null,null,null,null,null,null,null,null,null,{"$f":"SUMIF(B7:B25,\">2999\",E7:E25)+SUMIF(B30:B45,\">2999\",E30:E45)+SUMIF(J30:J45,\">2999\",M30:M45)+SUMIF(R7:R14,\">2999\",T7:T14)+SUMIF(AB8:AB19,\">2999\",AD8:AD19)+SUMIF(AB21:AB24,\">2999\",AD21:AD24)+SUMIF(AB26:AB34,\">2999\",AD26:AD34)","v":0},null,"Upper div points (100)",null,null,null,null,null,null,null,"Related Courses: 16 Hours - Choose from:"]
["(D)",null,null,null,0,"","",null,null,null,null,null,null,null,null,null,{"$f":"IF(SUM(Q21)=0,\"N/A\",Q21/Q20)","v":"N/A"},null,"Upper div GPA",null,null,null,null,null,null,null,null,null,null,{"$f":"IF(AG22<>\"\",AG22,3)*IF(AC22=\"A\",4,IF(AC22=\"B\",3,IF(AC22=\"C\",2,IF(AC22=\"D\",1,IF(AND(AC22>=0,AC22<=4,ISNUMBER(AC22)),AC22,0)))))","v":0},{"$f":"IF(OR(AC22=\"A\",AC22=\"B\",AC22=\"C\",AC22=\"D\",AC22=\"F\",AND(AC22>=0,AC22<=4,ISNUMBER(AC22))),IF(AG22<>\"\",AG22,3),\"\")","v":""},{"$f":"IF(OR(AC22=\"A\",AC22=\"B\",AC22=\"C\",AC22=\"D\",AC22=\"P\",AND(AC22>=0,AC22<=4,ISNUMBER(AC22))),IF(AG22<>\"\",AG22,3),\"\")","v":""}]
[null,null,null,null,0,"","",null,null,null,null,null,null,null,null,null,null,null,"60 Senior College Hours",null,null,null,null,null,null,null,null,null,null,{"$f":"IF(AG23<>\"\",AG23,3)*IF(AC23=\"A\",4,IF(AC23=\"B\",3,IF(AC23=\"C\",2,IF(AC23=\"D\",1,IF(AND(AC23>=0,AC23<=4,ISNUMBER(AC23)),AC23,0)))))","v":0},{"$f":"IF(OR(AC23=\"A\",AC23=\"B\",AC23=\"C\",AC23=\"D\",AC23=\"F\",AND(AC23>=0,AC23<=4,ISNUMBER(AC23))),IF(AG23<>\"\",AG23,3),\"\")","v":""},{"$f":"IF(OR(AC23=\"A\",AC23=\"B\",AC23=\"C\",AC23=\"D\",AC23=\"P\",AND(AC23>=0,AC23<=4,ISNUMBER(AC23))),IF(AG23<>\"\",AG23,3),\"\")","v":""}]
[null,null,null,null,0,"","",null,null,null,null,null,null,null,null,null,120,null,"HOURS NEEDED",null,null,null,null,null,null,null,null,null,null,0,"",""]
[null,null,null,null,0,"",""]
[null,null,null,null,null,null,null,null,null,null,null,null,null,null,null,null,"NOTES:",null,null,null,null,null,null,null,null,null,null,null,null,{"$f":"IF(AG26<>\"\",AG26,3)*IF(AC26=\"A\",4,IF(AC26=\"B\",3,IF(AC26=\"C\",2,IF(AC26=\"D\",1,IF(AND(AC26>=0,AC26<=4,ISNUMBER(AC26)),AC26,0)))))","v":0},{"$f":"IF(OR(AC26=\"A\",AC26=\"B\",AC26=\"C\",AC26=\"D\",AC26=\"F\",AND(AC26>=0,AC26<=4,ISNUMBER(AC26))),IF(AG26<>\"\",AG26,3),\"\")","v":""},{"$f":"IF(OR(AC26=\"A\",AC26=\"B\",AC26=\"C\",AC26=\"D\",AC26=\"P\",AND(AC26>=0,AC26<=4,ISNUMBER(AC26))),IF(AG26<>\"\",AG26,3),\"\")","v":""}]
["Elective Hours:",null,null,null,null,null,null,null,null,null,null,null,null,null,null,null,null,null,null,null,null,null,null,null,null,null,null,null,null,0,"",""]
["Non-Ag",null,null,null,null,null,null,null,"Ag Elect",null,null,null,null,null,null,null,null,null,null,null,null,null,null,null,null,null,null,null,null,0,"",""]
["Course",null,"Grd","Cr",null,null,null,null,"Course",null,"Grd","Cr","GPts","GPACr","GrCr",null,null,null,null,null,null,null,null,null,null,null,null,null,null,{"$f":"IF(AG29<>\"\",AG29,3)*IF(AC29=\"A\",4,IF(AC29=\"B\",3,IF(AC29=\"C\",2,IF(AC29=\"D\",1,IF(AND(AC29>=0,AC29<=4,ISNUMBER(AC29)),AC29,0)))))","v":0},{"$f":"IF(OR(AC29=\"A\",AC29=\"B\",AC29=\"C\",AC29=\"D\",AC29=\"F\",AND(AC29>=0,AC29<=4,ISNUMBER(AC29))),IF(AG29<>\"\",AG29,3),\"\")","v":""},{"$f":"IF(OR(AC29=\"A\",AC29=\"B\",AC29=\"C\",AC29=\"D\",AC29=\"P\",AND(AC29>=0,AC29<=4,ISNUMBER(AC29))),IF(AG29<>\"\",AG29,3),\"\")","v":""}]
[null,null,null,null,{"$f":"D30*IF(OR(C30=\"A\",C30=\"RA\"),4,IF(OR(C30=\"B\",C30=\"RB\"),3,IF(OR(C30=\"C\",C30=\"RC\"),2,IF(OR(C30=\"D\",C30=\"RD\"),1,IF(AND(C30>=0,C30<=4,ISNUMBER(C30)),C30,0)))))","v":0},{"$f":"IF(OR(C30=\"\",D30=\"\"),\"\",IF(OR(C30=\"A\",C30=\"B\",C30=\"C\",C30=\"D\",C30=\"F\",C30=\"RA\",C30=\"RB\",C30=\"RC\",C30=\"RD\",C30=\"RF\",AND(C30>=0,C30<=4,ISNUMBER(C30))),D30,\"\"))","v":""},{"$f":"IF(OR(C30=\"\",D30=\"\"),\"\",IF(OR(C30=\"A\",C30=\"B\",C30=\"C\",C30=\"D\",C30=\"P\",AND(C30>=0,C30<=4,ISNUMBER(C30))),D30,\"\"))","v":""},null,null,null,null,null,{"$f":"L30*IF(OR(K30=\"A\",K30=\"RA\"),4,IF(OR(K30=\"B\",K30=\"RB\"),3,IF(OR(K30=\"C\",K30=\"RC\"),2,IF(OR(K30=\"D\",K30=\"RD\"),1,IF(AND(K30>=0,K30<=4,ISNUMBER(K30)),K30,0)))))","v":0},{"$f":"IF(OR(K30=\"\",L30=\"\"),\"\",IF(OR(K30=\"A\",K30=\"B\",K30=\"C\",K30=\"D\",K30=\"F\",K30=\"RA\",K30=\"RB\",K30=\"RC\",K30=\"RD\",K30=\"RF\",AND(K30>=0,K30<=4,ISNUMBER(K30))),L30,\"\"))","v":""},{"$f":"IF(OR(K30=\"\",L30=\"\"),\"\",IF(OR(K30=\"A\",K30=\"B\",K30=\"C\",K30=\"D\",K30=\"P\",AND(K30>=0,K30<=4,ISNUMBER(K30))),L30,\"\"))","v":""},null,null,null,null,null,null,null,null,null,null,null,null,null,null,0,"",""]
[null,null,null,null,0,"","",null,null,null,null,null,0,"","",null,null,null,null,null,null,null,null,null,null,null,null,null,null,{"$f":"IF(AG31<>\"\",AG31,3)*IF(AC31=\"A\",4,IF(AC31=\"B\",3,IF(AC31=\"C\",2,IF(AC31=\"D\",1,IF(AND(AC31>=0,AC31<=4,ISNUMBER(AC31)),AC31,0)))))","v":0},{"$f":"IF(OR(AC31=\"A\",AC31=\"B\",AC31=\"C\",AC31=\"D\",AC31=\"F\",AND(AC31>=0,AC31<=4,ISNUMBER(AC31))),IF(AG31<>\"\",AG31,3),\"\")","v":""},{"$f":"IF(OR(AC31=\"A\",AC31=\"B\",AC31=\"C\",AC31=\"D\",AC31=\"P\",AND(AC31>=0,AC31<=4,ISNUMBER(AC31))),IF(AG31<>\"\",AG31,3),\"\")","v":""}]
[null,null,null,null,0,"","",null,null,null,null,null,0,"","",null,null,null,null,null,null,null,null,null,null,null,null,null,null,{"$f":"IF(AG32<>\"\",AG32,3)*IF(AC32=\"A\",4,IF(AC32=\"B\",3,IF(AC32=\"C\",2,IF(AC32=\"D\",1,IF(AND(AC32>=0,AC32<=4,ISNUMBER(AC32)),AC32,0)))))","v":0},{"$f":"IF(OR(AC32=\"A\",AC32=\"B\",AC32=\"C\",AC32=\"D\",AC32=\"F\",AND(AC32>=0,AC32<=4,ISNUMBER(AC32))),IF(AG32<>\"\",AG32,3),\"\")","v":""},{"$f":"IF(OR(AC32=\"A\",AC32=\"B\",AC32=\"C\",AC32=\"D\",AC32=\"P\",AND(AC32>=0,AC32<=4,ISNUMBER(AC32))),IF(AG32<>\"\",AG32,3),\"\")","v":""}]
[null,null,null,null,0,"","",null,null,null,null,null,0,"","",null,null,null,null,null,null,null,null,null,null,null,null,null,null,0,"",""]
[null,null,null,null,0,"","",null,null,null,null,null,0,"","",null,null,null,null,null,null,null,null,null,null,null,null,null,null,0,"",""]
[null,null,null,null,0,"","",null,null,null,null,null,0,"",""]
[null,null,null,null,0,"","",null,null,null,null,null,0,"",""]
[null,null,null,null,0,"","",null,null,null,null,null,0,"",""]
[null,null,null,null,0,"","",null,null,null,null,null,0,"",""]
[null,null,null,null,0,"","",null,null,null,null,null,0,"",""]
[null,null,null,null,0,"","",null,null,null,null,null,0,"",""]
[null,null,null,null,0,"","",null,null,null,null,null,0,"",""]
[null,null,null,null,0,"","",null,null,null,null,null,0,"",""]
[null,null,null,null,0,"","",null,null,null,null,null,0,"",""]
[null,null,null,null,0,"","",null,null,null,null,null,0,"",""]
[null,null,null,null,0,"","",null,null,null,null,null,0,"",""]

{"sheet":"GRAD CHECK ","index":1,"n_rows":45,"n_cols":6,"rows_kept":45,"cut":false,"hidden":false,"merged":[[44,1,44,8],[24,1,24,5],[27,1,27,2],[28,1,28,3],[28,4,28,5],[38,1,38,8],[41,1,41,8],[20,2,20,3],[0,0,0,5],[1,0,1,5],[2,0,2,5],[6,1,6,3],[6,4,6,5],[9,1,9,3],[12,1,12,3],[12,4,12,6],[13,1,13,2],[15,1,15,2],[18,1,18,2]]}
["GRADUATION CHECK"]
["By"]
["COLLEGE OF AGRICULTURE SCIENCES AND NATURAL RESOURCES"]
[]
[]
["Name:",null,null,null,"Date:"]
[null,{"$f":"'FDSC-SCI'!B1:Q1","v":"LNAME, FNAME "}]
[]
["ID:",null,null,null,"Graduation Date:"]
[null,{"$f":"'FDSC-SCI'!S1","v":"999-99-999"}]
[]
["EMAIL:",null,null,null,"Major:"]
[null,null,null,null,{"$f":"'FDSC-SCI'!Z1","v":"FDSC-SAF"}]
[]
["Advisor:",null,null,null,"Grad/Ret GPA:"]
[null,{"$f":"'FDSC-SCI'!AG1","v":"ADVISOR"},null,null,{"$f":"'FDSC-SCI'!Q19","v":"N/A"}]
[]
[null,"REMINDER:",null,null,"Upper Division GPA:"]
[null,null,null,null,{"$f":"'FDSC-SCI'!Q22","v":"N/A"}]
["Total Hours to Date:",null,{"$f":"'FDSC-SCI'!Q18","v":0},null,"Total  Upper Div Hours to Date:",{"$f":"'FDSC-SCI'!Q20","v":0}]
["Current Enrollment:",null,null,null,"Total  Upper Div Points to Date:",{"$f":"'FDSC-SCI'!Q21","v":0}]
[]
["Deficiencies/Remaining Hours:"]
[]
[]
[]
["Hours Needed from a 4 yr. School: ",null,null,null,"Upper Div. hours & points needed: "]
[]
[]
[]
["Number of hours needed to complete requirements:"]
[null,null,null,null,"(hrs. = current courses + deficiencies)"]
[]
[]
[]
[]
[]
["APPROVED BY:"]
[null,"________________________________________________________________________ Advisor and Date"]
[]
[]
[null,"_______________________________________________________________ Department Head and Date"]
[]
[]
[null,"________________________________________________________________________Assoc. Dean and Date"]

{"sheet":"ADVISOR'S NOTES","index":2,"n_rows":1,"n_cols":2,"rows_kept":1,"cut":false,"hidden":false,"merged":[]}
["DATE","NOTES"]