{"text_format":"1","workbook":"xlsx","n_sheets":3,"sheets":["ENTO-BPPS","GRAD CHECK","ADVISOR'S NOTES"],"not_rendered":{"charts":0,"images":0,"macros":0,"external_links":0,"defined_names":2,"comments":1,"pivot_tables":0},"unopened":[],"bounds":{"document_bytes":16777216,"sheet_cells":100000,"rows_first":2000,"rows_last":500,"rows_between":2000,"halvings":0,"cell_chars":16384,"cell_head_chars":4096},"cells_cut":0,"cells_raw":0,"read":"whole","date_system":"1900"}

{"sheet":"ENTO-BPPS","index":0,"n_rows":43,"n_cols":35,"rows_kept":43,"cut":false,"hidden":false,"merged":[[17,33,17,34],[16,33,16,34],[28,33,28,34],[29,33,29,34],[24,33,24,34],[25,33,25,34],[43,33,43,34],[38,33,38,34],[39,33,39,34],[42,33,42,34],[30,33,30,34],[22,16,22,17],[23,16,23,17],[24,16,24,17],[20,16,20,17],[25,16,25,17],[20,33,20,34],[23,33,23,34],[26,33,26,34],[22,2,22,3],[22,8,22,11],[23,2,23,3],[23,8,23,11],[19,2,19,3],[19,8,19,11],[20,2,20,3],[20,8,20,11],[17,2,17,3],[17,8,17,11],[21,2,21,3],[21,8,21,11],[19,16,19,17],[18,2,18,3],[18,8,18,11],[17,16,17,22],[21,16,21,17],[14,2,14,3],[14,8,14,11],[12,23,12,24],[16,2,16,3],[16,8,16,11],[15,23,15,24],[13,23,13,24],[15,2,15,3],[15,8,15,11],[14,23,14,24],[12,33,12,34],[9,2,9,3],[9,8,9,11],[9,23,9,24],[13,33,13,34],[10,2,10,3],[10,8,10,11],[11,33,11,34],[11,2,11,3],[11,8,11,11],[10,23,10,24],[12,2,12,3],[12,8,12,11],[11,23,11,24],[13,2,13,3],[13,8,13,11],[7,23,7,24],[7,33,7,34],[8,2,8,3],[8,8,8,11],[8,23,8,24],[8,33,8,34],[7,2,7,3],[7,8,7,11],[0,18,0,24],[0,32,0,34],[6,2,6,3],[6,8,6,11],[6,23,6,24],[0,1,0,16],[31,26,32,34],[40,33,40,34],[41,33,41,34],[36,33,36,34],[34,33,34,34],[35,33,35,34],[33,33,33,34]]}
["NAME:","Name, Student's",null,null,null,null,null,null,null,null,null,null,null,null,null,null,null,"ID:","999-99-999",null,null,null,null,null,null,"ENTO-BFRN",null,null,"ADV:",null,null,null,"AdvisorName"]
[]
["General Eduction Requirements:42 Hours",null,null,null,null,null,null,null,null,null,null,null,null,null,null,null,"College/Dept. Requirements: 10 Hours",null,null,null,null,null,null,null,null,null,"Major Requirements: 68 Hours",null,null,null,null,null,null,null,"2015-16"]
[]
["Course",null,"Grade",null,"GPts","GPACr","GrCr",null,null,"Deviation",null,null,null,null,null,null,"Course",null,"Grade","GPts","GPACr","GrCr",null,"Deviation",null,null,"Course",null,"Grade","GPts","GPACr","GrCr",null,"Deviation"]
[]
["ENGL ",1113,null,null,{"$f":"IF(H7<>\"\",H7,3)*IF(C7=\"A\",4,IF(C7=\"B\",3,IF(C7=\"C\",2,IF(C7=\"D\",1,IF(AND(C7>=0,C7<=4,ISNUMBER(C7)),C7,0)))))","v":0},{"$f":"IF(OR(C7=\"A\",C7=\"B\",C7=\"C\",C7=\"D\",C7=\"F\",AND(C7>=0,C7<=4,ISNUMBER(C7))),IF(H7<>\"\",H7,3),\"\")","v":""},{"$f":"IF(OR(C7=\"A\",C7=\"B\",C7=\"C\",C7=\"D\",C7=\"P\",AND(C7>=0,C7<=4,ISNUMBER(C7))),IF(H7<>\"\",H7,3),\"\")","v":""},null,null,null,null,null,null,null,null,null,"AG",1011,null,{"$f":"IF(W7<>\"\",W7,3)*IF(S7=\"A\",4,IF(S7=\"B\",3,IF(S7=\"C\",2,IF(S7=\"D\",1,IF(AND(S7>=0,S7<=4,ISNUMBER(S7)),S7,0)))))","v":0},{"$f":"IF(OR(S7=\"A\",S7=\"B\",S7=\"C\",S7=\"D\",S7=\"F\",AND(S7>=0,S7<=4,ISNUMBER(S7))),IF(W7<>\"\",W7,3),\"\")","v":""},{"$f":"IF(OR(S7=\"A\",S7=\"B\",S7=\"C\",S7=\"D\",S7=\"P\",AND(S7>=0,S7<=4,ISNUMBER(S7))),IF(W7<>\"\",W7,3),\"\")","v":""},1,null,null,null,"Core Courses: 8 hours"]
["ENGL ",1213,null,null,{"$f":"IF(H8<>\"\",H8,3)*IF(C8=\"A\",4,IF(C8=\"B\",3,IF(C8=\"C\",2,IF(C8=\"D\",1,IF(AND(C8>=0,C8<=4,ISNUMBER(C8)),C8,0)))))","v":0},{"$f":"IF(OR(C8=\"A\",C8=\"B\",C8=\"C\",C8=\"D\",C8=\"F\",AND(C8>=0,C8<=4,ISNUMBER(C8))),IF(H8<>\"\",H8,3),\"\")","v":""},{"$f":"IF(OR(C8=\"A\",C8=\"B\",C8=\"C\",C8=\"D\",C8=\"P\",AND(C8>=0,C8<=4,ISNUMBER(C8))),IF(H8<>\"\",H8,3),\"\")","v":""},null,null,null,null,null,null,null,null,null,"PLNT",1213,null,{"$f":"IF(W8<>\"\",W8,3)*IF(S8=\"A\",4,IF(S8=\"B\",3,IF(S8=\"C\",2,IF(S8=\"D\",1,IF(AND(S8>=0,S8<=4,ISNUMBER(S8)),S8,0)))))","v":0},{"$f":"IF(OR(S8=\"A\",S8=\"B\",S8=\"C\",S8=\"D\",S8=\"F\",AND(S8>=0,S8<=4,ISNUMBER(S8))),IF(W8<>\"\",W8,3),\"\")","v":""},{"$f":"IF(OR(S8=\"A\",S8=\"B\",S8=\"C\",S8=\"D\",S8=\"P\",AND(S8>=0,S8<=4,ISNUMBER(S8))),IF(W8<>\"\",W8,3),\"\")","v":""},null,null,null,null,"ENTO",3044,null,{"$f":"IF(AG8<>\"\",AG8,3)*IF(AC8=\"A\",4,IF(AC8=\"B\",3,IF(AC8=\"C\",2,IF(AC8=\"D\",1,IF(AND(AC8>=0,AC8<=4,ISNUMBER(AC8)),AC8,0)))))","v":0},{"$f":"IF(OR(AC8=\"A\",AC8=\"B\",AC8=\"C\",AC8=\"D\",AC8=\"F\",AND(AC8>=0,AC8<=4,ISNUMBER(AC8))),IF(AG8<>\"\",AG8,3),\"\")","v":""},{"$f":"IF(OR(AC8=\"A\",AC8=\"B\",AC8=\"C\",AC8=\"D\",AC8=\"P\",AND(AC8>=0,AC8<=4,ISNUMBER(AC8))),IF(AG8<>\"\",AG8,3),\"\")","v":""},4]
["HIST",1103,null,null,0,"","",null,null,null,null,null,null,null,null,null,"ENTO",2993,null,0,"","",null,null,null,null,"ENTO",4464,null,0,"","",4]
["POLS",1113,null,null,0,"","",null,null,null,null,null,null,null,null,null,"ENGL",3323,null,0,"",""]
["MATH",1613,null,null,0,"","",null,null,null,null,null,null,null,null,null,null,null,null,0,"","",null,null,null,null,"Additional Core: 8 hours"]
["STAT",2013,null,null,0,"","",null,null,null,null,null,null,null,null,null,null,null,null,0,"","",null,null,null,null,"ENTO",4400,null,{"$f":"IF(AG12<>\"\",AG12,3)*IF(AC12=\"A\",4,IF(AC12=\"B\",3,IF(AC12=\"C\",2,IF(AC12=\"D\",1,IF(AND(AC12>=0,AC12<=4,ISNUMBER(AC12)),AC12,0)))))","v":0},{"$f":"IF(OR(AC12=\"A\",AC12=\"B\",AC12=\"C\",AC12=\"D\",AC12=\"F\",AND(AC12>=0,AC12<=4,ISNUMBER(AC12))),IF(AG12<>\"\",AG12,3),\"\")","v":""},{"$f":"IF(OR(AC12=\"A\",AC12=\"B\",AC12=\"C\",AC12=\"D\",AC12=\"P\",AND(AC12>=0,AC12<=4,ISNUMBER(AC12))),IF(AG12<>\"\",AG12,3),\"\")","v":""},2]
["(H)",null,null,null,0,"","",null,null,null,null,null,null,null,null,null,null,null,null,0,"","",null,null,null,null,"SOC",4333,null,0,"",""]
["(H)",null,null,null,0,"","",null,null,null,null,null,null,null,null,null,null,null,null,0,"","",null,null,null,null,"SOC",4743,null,0,"",""]
["BIOL",1114,null,null,0,"","",4,null,null,null,null,null,null,null,null,null,null,null,0,"",""]
["CHEM",1314,null,null,{"$f":"IF(H16<>\"\",H16,3)*IF(C16=\"A\",4,IF(C16=\"B\",3,IF(C16=\"C\",2,IF(C16=\"D\",1,IF(AND(C16>=0,C16<=4,ISNUMBER(C16)),C16,0)))))","v":0},{"$f":"IF(OR(C16=\"A\",C16=\"B\",C16=\"C\",C16=\"D\",C16=\"F\",AND(C16>=0,C16<=4,ISNUMBER(C16))),IF(H16<>\"\",H16,3),\"\")","v":""},{"$f":"IF(OR(C16=\"A\",C16=\"B\",C16=\"C\",C16=\"D\",C16=\"P\",AND(C16>=0,C16<=4,ISNUMBER(C16))),IF(H16<>\"\",H16,3),\"\")","v":""},4,null,null,null,null,null,null,null,null,null,null,null,0,"","",null,null,null,null,"Additional Enomology: 6 hours"]
["BOT",1404,null,null,0,"","",4,null,null,null,null,null,null,null,null,null,null,null,null,null,null,null,null,null,null,"ENTO",4800,null,{"$f":"IF(AG17<>\"\",AG17,3)*IF(AC17=\"A\",4,IF(AC17=\"B\",3,IF(AC17=\"C\",2,IF(AC17=\"D\",1,IF(AND(AC17>=0,AC17<=4,ISNUMBER(AC17)),AC17,0)))))","v":0},{"$f":"IF(OR(AC17=\"A\",AC17=\"B\",AC17=\"C\",AC17=\"D\",AC17=\"F\",AND(AC17>=0,AC17<=4,ISNUMBER(AC17))),IF(AG17<>\"\",AG17,3),\"\")","v":""},{"$f":"IF(OR(AC17=\"A\",AC17=\"B\",AC17=\"C\",AC17=\"D\",AC17=\"P\",AND(AC17>=0,AC17<=4,ISNUMBER(AC17))),IF(AG17<>\"\",AG17,3),\"\")","v":""},3]
["AGEC",1113,null,null,0,"","",null,null,null,null,null,null,null,null,null,null,null,null,null,null,null,null,"Graduate Semester",null,null,"ENTO",2143,null,0,"",""]
["SPCH",2713,null,null,0,"","",null,null,null,null,null,null,null,null,null,"Credits and GPAs as of this date:"]
["(D)",null,null,null,0,"","",null,null,null,null,null,null,null,null,null,{"$f":"SUM(G7:G24,V7:V15,AF7:AF9,AF12:AF15, AF17:AF18,AF21, AF24:AF27,AF29:AF31,AF34:AF36,AF39:AF43,G28:G43,O28:O42)","v":0},null,"Hours for graduation",null,null,null,null,null,null,null,"GENETICS: 3 hours"]
["(I)",null,null,null,0,"","",null,null,null,null,null,null,null,null,null,{"$f":"IF(SUM(F7:F24,U7:U15,AE8:AE14, AE17:AE18,AE21,AE24:AE27,AE29:AE31,AE34:AE36, AE39:AE43,F28:F43,N28:N43)=0,\"N/A\",ROUNDDOWN(SUM(E7:E24,T7:T15,AD8:AD14, AD17:AD18,AD21,AD24:AD27,AD29:AD31,AD34:AD36,AD39:AD43,E28:E43,M28:M43)/SUM(F7:F24,U7:U15,AE8:AE14, AE17:AE18,AE21, AE24:AE27,AE29:AE31,AE34:AE36,AE39:AE43,F28:F43,N28:N43),2))","v":"N/A"},null,"Grad/Ret GPA",null,null,null,null,null,null,null,"ANSI",3423,null,{"$f":"IF(AG21<>\"\",AG21,3)*IF(AC21=\"A\",4,IF(AC21=\"B\",3,IF(AC21=\"C\",2,IF(AC21=\"D\",1,IF(AND(AC21>=0,AC21<=4,ISNUMBER(AC21)),AC21,0)))))","v":0},{"$f":"IF(OR(AC21=\"A\",AC21=\"B\",AC21=\"C\",AC21=\"D\",AC21=\"F\",AND(AC21>=0,AC21<=4,ISNUMBER(AC21))),IF(AG21<>\"\",AG21,3),\"\")","v":""},{"$f":"IF(OR(AC21=\"A\",AC21=\"B\",AC21=\"C\",AC21=\"D\",AC21=\"P\",AND(AC21>=0,AC21<=4,ISNUMBER(AC21))),IF(AG21<>\"\",AG21,3),\"\")","v":""}]
[null,null,null,null,0,"","",null,null,null,null,null,null,null,null,null,{"$f":"SUMIF(B7:B24,\">2999\",F7:F24)+SUMIF(B28:B43,\">2999\",F28:F43)+SUMIF(J28:J43,\">2999\",N28:N42)+SUMIF(R7:R15,\">2999\",U7:U15)+SUMIF(AB8:AB9,\">2999\",AE8:AE9)+SUMIF(AB12:AB14,\">2999\",AE12:AE14)+SUMIF(AB17:AB18,\">2999\",AE17:AE18)+SUMIF(AB21,\">2999\",AE21)+SUMIF(AB24:AB27,\">2999\",AE24:AE27)+SUMIF(AB29:AB31,\">2999\",AE29:AE31)+SUMIF(AB34:AB36,\">2999\",AE34:AE36)+SUMIF(AB39:AB43,\">2999\",AE39:AE43)","v":0},null,"UPPER DIV HOURS (40)"]
[null,null,null,null,{"$f":"IF(H23<>\"\",H23,3)*IF(C23=\"A\",4,IF(C23=\"B\",3,IF(C23=\"C\",2,IF(C23=\"D\",1,IF(AND(C23>=0,C23<=4,ISNUMBER(C23)),C23,0)))))","v":0},{"$f":"IF(OR(C23=\"A\",C23=\"B\",C23=\"C\",C23=\"D\",C23=\"F\",AND(C23>=0,C23<=4,ISNUMBER(C23))),IF(H23<>\"\",H23,3),\"\")","v":""},{"$f":"IF(OR(C23=\"A\",C23=\"B\",C23=\"C\",C23=\"D\",C23=\"P\",AND(C23>=0,C23<=4,ISNUMBER(C23))),IF(H23<>\"\",H23,3),\"\")","v":""},null,null,null,null,null,null,null,null,null,{"$f":"SUMIF(B7:B24,\">2999\",E7:E24)+SUMIF(B28:B43,\">2999\",E28:E43)+SUMIF(J28:J43,\">2999\",M28:M43)+SUMIF(R7:R16,\">2999\",T7:T16)+SUMIF(AB8:AB9,\">2999\",AD8:AD9)+SUMIF(AB12:AB14,\">2999\",AD12:AD14)+SUMIF(AB17:AB18,\">2999\",AD17:AD18)+SUMIF(AB21,\">2999\",AD21)+SUMIF(AB29:AB31,\">2999\",AD29:AD31)+SUMIF(AB34:AB36,\">2999\",AD34:AD36)+SUMIF(AB24:AB27,\">2999\",AD24:AD27)+SUMIF(AB40:AB43,\">2999\",AD40:AD43)","v":0},null,"Upper div points (100)",null,null,null,null,null,null,null,"CHEMISTRY: 13 hours (listed and 5 hrs organic)"]
[null,null,null,null,0,"","",null,null,null,null,null,null,null,null,null,{"$f":"IF(SUM(Q23)=0,\"N/A\",Q23/Q22)","v":"N/A"},null,"Upper div GPA",null,null,null,null,null,null,null,"CHEM",1515,null,{"$f":"IF(AG24<>\"\",AG24,3)*IF(AC24=\"A\",4,IF(AC24=\"B\",3,IF(AC24=\"C\",2,IF(AC24=\"D\",1,IF(AND(AC24>=0,AC24<=4,ISNUMBER(AC24)),AC24,0)))))","v":0},{"$f":"IF(OR(AC24=\"A\",AC24=\"B\",AC24=\"C\",AC24=\"D\",AC24=\"F\",AND(AC24>=0,AC24<=4,ISNUMBER(AC24))),IF(AG24<>\"\",AG24,3),\"\")","v":""},{"$f":"IF(OR(AC24=\"A\",AC24=\"B\",AC24=\"C\",AC24=\"D\",AC24=\"P\",AND(AC24>=0,AC24<=4,ISNUMBER(AC24))),IF(AG24<>\"\",AG24,3),\"\")","v":""},5]
["General Elective Hours:",null,null,null,null,null,null,null,null,null,null,null,null,null,null,null,null,null,"60 Senior College Hours",null,null,null,null,null,null,null,"BIOC",3653,null,{"$f":"IF(AG25<>\"\",AG25,3)*IF(AC25=\"A\",4,IF(AC25=\"B\",3,IF(AC25=\"C\",2,IF(AC25=\"D\",1,IF(AND(AC25>=0,AC25<=4,ISNUMBER(AC25)),AC25,0)))))","v":0},{"$f":"IF(OR(AC25=\"A\",AC25=\"B\",AC25=\"C\",AC25=\"D\",AC25=\"F\",AND(AC25>=0,AC25<=4,ISNUMBER(AC25))),IF(AG25<>\"\",AG25,3),\"\")","v":""},{"$f":"IF(OR(AC25=\"A\",AC25=\"B\",AC25=\"C\",AC25=\"D\",AC25=\"P\",AND(AC25>=0,AC25<=4,ISNUMBER(AC25))),IF(AG25<>\"\",AG25,3),\"\")","v":""}]
["Non-Ag",null,null,null,null,null,null,null,"Ag Elect ",null,null,null,null,null,null,null,120,null,"HOURS NEEDED",null,null,null,null,null,null,null,"CHEM",null,null,0,"",""]
["Course",null,"Grd","Cr",null,null,null,null,"Course",null,"Grd","Cr","GPts","GPACr","GrCr",null,"NOTES:",null,null,null,null,null,null,null,null,null,null,null,null,{"$f":"IF(AG27<>\"\",AG27,3)*IF(AC27=\"A\",4,IF(AC27=\"B\",3,IF(AC27=\"C\",2,IF(AC27=\"D\",1,IF(AND(AC27>=0,AC27<=4,ISNUMBER(AC27)),AC27,0)))))","v":0},"","",2]
[null,null,null,null,{"$f":"D28*IF(OR(C28=\"A\",C28=\"RA\"),4,IF(OR(C28=\"B\",C28=\"RB\"),3,IF(OR(C28=\"C\",C28=\"RC\"),2,IF(OR(C28=\"D\",C28=\"RD\"),1,IF(AND(C28>=0,C28<=4,ISNUMBER(C28)),C28,0)))))","v":0},{"$f":"IF(OR(C28=\"\",D28=\"\"),\"\",IF(OR(C28=\"A\",C28=\"B\",C28=\"C\",C28=\"D\",C28=\"F\",C28=\"RA\",C28=\"RB\",C28=\"RC\",C28=\"RD\",C28=\"RF\",AND(C28>=0,C28<=4,ISNUMBER(C28))),D28,\"\"))","v":""},{"$f":"IF(OR(C28=\"\",D28=\"\"),\"\",IF(OR(C28=\"A\",C28=\"B\",C28=\"C\",C28=\"D\",C28=\"P\",AND(C28>=0,C28<=4,ISNUMBER(C28))),D28,\"\"))","v":""},null,null,null,null,null,{"$f":"L28*IF(OR(K28=\"A\",K28=\"RA\"),4,IF(OR(K28=\"B\",K28=\"RB\"),3,IF(OR(K28=\"C\",K28=\"RC\"),2,IF(OR(K28=\"D\",K28=\"RD\"),1,IF(AND(K28>=0,K28=4,ISNUMBER(K28)),K28,0)))))","v":0},{"$f":"IF(OR(K28=\"\",L28=\"\"),\"\",IF(OR(K28=\"A\",K28=\"B\",K28=\"C\",K28=\"D\",K28=\"F\",K28=\"RA\",K28=\"RB\",K28=\"RC\",K28=\"RD\",K28=\"RF\",AND(K28>=0,K28<=4,ISNUMBER(K28))),L28,\"\"))","v":""},{"$f":"IF(OR(K28=\"\",L28=\"\"),\"\",IF(OR(K28=\"A\",K28=\"B\",K28=\"C\",K28=\"D\",K28=\"P\",AND(K28>=0,K28<=4,ISNUMBER(K28))),L28,\"\"))","v":""},null,null,null,null,null,null,null,null,null,null,null,"Lab courses: 8 hours"]
[null,null,null,null,0,"","",null,null,null,null,null,0,"","",null,null,null,null,null,null,null,null,null,null,null,"CHEM",2113,null,{"$f":"IF(AG29<>\"\",AG29,3)*IF(AC29=\"A\",4,IF(AC29=\"B\",3,IF(AC29=\"C\",2,IF(AC29=\"D\",1,IF(AND(AC29>=0,AC29<=4,ISNUMBER(AC29)),AC29,0)))))","v":0},{"$f":"IF(OR(AC29=\"A\",AC29=\"B\",AC29=\"C\",AC29=\"D\",AC29=\"F\",AND(AC29>=0,AC29<=4,ISNUMBER(AC29))),IF(AG29<>\"\",AG29,3),\"\")","v":""},{"$f":"IF(OR(AC29=\"A\",AC29=\"B\",AC29=\"C\",AC29=\"D\",AC29=\"P\",AND(AC29>=0,AC29<=4,ISNUMBER(AC29))),IF(AG29<>\"\",AG29,3),\"\")","v":""}]
[null,null,null,null,0,"","",null,null,null,null,null,0,"","",null,null,null,null,null,null,null,null,null,null,null,"CHEM",2122,null,0,"","",2]
[null,null,null,null,0,"","",null,null,null,null,null,0,"","",null,null,null,null,null,null,null,null,null,null,null,"BIOC",3723,null,0,"",""]
[null,null,null,null,0,"","",null,null,null,null,null,0,"","",null,null,null,null,null,null,null,null,null,null,null,"Additional 8 hours  Biological Sciences"]
[null,null,null,null,0,"","",null,null,null,null,null,0,"",""]
[null,null,null,null,0,"","",null,null,null,null,null,0,"","",null,null,null,null,null,null,null,null,null,null,null,"MICR",null,null,{"$f":"IF(AG34<>\"\",AG34,3)*IF(AC34=\"A\",4,IF(AC34=\"B\",3,IF(AC34=\"C\",2,IF(AC34=\"D\",1,IF(AND(AC34>=0,AC34<=4,ISNUMBER(AC34)),AC34,0)))))","v":0},{"$f":"IF(OR(AC34=\"A\",AC34=\"B\",AC34=\"C\",AC34=\"D\",AC34=\"F\",AND(AC34>=0,AC34<=4,ISNUMBER(AC34))),IF(AG34<>\"\",AG34,3),\"\")","v":""},{"$f":"IF(OR(AC34=\"A\",AC34=\"B\",AC34=\"C\",AC34=\"D\",AC34=\"P\",AND(AC34>=0,AC34<=4,ISNUMBER(AC34))),IF(AG34<>\"\",AG34,3),\"\")","v":""}]
[null,null,null,null,0,"","",null,null,null,null,null,0,"","",null,null,null,null,null,null,null,null,null,null,null,"MICR",null,null,0,"",""]
[null,null,null,null,0,"","",null,null,null,null,null,0,"","",null,null,null,null,null,null,null,null,null,null,null,"ZOOL",null,null,{"$f":"IF(AG36<>\"\",AG36,3)*IF(AC36=\"A\",4,IF(AC36=\"B\",3,IF(AC36=\"C\",2,IF(AC36=\"D\",1,IF(AND(AC36>=0,AC36<=4,ISNUMBER(AC36)),AC36,0)))))","v":0},{"$f":"IF(OR(AC36=\"A\",AC36=\"B\",AC36=\"C\",AC36=\"D\",AC36=\"F\",AND(AC36>=0,AC36<=4,ISNUMBER(AC36))),IF(AG36<>\"\",AG36,3),\"\")","v":""},{"$f":"IF(OR(AC36=\"A\",AC36=\"B\",AC36=\"C\",AC36=\"D\",AC36=\"P\",AND(AC36>=0,AC36<=4,ISNUMBER(AC36))),IF(AG36<>\"\",AG36,3),\"\")","v":""}]
[null,null,null,null,0,"","",null,null,null,null,null,0,"","",null,null,null,null,null,null,null,null,null,null,null,null,null,null,0,"",""]
[null,null,null,null,0,"","",null,null,null,null,null,0,"","",null,null,null,null,null,null,null,null,null,null,null,"Additional 14 hours from: LIST "]
[null,null,null,null,0,"","",null,null,null,null,null,0,"","",null,null,null,null,null,null,null,null,null,null,null,null,null,null,{"$f":"IF(AG39<>\"\",AG39,3)*IF(AC39=\"A\",4,IF(AC39=\"B\",3,IF(AC39=\"C\",2,IF(AC39=\"D\",1,IF(AND(AC39>=0,AC39<=4,ISNUMBER(AC39)),AC39,0)))))","v":0},{"$f":"IF(OR(AC39=\"A\",AC39=\"B\",AC39=\"C\",AC39=\"D\",AC39=\"F\",AND(AC39>=0,AC39<=4,ISNUMBER(AC39))),IF(AG39<>\"\",AG39,3),\"\")","v":""},{"$f":"IF(OR(AC39=\"A\",AC39=\"B\",AC39=\"C\",AC39=\"D\",AC39=\"P\",AND(AC39>=0,AC39<=4,ISNUMBER(AC39))),IF(AG39<>\"\",AG39,3),\"\")","v":""}]
[null,null,null,null,0,"","",null,null,null,null,null,0,"","",null,null,null,null,null,null,null,null,null,null,null,null,null,null,{"$f":"IF(AG40<>\"\",AG40,3)*IF(AC40=\"A\",4,IF(AC40=\"B\",3,IF(AC40=\"C\",2,IF(AC40=\"D\",1,IF(AND(AC40>=0,AC40<=4,ISNUMBER(AC40)),AC40,0)))))","v":0},{"$f":"IF(OR(AC40=\"A\",AC40=\"B\",AC40=\"C\",AC40=\"D\",AC40=\"F\",AND(AC40>=0,AC40<=4,ISNUMBER(AC40))),IF(AG40<>\"\",AG40,3),\"\")","v":""},{"$f":"IF(OR(AC40=\"A\",AC40=\"B\",AC40=\"C\",AC40=\"D\",AC40=\"P\",AND(AC40>=0,AC40<=4,ISNUMBER(AC40))),IF(AG40<>\"\",AG40,3),\"\")","v":""}]
[null,null,null,null,0,"","",null,null,null,null,null,0,"","",null,null,null,null,null,null,null,null,null,null,null,null,null,null,0,"",""]
[null,null,null,null,0,"","",null,null,null,null,null,0,"","",null,null,null,null,null,null,null,null,null,null,null,null,null,null,0,"",""]
[null,null,null,null,0,"","",null,null,null,null,null,null,null,null,null,null,null,null,null,null,null,null,null,null,null,null,null,null,{"$f":"IF(AG43<>\"\",AG43,3)*IF(AC43=\"A\",4,IF(AC43=\"B\",3,IF(AC43=\"C\",2,IF(AC43=\"D\",1,IF(AND(AC43>=0,AC43<=4,ISNUMBER(AC43)),AC43,0)))))","v":0},{"$f":"IF(OR(AC43=\"A\",AC43=\"B\",AC43=\"C\",AC43=\"D\",AC43=\"F\",AND(AC43>=0,AC43<=4,ISNUMBER(AC43))),IF(AG43<>\"\",AG43,3),\"\")","v":""},{"$f":"IF(OR(AC43=\"A\",AC43=\"B\",AC43=\"C\",AC43=\"D\",AC43=\"P\",AND(AC43>=0,AC43<=4,ISNUMBER(AC43))),IF(AG43<>\"\",AG43,3),\"\")","v":""}]

{"sheet":"GRAD CHECK","index":1,"n_rows":45,"n_cols":6,"rows_kept":45,"cut":false,"hidden":false,"merged":[[20,2,20,3],[0,0,0,5],[1,0,1,5],[2,0,2,5],[6,1,6,3],[6,4,6,5],[9,1,9,3],[12,1,12,3],[12,4,12,6],[13,1,13,2],[15,1,15,2],[18,1,18,2],[44,1,44,8],[24,1,24,5],[27,1,27,2],[28,1,28,3],[28,4,28,5],[38,1,38,8],[41,1,41,8]]}
["GRADUATION CHECK"]
["By"]
["COLLEGE OF AGRICULTURE SCIENCES AND NATURAL RESOURCES"]
[]
[]
["Name:",null,null,null,"Date:"]
[null,{"$f":"'ENTO-BPPS'!B1","v":"Name, Student's"}]
[]
["ID:",null,null,null,"Graduation Date:"]
[null,{"$f":"'ENTO-BPPS'!S1","v":"999-99-999"}]
[]
["EMAIL:",null,null,null,"Major:"]
[null,null,null,null,{"$f":"'ENTO-BPPS'!Z1","v":"ENTO-BFRN"}]
[]
["Advisor:",null,null,null,"Grad/Ret GPA:"]
[null,{"$f":"'ENTO-BPPS'!AG1","v":"AdvisorName"},null,null,{"$f":"'ENTO-BPPS'!Q21","v":"N/A"}]
[]
[null,"REMINDER:",null,null,"Upper Division GPA:"]
[null,null,null,null,{"$f":"'ENTO-BPPS'!Q24","v":"N/A"}]
["Total Hours to Date:",null,{"$f":"'ENTO-BPPS'!Q20","v":0},null,"Total  Upper Div Hours to Date:",{"$f":"'ENTO-BPPS'!Q22","v":0}]
["Current Enrollment:",null,null,null,"Total  Upper Div Points to Date:",{"$f":"'ENTO-BPPS'!Q23","v":0}]
[]
["Deficiencies/Remaining Hours:"]
[]
[]
[]
["Hours Needed from a 4 yr. School: ",null,null,null,"Upper Div. hours & points needed: "]
[]
[]
[]
["Number of hours needed to complete requirements:"]
[null,null,null,null,"(hrs. = current courses + deficiencies)"]
[]
[]
[]
[]
[]
["APPROVED BY:"]
[null,"________________________________________________________________________ Adviser and Date"]
[]
[]
[null,"_______________________________________________________________ Department Head and Date"]
[]
[]
[null,"________________________________________________________________________Assoc. Dean and Date"]

{"sheet":"ADVISOR'S NOTES","index":2,"n_rows":1,"n_cols":2,"rows_kept":1,"cut":false,"hidden":false,"merged":[]}
["DATE","NOTES"]