{"text_format":"1","workbook":"xlsx","n_sheets":3,"sheets":["ANSI-AGCM","GRAD CHECK","ADVISOR'S NOTES"],"not_rendered":{"charts":0,"images":0,"macros":0,"external_links":0,"defined_names":2,"comments":1,"pivot_tables":0},"unopened":[],"bounds":{"document_bytes":16777216,"sheet_cells":100000,"rows_first":2000,"rows_last":500,"rows_between":2000,"halvings":0,"cell_chars":16384,"cell_head_chars":4096},"cells_cut":0,"cells_raw":0,"read":"whole","date_system":"1900"}

{"sheet":"ANSI-AGCM","index":0,"n_rows":42,"n_cols":35,"rows_kept":42,"cut":false,"hidden":false,"merged":[[39,33,39,34],[32,33,32,34],[33,33,33,34],[29,33,29,34],[25,33,25,34],[27,33,27,34],[28,33,28,34],[26,33,26,34],[37,33,37,34],[38,33,38,34],[24,16,24,17],[35,33,35,34],[36,33,36,34],[34,33,34,34],[21,16,21,17],[22,16,22,17],[23,16,23,17],[24,33,24,34],[30,33,30,34],[31,33,31,34],[22,0,22,11],[14,23,14,24],[17,2,17,3],[17,8,17,11],[18,2,18,3],[18,8,18,11],[19,2,19,3],[19,8,19,11],[16,16,16,22],[21,2,21,3],[21,8,21,11],[18,16,18,17],[20,2,20,3],[20,8,20,11],[20,16,20,17],[16,2,16,3],[16,8,16,11],[13,23,13,24],[14,2,14,3],[14,8,14,11],[15,2,15,3],[15,8,15,11],[19,16,19,17],[12,2,12,3],[12,8,12,11],[13,33,13,34],[11,23,11,24],[12,33,12,34],[11,2,11,3],[11,8,11,11],[13,2,13,3],[13,8,13,11],[9,2,9,3],[9,8,9,11],[9,23,9,24],[9,33,9,34],[10,2,10,3],[10,8,10,11],[10,23,10,24],[10,33,10,34],[8,2,8,3],[8,8,8,11],[8,33,8,34],[7,2,7,3],[7,8,7,11],[6,2,6,3],[6,8,6,11],[6,23,6,24],[0,1,0,16],[7,23,7,24],[22,33,22,34],[11,33,11,34],[0,18,0,24],[0,32,0,34],[7,33,7,34],[12,23,12,24],[20,33,20,34],[14,33,14,34],[21,33,21,34],[8,23,8,24],[19,33,19,34]]}
["NAME:","Name, Student's",null,null,null,null,null,null,null,null,null,null,null,null,null,null,null,"ID:","999-99-999",null,null,null,null,null,null,"ANSI-AGCM",null,null,"ADV:",null,null,null,"ADVISOR"]
[]
["General Eduction Requirements: 41 Hours",null,null,null,null,null,null,null,null,null,null,null,null,null,null,null,"College/Dept. Requirements: 17 Hours",null,null,null,null,null,null,null,null,null,"Major Requirements: 69 Hours",null,null,null,null,null,null,null,"2015-16"]
[]
["Course",null,"Grade",null,"GPts","GPACr","GrCr",null,null,"Deviation",null,null,null,null,null,null,"Course",null,"Grade","GPts","GPACr","GrCr",null,"Deviation",null,null,"Course",null,"Grade","GPts","GPACr","GrCr",null,"Deviation"]
[]
["ENGL ",1113,null,null,{"$f":"IF(H7<>\"\",H7,3)*IF(C7=\"A\",4,IF(C7=\"B\",3,IF(C7=\"C\",2,IF(C7=\"D\",1,IF(AND(C7>=0,C7<=4,ISNUMBER(C7)),C7,0)))))","v":0},{"$f":"IF(OR(C7=\"A\",C7=\"B\",C7=\"C\",C7=\"D\",C7=\"F\",AND(C7>=0,C7<=4,ISNUMBER(C7))),IF(H7<>\"\",H7,3),\"\")","v":""},{"$f":"IF(OR(C7=\"A\",C7=\"B\",C7=\"C\",C7=\"D\",C7=\"P\",AND(C7>=0,C7<=4,ISNUMBER(C7))),IF(H7<>\"\",H7,3),\"\")","v":""},null,null,null,null,null,null,null,null,null,"AG",1011,null,{"$f":"IF(W7<>\"\",W7,3)*IF(S7=\"A\",4,IF(S7=\"B\",3,IF(S7=\"C\",2,IF(S7=\"D\",1,IF(AND(S7>=0,S7<=4,ISNUMBER(S7)),S7,0)))))","v":0},{"$f":"IF(OR(S7=\"A\",S7=\"B\",S7=\"C\",S7=\"D\",S7=\"F\",AND(S7>=0,S7<=4,ISNUMBER(S7))),IF(W7<>\"\",W7,3),\"\")","v":""},{"$f":"IF(OR(S7=\"A\",S7=\"B\",S7=\"C\",S7=\"D\",S7=\"P\",AND(S7>=0,S7<=4,ISNUMBER(S7))),IF(W7<>\"\",W7,3),\"\")","v":""},1,null,null,null,"Core Courses: 21 Hours"]
["ENGL ",1213,null,null,{"$f":"IF(H8<>\"\",H8,3)*IF(C8=\"A\",4,IF(C8=\"B\",3,IF(C8=\"C\",2,IF(C8=\"D\",1,IF(AND(C8>=0,C8<=4,ISNUMBER(C8)),C8,0)))))","v":0},{"$f":"IF(OR(C8=\"A\",C8=\"B\",C8=\"C\",C8=\"D\",C8=\"F\",AND(C8>=0,C8<=4,ISNUMBER(C8))),IF(H8<>\"\",H8,3),\"\")","v":""},{"$f":"IF(OR(C8=\"A\",C8=\"B\",C8=\"C\",C8=\"D\",C8=\"P\",AND(C8>=0,C8<=4,ISNUMBER(C8))),IF(H8<>\"\",H8,3),\"\")","v":""},null,null,null,null,null,null,null,null,null,"ANSI",1111,null,{"$f":"IF(W8<>\"\",W8,3)*IF(S8=\"A\",4,IF(S8=\"B\",3,IF(S8=\"C\",2,IF(S8=\"D\",1,IF(AND(S8>=0,S8<=4,ISNUMBER(S8)),S8,0)))))","v":0},{"$f":"IF(OR(S8=\"A\",S8=\"B\",S8=\"C\",S8=\"D\",S8=\"F\",AND(S8>=0,S8<=4,ISNUMBER(S8))),IF(W8<>\"\",W8,3),\"\")","v":""},{"$f":"IF(OR(S8=\"A\",S8=\"B\",S8=\"C\",S8=\"D\",S8=\"P\",AND(S8>=0,S8<=4,ISNUMBER(S8))),IF(W8<>\"\",W8,3),\"\")","v":""},1,null,null,null,"ACCT",2103,null,{"$f":"IF(AG8<>\"\",AG8,3)*IF(AC8=\"A\",4,IF(AC8=\"B\",3,IF(AC8=\"C\",2,IF(AC8=\"D\",1,IF(AND(AC8>=0,AC8<=4,ISNUMBER(AC8)),AC8,0)))))","v":0},{"$f":"IF(OR(AC8=\"A\",AC8=\"B\",AC8=\"C\",AC8=\"D\",AC8=\"F\",AND(AC8>=0,AC8<=4,ISNUMBER(AC8))),IF(AG8<>\"\",AG8,3),\"\")","v":""},{"$f":"IF(OR(AC8=\"A\",AC8=\"B\",AC8=\"C\",AC8=\"D\",AC8=\"P\",AND(AC8>=0,AC8<=4,ISNUMBER(AC8))),IF(AG8<>\"\",AG8,3),\"\")","v":""}]
["HIST",1103,null,null,0,"","",null,null,null,null,null,null,null,null,null,"ANSI",1124,null,0,"","",4,null,null,null,"ANSI",3423,null,0,"",""]
["POLS",1113,null,null,0,"","",null,null,null,null,null,null,null,null,null,"PLNT",1213,null,0,"","",null,null,null,null,"ANSI",3433,null,0,"",""]
["MATH",1513,null,null,0,"","",null,null,null,null,null,null,null,null,null,"ENVR",1113,null,0,"","",null,null,null,null,"ANSI",3443,null,0,"",""]
["STAT",2023,null,null,0,"","",null,null,null,null,null,null,null,null,null,"ANSI",2112,null,{"$f":"IF(W12<>\"\",W12,3)*IF(S12=\"A\",4,IF(S12=\"B\",3,IF(S12=\"C\",2,IF(S12=\"D\",1,IF(AND(S12>=0,S12<=4,ISNUMBER(S12)),S12,0)))))","v":0},{"$f":"IF(OR(S12=\"A\",S12=\"B\",S12=\"C\",S12=\"D\",S12=\"F\",AND(S12>=0,S12<=4,ISNUMBER(S12))),IF(W12<>\"\",W12,3),\"\")","v":""},{"$f":"IF(OR(S12=\"A\",S12=\"B\",S12=\"C\",S12=\"D\",S12=\"P\",AND(S12>=0,S12<=4,ISNUMBER(S12))),IF(W12<>\"\",W12,3),\"\")","v":""},2,null,null,null,"ANSI",3543,null,{"$f":"IF(AG12<>\"\",AG12,3)*IF(AC12=\"A\",4,IF(AC12=\"B\",3,IF(AC12=\"C\",2,IF(AC12=\"D\",1,IF(AND(AC12>=0,AC12<=4,ISNUMBER(AC12)),AC12,0)))))","v":0},{"$f":"IF(OR(AC12=\"A\",AC12=\"B\",AC12=\"C\",AC12=\"D\",AC12=\"F\",AND(AC12>=0,AC12<=4,ISNUMBER(AC12))),IF(AG12<>\"\",AG12,3),\"\")","v":""},{"$f":"IF(OR(AC12=\"A\",AC12=\"B\",AC12=\"C\",AC12=\"D\",AC12=\"P\",AND(AC12>=0,AC12<=4,ISNUMBER(AC12))),IF(AG12<>\"\",AG12,3),\"\")","v":""}]
["(H)",null,null,null,0,"","",null,null,null,null,null,null,null,null,null,"ANSI",2253,null,0,"","",null,null,null,null,"ANSI",3653,null,0,"",""]
["(H)",null,null,null,0,"","",null,null,null,null,null,null,null,null,null,null,null,null,{"$f":"IF(W14<>\"\",W14,3)*IF(S14=\"A\",4,IF(S14=\"B\",3,IF(S14=\"C\",2,IF(S14=\"D\",1,IF(AND(S14>=0,S14<=4,ISNUMBER(S14)),S14,0)))))","v":0},{"$f":"IF(OR(S14=\"A\",S14=\"B\",S14=\"C\",S14=\"D\",S14=\"F\",AND(S14>=0,S14<=4,ISNUMBER(S14))),IF(W14<>\"\",W14,3),\"\")","v":""},{"$f":"IF(OR(S14=\"A\",S14=\"B\",S14=\"C\",S14=\"D\",S14=\"P\",AND(S14>=0,S14<=4,ISNUMBER(S14))),IF(W14<>\"\",W14,3),\"\")","v":""},null,null,null,null,"ANSI",4863,null,{"$f":"IF(AG14<>\"\",AG14,3)*IF(AC14=\"A\",4,IF(AC14=\"B\",3,IF(AC14=\"C\",2,IF(AC14=\"D\",1,IF(AND(AC14>=0,AC14<=4,ISNUMBER(AC14)),AC14,0)))))","v":0},{"$f":"IF(OR(AC14=\"A\",AC14=\"B\",AC14=\"C\",AC14=\"D\",AC14=\"F\",AND(AC14>=0,AC14<=4,ISNUMBER(AC14))),IF(AG14<>\"\",AG14,3),\"\")","v":""},{"$f":"IF(OR(AC14=\"A\",AC14=\"B\",AC14=\"C\",AC14=\"D\",AC14=\"P\",AND(AC14>=0,AC14<=4,ISNUMBER(AC14))),IF(AG14<>\"\",AG14,3),\"\")","v":""}]
["BIOL",1114,null,null,0,"","",4,null,null,null,null,null,null,null,null,null,null,null,{"$f":"IF(W15<>\"\",W15,3)*IF(S15=\"A\",4,IF(S15=\"B\",3,IF(S15=\"C\",2,IF(S15=\"D\",1,IF(AND(S15>=0,S15<=4,ISNUMBER(S15)),S15,0)))))","v":0},{"$f":"IF(OR(S15=\"A\",S15=\"B\",S15=\"C\",S15=\"D\",S15=\"F\",AND(S15>=0,S15<=4,ISNUMBER(S15))),IF(W15<>\"\",W15,3),\"\")","v":""},{"$f":"IF(OR(S15=\"A\",S15=\"B\",S15=\"C\",S15=\"D\",S15=\"P\",AND(S15>=0,S15<=4,ISNUMBER(S15))),IF(W15<>\"\",W15,3),\"\")","v":""}]
["CHEM",1314,null,null,0,"","",4,null,null,null,null,null,null,null,null,null,null,null,null,null,null,null,null,null,null,"9 hours from: "]
["AGEC",1113,null,null,0,"","",null,null,null,null,null,null,null,null,null,null,null,null,null,null,null,null,"Graduate Semester"]
["SPCH",2713,null,null,0,"","",null,null,null,null,null,null,null,null,null,"Credits and GPAs as of this date:"]
["ANSI(I)",3903,null,null,0,"","",null,null,null,null,null,null,null,null,null,{"$f":"SUM(G7:G22,V7:V15,AF8:AF14,AF20:AF22,AF26:AF40,G27:G42,O27:O42)","v":0},null,"Hours for graduation"]
["(D)",null,null,null,0,"","",null,null,null,null,null,null,null,null,null,{"$f":"IF(SUM(F7:F22,U7:U15,AE8:AE14,AE20:AE22, AE26:AE40,F27:F42,N27:N42)=0,\"N/A\",ROUNDDOWN(SUM(E7:E22,T7:T15,AD8:AD14,AD20:AD22,AD26:AD40,E27:E42,M27:M42)/SUM(F7:F22,U7:U15,AE8:AE14,AE20:AE22,AE26:AE40,F27:F42,N27:N42),2))","v":"N/A"},null,"Grad/Ret GPA",null,null,null,null,null,null,null,"ANSI",null,null,{"$f":"IF(AG20<>\"\",AG20,3)*IF(AC20=\"A\",4,IF(AC20=\"B\",3,IF(AC20=\"C\",2,IF(AC20=\"D\",1,IF(AND(AC20>=0,AC20<=4,ISNUMBER(AC20)),AC20,0)))))","v":0},{"$f":"IF(OR(AC20=\"A\",AC20=\"B\",AC20=\"C\",AC20=\"D\",AC20=\"F\",AND(AC20>=0,AC20<=4,ISNUMBER(AC20))),IF(AG20<>\"\",AG20,3),\"\")","v":""},{"$f":"IF(OR(AC20=\"A\",AC20=\"B\",AC20=\"C\",AC20=\"D\",AC20=\"P\",AND(AC20>=0,AC20<=4,ISNUMBER(AC20))),IF(AG20<>\"\",AG20,3),\"\")","v":""}]
[null,null,null,null,0,"","",null,null,null,null,null,null,null,null,null,{"$f":"SUMIF(B7:B22,\">2999\",F7:F22)+SUMIF(B27:B42,\">2999\",F27:F42)+SUMIF(J27:J42,\">2999\",N27:N42)+SUMIF(R7:R15,\">2999\",U7:U15)+SUMIF(AB7:AB14,\">2999\",AE7:AE14)+SUMIF(AB20:AB22,\">2999\",AE20:AE22)+SUMIF(AB26:AB40,\">2999\",AE26:AE40)","v":0},null,"UPPER DIV HOURS (40)",null,null,null,null,null,null,null,"ANSI",null,null,{"$f":"IF(AG21<>\"\",AG21,3)*IF(AC21=\"A\",4,IF(AC21=\"B\",3,IF(AC21=\"C\",2,IF(AC21=\"D\",1,IF(AND(AC21>=0,AC21<=4,ISNUMBER(AC21)),AC21,0)))))","v":0},{"$f":"IF(OR(AC21=\"A\",AC21=\"B\",AC21=\"C\",AC21=\"D\",AC21=\"F\",AND(AC21>=0,AC21<=4,ISNUMBER(AC21))),IF(AG21<>\"\",AG21,3),\"\")","v":""},{"$f":"IF(OR(AC21=\"A\",AC21=\"B\",AC21=\"C\",AC21=\"D\",AC21=\"P\",AND(AC21>=0,AC21<=4,ISNUMBER(AC21))),IF(AG21<>\"\",AG21,3),\"\")","v":""}]
[null,null,null,null,0,"","",null,null,null,null,null,null,null,null,null,{"$f":"SUMIF(B7:B22,\">2999\",E7:E22)+SUMIF(B27:B42,\">2999\",E27:E42)+SUMIF(J27:J42,\">2999\",M27:M42)+SUMIF(R7:R15,\">2999\",T7:T15)+SUMIF(AB8:AB14,\">2999\",AD8:AD14)+SUMIF(AB20:AB22,\">2999\",AD20:AD22)+SUMIF(AB26:AB40,\">2999\",AD26:AD40)","v":0},null,"Upper div points (100)",null,null,null,null,null,null,null,"ANSI",null,null,{"$f":"IF(AG22<>\"\",AG22,3)*IF(AC22=\"A\",4,IF(AC22=\"B\",3,IF(AC22=\"C\",2,IF(AC22=\"D\",1,IF(AND(AC22>=0,AC22<=4,ISNUMBER(AC22)),AC22,0)))))","v":0},{"$f":"IF(OR(AC22=\"A\",AC22=\"B\",AC22=\"C\",AC22=\"D\",AC22=\"F\",AND(AC22>=0,AC22<=4,ISNUMBER(AC22))),IF(AG22<>\"\",AG22,3),\"\")","v":""},{"$f":"IF(OR(AC22=\"A\",AC22=\"B\",AC22=\"C\",AC22=\"D\",AC22=\"P\",AND(AC22>=0,AC22<=4,ISNUMBER(AC22))),IF(AG22<>\"\",AG22,3),\"\")","v":""}]
[null,null,null,null,null,null,null,null,null,null,null,null,null,null,null,null,{"$f":"IF(SUM(Q22)=0,\"N/A\",Q22/Q21)","v":"N/A"},null,"Upper div GPA"]
["General Elective Hours:",null,null,null,null,null,null,null,null,null,null,null,null,null,null,null,null,null,"60 Senior College Hours",null,null,null,null,null,null,null,"Related Courses: 41 Hours"]
["Non-Ag",null,null,null,null,null,null,null,"Ag Elect: 1 HOUR ",null,null,null,null,null,null,null,130,null,"HOURS NEEDED"]
["Course",null,"Grd","Cr",null,null,null,null,"Course",null,"Grd","Cr","GPts","GPACr","GrCr",null,"NOTES:",null,null,null,null,null,null,null,null,null,"AGCM",2113,null,{"$f":"IF(AG26<>\"\",AG26,3)*IF(AC26=\"A\",4,IF(AC26=\"B\",3,IF(AC26=\"C\",2,IF(AC26=\"D\",1,IF(AND(AC26>=0,AC26<=4,ISNUMBER(AC26)),AC26,0)))))","v":0},{"$f":"IF(OR(AC26=\"A\",AC26=\"B\",AC26=\"C\",AC26=\"D\",AC26=\"F\",AND(AC26>=0,AC26<=4,ISNUMBER(AC26))),IF(AG26<>\"\",AG26,3),\"\")","v":""},{"$f":"IF(OR(AC26=\"A\",AC26=\"B\",AC26=\"C\",AC26=\"D\",AC26=\"P\",AND(AC26>=0,AC26<=4,ISNUMBER(AC26))),IF(AG26<>\"\",AG26,3),\"\")","v":""}]
[null,null,null,null,{"$f":"D27*IF(OR(C27=\"A\",C27=\"RA\"),4,IF(OR(C27=\"B\",C27=\"RB\"),3,IF(OR(C27=\"C\",C27=\"RC\"),2,IF(OR(C27=\"D\",C27=\"RD\"),1,IF(AND(C27>=0,C27<=4,ISNUMBER(C27)),C27,0)))))","v":0},{"$f":"IF(OR(C27=\"\",D27=\"\"),\"\",IF(OR(C27=\"A\",C27=\"B\",C27=\"C\",C27=\"D\",C27=\"F\",C27=\"RA\",C27=\"RB\",C27=\"RC\",C27=\"RD\",C27=\"RF\",AND(C27>=0,C27<=4,ISNUMBER(C27))),D27,\"\"))","v":""},{"$f":"IF(OR(C27=\"\",D27=\"\"),\"\",IF(OR(C27=\"A\",C27=\"B\",C27=\"C\",C27=\"D\",C27=\"P\",AND(C27>=0,C27<=4,ISNUMBER(C27))),D27,\"\"))","v":""},null,null,null,null,1,{"$f":"L27*IF(OR(K27=\"A\",K27=\"RA\"),4,IF(OR(K27=\"B\",K27=\"RB\"),3,IF(OR(K27=\"C\",K27=\"RC\"),2,IF(OR(K27=\"D\",K27=\"RD\"),1,IF(AND(K27>=0,K27=4,ISNUMBER(K27)),K27,0)))))","v":0},{"$f":"IF(OR(K27=\"\",L27=\"\"),\"\",IF(OR(K27=\"A\",K27=\"B\",K27=\"C\",K27=\"D\",K27=\"F\",K27=\"RA\",K27=\"RB\",K27=\"RC\",K27=\"RD\",K27=\"RF\",AND(K27>=0,K27<=4,ISNUMBER(K27))),L27,\"\"))","v":""},{"$f":"IF(OR(K27=\"\",L27=\"\"),\"\",IF(OR(K27=\"A\",K27=\"B\",K27=\"C\",K27=\"D\",K27=\"P\",AND(K27>=0,K27<=4,ISNUMBER(K27))),L27,\"\"))","v":""},null,null,null,null,null,null,null,null,null,null,null,"AGCM",3113,null,0,"",""]
[null,null,null,null,0,"","",null,null,null,null,null,0,"","",null,null,null,null,null,null,null,null,null,null,null,"AGCM",3123,null,0,"",""]
[null,null,null,null,0,"","",null,null,null,null,null,0,"","",null,null,null,null,null,null,null,null,null,null,null,"AGCM",3213,null,0,"",""]
[null,null,null,null,0,"","",null,null,null,null,null,0,"","",null,null,null,null,null,null,null,null,null,null,null,"AGCM",3223,null,0,"",""]
[null,null,null,null,0,"","",null,null,null,null,null,0,"","",null,null,null,null,null,null,null,null,null,null,null,"AGCM",3233,null,0,"",""]
[null,null,null,null,0,"","",null,null,null,null,null,0,"","",null,null,null,null,null,null,null,null,null,null,null,"AGCM",4113,null,{"$f":"IF(AG32<>\"\",AG32,3)*IF(AC32=\"A\",4,IF(AC32=\"B\",3,IF(AC32=\"C\",2,IF(AC32=\"D\",1,IF(AND(AC32>=0,AC32<=4,ISNUMBER(AC32)),AC32,0)))))","v":0},{"$f":"IF(OR(AC32=\"A\",AC32=\"B\",AC32=\"C\",AC32=\"D\",AC32=\"F\",AND(AC32>=0,AC32<=4,ISNUMBER(AC32))),IF(AG32<>\"\",AG32,3),\"\")","v":""},{"$f":"IF(OR(AC32=\"A\",AC32=\"B\",AC32=\"C\",AC32=\"D\",AC32=\"P\",AND(AC32>=0,AC32<=4,ISNUMBER(AC32))),IF(AG32<>\"\",AG32,3),\"\")","v":""}]
[null,null,null,null,0,"","",null,null,null,null,null,0,"","",null,null,null,null,null,null,null,null,null,null,null,"AGCM",4203,null,0,"",""]
[null,null,null,null,0,"","",null,null,null,null,null,0,"","",null,null,null,null,null,null,null,null,null,null,null,"AGCM",4300,null,0,"","",2]
[null,null,null,null,0,"","",null,null,null,null,null,0,"","",null,null,null,null,null,null,null,null,null,null,null,"AGCM",4403,null,0,"",""]
[null,null,null,null,0,"","",null,null,null,null,null,0,"","",null,null,null,null,null,null,null,null,null,null,null,"AGCM",4413,null,0,"",""]
[null,null,null,null,0,"","",null,null,null,null,null,0,"","",null,null,null,null,null,null,null,null,null,null,null,"AGEC",3703,null,0,"",""]
[null,null,null,null,0,"","",null,null,null,null,null,0,"","",null,null,null,null,null,null,null,null,null,null,null,"AGEC",3323,null,{"$f":"IF(AG38<>\"\",AG38,3)*IF(AC38=\"A\",4,IF(AC38=\"B\",3,IF(AC38=\"C\",2,IF(AC38=\"D\",1,IF(AND(AC38>=0,AC38<=4,ISNUMBER(AC38)),AC38,0)))))","v":0},{"$f":"IF(OR(AC38=\"A\",AC38=\"B\",AC38=\"C\",AC38=\"D\",AC38=\"F\",AND(AC38>=0,AC38<=4,ISNUMBER(AC38))),IF(AG38<>\"\",AG38,3),\"\")","v":""},{"$f":"IF(OR(AC38=\"A\",AC38=\"B\",AC38=\"C\",AC38=\"D\",AC38=\"P\",AND(AC38>=0,AC38<=4,ISNUMBER(AC38))),IF(AG38<>\"\",AG38,3),\"\")","v":""}]
[null,null,null,null,0,"","",null,null,null,null,null,0,"","",null,null,null,null,null,null,null,null,null,null,null,"AGEC",3713,null,{"$f":"IF(AG39<>\"\",AG39,3)*IF(AC39=\"A\",4,IF(AC39=\"B\",3,IF(AC39=\"C\",2,IF(AC39=\"D\",1,IF(AND(AC39>=0,AC39<=4,ISNUMBER(AC39)),AC39,0)))))","v":0},{"$f":"IF(OR(AC39=\"A\",AC39=\"B\",AC39=\"C\",AC39=\"D\",AC39=\"F\",AND(AC39>=0,AC39<=4,ISNUMBER(AC39))),IF(AG39<>\"\",AG39,3),\"\")","v":""},{"$f":"IF(OR(AC39=\"A\",AC39=\"B\",AC39=\"C\",AC39=\"D\",AC39=\"P\",AND(AC39>=0,AC39<=4,ISNUMBER(AC39))),IF(AG39<>\"\",AG39,3),\"\")","v":""}]
[null,null,null,null,0,"","",null,null,null,null,null,0,"","",null,null,null,null,null,null,null,null,null,null,null,null,null,null,0,"",""]
[null,null,null,null,0,"","",null,null,null,null,null,{"$f":"L41*IF(OR(K41=\"A\",K41=\"RA\"),4,IF(OR(K41=\"B\",K41=\"RB\"),3,IF(OR(K41=\"C\",K41=\"RC\"),2,IF(OR(K41=\"D\",K41=\"RD\"),1,IF(AND(K41>=0,K41=4,ISNUMBER(K41)),K41,0)))))","v":0},{"$f":"IF(OR(K41=\"\",L41=\"\"),\"\",IF(OR(K41=\"A\",K41=\"B\",K41=\"C\",K41=\"D\",K41=\"F\",K41=\"RA\",K41=\"RB\",K41=\"RC\",K41=\"RD\",K41=\"RF\",AND(K41>=0,K41<=4,ISNUMBER(K41))),L41,\"\"))","v":""},{"$f":"IF(OR(K41=\"\",L41=\"\"),\"\",IF(OR(K41=\"A\",K41=\"B\",K41=\"C\",K41=\"D\",K41=\"P\",AND(K41>=0,K41<=4,ISNUMBER(K41))),L41,\"\"))","v":""}]
[null,null,null,null,0,"","",null,null,null,null,null,0,"",""]

{"sheet":"GRAD CHECK","index":1,"n_rows":45,"n_cols":6,"rows_kept":45,"cut":false,"hidden":false,"merged":[[20,2,20,3],[0,0,0,5],[1,0,1,5],[2,0,2,5],[6,1,6,3],[6,4,6,5],[9,1,9,3],[12,1,12,3],[12,4,12,6],[13,1,13,2],[15,1,15,2],[18,1,18,2],[44,1,44,8],[24,1,24,5],[27,1,27,2],[28,1,28,3],[28,4,28,5],[38,1,38,8],[41,1,41,8]]}
["GRADUATION CHECK"]
["By"]
["COLLEGE OF AGRICULTURE SCIENCES AND NATURAL RESOURCES"]
[]
[]
["Name:",null,null,null,"Date:"]
[null,{"$f":"'ANSI-AGCM'!B1","v":"Name, Student's"}]
[]
["ID:",null,null,null,"Graduation Date:"]
[null,{"$f":"'ANSI-AGCM'!S1","v":"999-99-999"},null,null,{"$f":"'ANSI-AGCM'!Q17","v":"00:00:00"}]
[]
["EMAIL:",null,null,null,"Major:"]
[null,null,null,null,{"$f":"'ANSI-AGCM'!Z1","v":"ANSI-AGCM"}]
[]
["Advisor:",null,null,null,"Grad/Ret GPA:"]
[null,{"$f":"'ANSI-AGCM'!AG1","v":"ADVISOR"},null,null,{"$f":"'ANSI-AGCM'!Q20","v":"N/A"}]
[]
[null,"REMINDER:",null,null,"Upper Division GPA:"]
[null,null,null,null,{"$f":"'ANSI-AGCM'!Q23","v":"N/A"}]
["Total Hours to Date:",null,{"$f":"'ANSI-AGCM'!Q19","v":0},null,"Total  Upper Div Hours to Date:",{"$f":"'ANSI-AGCM'!Q21","v":0}]
["Current Enrollment:",null,null,null,"Total  Upper Div Points to Date:",{"$f":"'ANSI-AGCM'!Q22","v":0}]
[]
["Deficiencies/Remaining Hours:"]
[]
[]
[]
["Hours Needed from a 4 yr. School: ",null,null,null,"Upper Div. hours & points needed: "]
[]
[]
[]
["Number of hours needed to complete requirements:"]
[null,null,null,null,"(hrs. = current courses + deficiencies)"]
[]
[]
[]
[]
[]
["APPROVED BY:"]
[null,"________________________________________________________________________ Adviser and Date"]
[]
[]
[null,"_______________________________________________________________ Department Head and Date"]
[]
[]
[null,"________________________________________________________________________Assoc. Dean and Date"]

{"sheet":"ADVISOR'S NOTES","index":2,"n_rows":1,"n_cols":2,"rows_kept":1,"cut":false,"hidden":false,"merged":[]}
["DATE","NOTES"]