{"text_format":"1","workbook":"xlsx","n_sheets":3,"sheets":["AGLE-INTS","GRAD CHECK","ADVISOR'S NOTES"],"not_rendered":{"charts":0,"images":0,"macros":1,"external_links":0,"defined_names":2,"comments":1,"pivot_tables":0},"unopened":[],"bounds":{"document_bytes":16777216,"sheet_cells":100000,"rows_first":2000,"rows_last":500,"rows_between":2000,"halvings":0,"cell_chars":16384,"cell_head_chars":4096},"cells_cut":0,"cells_raw":0,"read":"whole","date_system":"1900"}

{"sheet":"AGLE-INTS","index":0,"n_rows":44,"n_cols":35,"rows_kept":44,"cut":false,"hidden":false,"merged":[[24,0,24,11],[17,16,17,17],[23,8,23,11],[36,33,36,34],[34,33,34,34],[35,33,35,34],[28,33,28,34],[19,16,19,17],[20,16,20,17],[21,16,21,17],[31,33,31,34],[23,2,23,3],[21,2,21,3],[21,8,21,11],[18,16,18,17],[30,33,30,34],[15,43,15,44],[22,8,22,11],[20,2,20,3],[17,2,17,3],[19,2,19,3],[18,8,18,11],[15,8,15,11],[18,2,18,3],[22,2,22,3],[15,16,15,17],[16,16,16,17],[16,2,16,3],[17,8,17,11],[15,2,15,3],[10,23,10,24],[13,33,13,34],[7,2,7,3],[8,2,8,3],[12,2,12,3],[14,2,14,3],[13,2,13,3],[14,8,14,11],[9,2,9,3],[10,2,10,3],[9,8,9,11],[10,8,10,11],[13,8,13,11],[11,2,11,3],[11,8,11,11],[29,33,29,34],[18,33,18,34],[9,33,9,34],[10,33,10,34],[17,33,17,34],[27,33,27,34],[15,33,15,34],[16,33,16,34],[0,1,0,16],[26,33,26,34],[12,8,12,11],[13,16,13,22],[20,8,20,11],[19,8,19,11],[16,8,16,11],[6,23,6,24],[6,8,6,11],[0,18,0,24],[7,8,7,11],[8,8,8,11],[6,2,6,3],[14,33,14,34],[11,23,11,24],[9,23,9,24],[0,25,0,27],[7,23,7,24],[8,23,8,24],[0,32,0,34],[7,33,7,34],[8,33,8,34]]}
["NAME:","LNAME, FNAME",null,null,null,null,null,null,null,null,null,null,null,null,null,null,null,"ID:","999-999-99",null,null,null,null,null,null,"AGLE-INTS",null,null,"ADV:",null,null,null,"ADVISOR"]
[]
["General Eduction Requirements: 42 Hours",null,null,null,null,null,null,null,null,null,null,null,null,null,null,null,"College/Dept. Requirements: 18 Hours",null,null,null,null,null,null,null,null,null,"Major Requirements: 60 Hours",null,null,null,null,null,null,null,"2015-16"]
[]
["Course",null,"Grade",null,"GPts","GPACr","GrCr",null,null,"Deviation",null,null,null,null,null,null,"Course",null,"Grade","GPts","GPACr","GrCr",null,"Deviation",null,null,"Course",null,"Grade","GPts","GPACr","GrCr",null,"Deviation"]
[]
["ENGL ",1113,null,null,{"$f":"IF(H7<>\"\",H7,3)*IF(C7=\"A\",4,IF(C7=\"B\",3,IF(C7=\"C\",2,IF(C7=\"D\",1,IF(AND(C7>=0,C7<=4,ISNUMBER(C7)),C7,0)))))","v":0},{"$f":"IF(OR(C7=\"A\",C7=\"B\",C7=\"C\",C7=\"D\",C7=\"F\",AND(C7>=0,C7<=4,ISNUMBER(C7))),IF(H7<>\"\",H7,3),\"\")","v":""},{"$f":"IF(OR(C7=\"A\",C7=\"B\",C7=\"C\",C7=\"D\",C7=\"P\",AND(C7>=0,C7<=4,ISNUMBER(C7))),IF(H7<>\"\",H7,3),\"\")","v":""},null,null,null,null,null,null,null,null,null,"AG",1011,null,{"$f":"IF(W7<>\"\",W7,3)*IF(S7=\"A\",4,IF(S7=\"B\",3,IF(S7=\"C\",2,IF(S7=\"D\",1,IF(AND(S7>=0,S7<=4,ISNUMBER(S7)),S7,0)))))","v":0},{"$f":"IF(OR(S7=\"A\",S7=\"B\",S7=\"C\",S7=\"D\",S7=\"F\",AND(S7>=0,S7<=4,ISNUMBER(S7))),IF(W7<>\"\",W7,3),\"\")","v":""},{"$f":"IF(OR(S7=\"A\",S7=\"B\",S7=\"C\",S7=\"D\",S7=\"P\",AND(S7>=0,S7<=4,ISNUMBER(S7))),IF(W7<>\"\",W7,3),\"\")","v":""},1,null,null,null,"Core Courses: 33 Hours"]
["ENGL ",1213,null,null,0,"","",null,null,null,null,null,null,null,null,null,"SOIL",2124,null,{"$f":"IF(W8<>\"\",W8,3)*IF(S8=\"A\",4,IF(S8=\"B\",3,IF(S8=\"C\",2,IF(S8=\"D\",1,IF(AND(S8>=0,S8<=4,ISNUMBER(S8)),S8,0)))))","v":0},{"$f":"IF(OR(S8=\"A\",S8=\"B\",S8=\"C\",S8=\"D\",S8=\"F\",AND(S8>=0,S8<=4,ISNUMBER(S8))),IF(W8<>\"\",W8,3),\"\")","v":""},{"$f":"IF(OR(S8=\"A\",S8=\"B\",S8=\"C\",S8=\"D\",S8=\"P\",AND(S8>=0,S8<=4,ISNUMBER(S8))),IF(W8<>\"\",W8,3),\"\")","v":""},4,null,null,null,"AGCM",3103,null,{"$f":"IF(AG8<>\"\",AG8,3)*IF(AC8=\"A\",4,IF(AC8=\"B\",3,IF(AC8=\"C\",2,IF(AC8=\"D\",1,IF(AND(AC8>=0,AC8<=4,ISNUMBER(AC8)),AC8,0)))))","v":0},{"$f":"IF(OR(AC8=\"A\",AC8=\"B\",AC8=\"C\",AC8=\"D\",AC8=\"F\",AND(AC8>=0,AC8<=4,ISNUMBER(AC8))),IF(AG8<>\"\",AG8,3),\"\")","v":""},{"$f":"IF(OR(AC8=\"A\",AC8=\"B\",AC8=\"C\",AC8=\"D\",AC8=\"P\",AND(AC8>=0,AC8<=4,ISNUMBER(AC8))),IF(AG8<>\"\",AG8,3),\"\")","v":""}]
["HIST",1103,null,null,0,"","",null,null,null,null,null,null,null,null,null,"ANSI",1124,null,0,"","",4,null,null,null,"AGLE",1511,null,{"$f":"IF(AG9<>\"\",AG9,3)*IF(AC9=\"A\",4,IF(AC9=\"B\",3,IF(AC9=\"C\",2,IF(AC9=\"D\",1,IF(AND(AC9>=0,AC9<=4,ISNUMBER(AC9)),AC9,0)))))","v":0},{"$f":"IF(OR(AC9=\"A\",AC9=\"B\",AC9=\"C\",AC9=\"D\",AC9=\"F\",AND(AC9>=0,AC9<=4,ISNUMBER(AC9))),IF(AG9<>\"\",AG9,3),\"\")","v":""},{"$f":"IF(OR(AC9=\"A\",AC9=\"B\",AC9=\"C\",AC9=\"D\",AC9=\"P\",AND(AC9>=0,AC9<=4,ISNUMBER(AC9))),IF(AG9<>\"\",AG9,3),\"\")","v":""},1]
["POLS",1113,null,null,0,"","",null,null,null,null,null,null,null,null,null,"FDSC",1133,null,0,"","",null,null,null,null,"AGLE",2303,null,0,"",""]
["MATH",null,null,null,0,"","",null,null,null,null,null,null,null,null,null,"ENTO",2003,null,{"$f":"IF(W11<>\"\",W11,3)*IF(S11=\"A\",4,IF(S11=\"B\",3,IF(S11=\"C\",2,IF(S11=\"D\",1,IF(AND(S11>=0,S11<=4,ISNUMBER(S11)),S11,0)))))","v":0},{"$f":"IF(OR(S11=\"A\",S11=\"B\",S11=\"C\",S11=\"D\",S11=\"F\",AND(S11>=0,S11<=4,ISNUMBER(S11))),IF(W11<>\"\",W11,3),\"\")","v":""},{"$f":"IF(OR(S11=\"A\",S11=\"B\",S11=\"C\",S11=\"D\",S11=\"P\",AND(S11>=0,S11<=4,ISNUMBER(S11))),IF(W11<>\"\",W11,3),\"\")","v":""},null,null,null,null,"AGLE",2403,null,0,"",""]
["MATH",null,null,null,{"$f":"IF(H12<>\"\",H12,3)*IF(C12=\"A\",4,IF(C12=\"B\",3,IF(C12=\"C\",2,IF(C12=\"D\",1,IF(AND(C12>=0,C12<=4,ISNUMBER(C12)),C12,0)))))","v":0},{"$f":"IF(OR(C12=\"A\",C12=\"B\",C12=\"C\",C12=\"D\",C12=\"F\",AND(C12>=0,C12<=4,ISNUMBER(C12))),IF(H12<>\"\",H12,3),\"\")","v":""},{"$f":"IF(OR(C12=\"A\",C12=\"B\",C12=\"C\",C12=\"D\",C12=\"P\",AND(C12>=0,C12<=4,ISNUMBER(C12))),IF(H12<>\"\",H12,3),\"\")","v":""},null,null,null,null,null,null,null,null,null,"PLNT",1213,null,0,"","",null,null,null,null,"AGLE",3101,null,0,"","",1]
["(H)",null,null,null,0,"","",null,null,null,null,null,null,null,null,null,null,null,null,null,null,null,null,null,null,null,"AGLE",3303,null,0,"",""]
["(H)",null,null,null,0,"","",null,null,null,null,null,null,null,null,null,null,null,null,null,null,null,null,"Graduate Semester",null,null,"AGLE",3403,null,{"$f":"IF(AG14<>\"\",AG14,3)*IF(AC14=\"A\",4,IF(AC14=\"B\",3,IF(AC14=\"C\",2,IF(AC14=\"D\",1,IF(AND(AC14>=0,AC14<=4,ISNUMBER(AC14)),AC14,0)))))","v":0},{"$f":"IF(OR(AC14=\"A\",AC14=\"B\",AC14=\"C\",AC14=\"D\",AC14=\"F\",AND(AC14>=0,AC14<=4,ISNUMBER(AC14))),IF(AG14<>\"\",AG14,3),\"\")","v":""},{"$f":"IF(OR(AC14=\"A\",AC14=\"B\",AC14=\"C\",AC14=\"D\",AC14=\"P\",AND(AC14>=0,AC14<=4,ISNUMBER(AC14))),IF(AG14<>\"\",AG14,3),\"\")","v":""}]
["BIOL",1114,null,null,0,"","",4,null,null,null,null,null,null,null,null,"Credits and GPAs as of this date:",null,null,null,null,null,null,null,null,null,"AGLE",4101,null,0,"","",1]
["CHEM",1215,null,null,0,"","",5,null,null,null,null,null,null,null,null,{"$f":"SUM(G7:G24,V7:V12,AF8:AF19,G29:G44,AF27:AF32,AF39:AF42,O28:O43)","v":0},null,"Hours for graduation",null,null,null,null,null,null,null,"AGLE",4203,null,0,"",""]
["AGEC",1113,null,null,0,"","",null,null,null,null,null,null,null,null,null,{"$f":"IF(SUM(F7:F24,U7:U12,AE8:AE19,AE27:AE32,AE39:AE42,F29:F44,N28:N43)=0,\"N/A\",ROUNDDOWN(SUM(E7:E24,T7:T12,AD8:AD19,AD27:AD32,AD39:AD42,E29:E44,M28:M43)/SUM(F7:F24,U7:U12,AE8:AE19,AE39:AE42,F29:F44,N28:N43,AE27:AE32),2))","v":"N/A"},null,"Grad/Ret GPA",null,null,null,null,null,null,null,"AGLE",4300,null,0,"","",6]
["SPCH",2713,null,null,0,"","",null,null,null,null,null,null,null,null,null,{"$f":"SUMIF(B7:B24,\">2999\",F7:F24)+SUMIF(B29:B44,\">2999\",F29:F44)+SUMIF(J29:J44,\">2999\",N28:N43)+SUMIF(R7:R12,\">2999\",U7:U12)+SUMIF(AB8:AB18,\">2999\",AE8:AE18)+SUMIF(AB27:AB32,\">2999\",AE27:AE32)+SUMIF(AB39:AB42,\">2999\",AE39:AE42)","v":0},null,"UPPER DIV HOURS (40)",null,null,null,null,null,null,null,"AGLE",3803,null,{"$f":"IF(AG18<>\"\",AG18,3)*IF(AC18=\"A\",4,IF(AC18=\"B\",3,IF(AC18=\"C\",2,IF(AC18=\"D\",1,IF(AND(AC18>=0,AC18<=4,ISNUMBER(AC18)),AC18,0)))))","v":0},{"$f":"IF(OR(AC18=\"A\",AC18=\"B\",AC18=\"C\",AC18=\"D\",AC18=\"F\",AND(AC18>=0,AC18<=4,ISNUMBER(AC18))),IF(AG18<>\"\",AG18,3),\"\")","v":""},{"$f":"IF(OR(AC18=\"A\",AC18=\"B\",AC18=\"C\",AC18=\"D\",AC18=\"P\",AND(AC18>=0,AC18<=4,ISNUMBER(AC18))),IF(AG18<>\"\",AG18,3),\"\")","v":""}]
["PSYC",1113,null,null,0,"","",null,null,null,null,null,null,null,null,null,{"$f":"SUMIF(B7:B24,\">2999\",E7:E24)+SUMIF(B29:B44,\">2999\",E29:E44)+SUMIF(J29:J44,\">2999\",M28:M43)+SUMIF(R7:R12,\">2999\",T7:T12)+SUMIF(AB8:AB18,\">2999\",AD8:AD18)+SUMIF(AB27:AB32,\">2999\",AD27:AD32)+SUMIF(AB39:AB42,\">2999\",AD39:AD42)","v":0},null,"Upper div points (100)",null,null,null,null,null,null,null,"NREM",2013,null,0,"",""]
["(D)",null,null,null,0,"","",null,null,null,null,null,null,null,null,null,{"$f":"IF(SUM(Q19)=0,\"N/A\",Q19/Q18)","v":"N/A"},null,"Upper div GPA",null,null,null,null,null,null,null,"Additional Requirements: 19 Hours"]
["(I)",null,null,null,0,"","",null,null,null,null,null,null,null,null,null,null,null,"60 Senior College Hours"]
[null,null,null,null,0,"","",null,null,null,null,null,null,null,null,null,120,null,"HOURS NEEDED"]
[null,null,null,null,0,"",""]
[null,null,null,null,0,"","",null,null,null,null,null,null,null,null,null,"NOTES:"]
[]
["Elective Hours:"]
["Non-Ag",null,null,null,null,null,null,null,"Ag Elect",null,null,null,"GPts","GPACr","GrCr",null,null,null,null,null,null,null,null,null,null,null,"AGLE",4803,null,{"$f":"IF(AG27<>\"\",AG27,3)*IF(AC27=\"A\",4,IF(AC27=\"B\",3,IF(AC27=\"C\",2,IF(AC27=\"D\",1,IF(AND(AC27>=0,AC27<=4,ISNUMBER(AC27)),AC27,0)))))","v":0},{"$f":"IF(OR(AC27=\"A\",AC27=\"B\",AC27=\"C\",AC27=\"D\",AC27=\"F\",AND(AC27>=0,AC27<=4,ISNUMBER(AC27))),IF(AG27<>\"\",AG27,3),\"\")","v":""},{"$f":"IF(OR(AC27=\"A\",AC27=\"B\",AC27=\"C\",AC27=\"D\",AC27=\"P\",AND(AC27>=0,AC27<=4,ISNUMBER(AC27))),IF(AG27<>\"\",AG27,3),\"\")","v":""}]
["Course",null,"Grd","Cr",null,null,null,null,"Course",null,"Grd","Cr",{"$f":"L29*IF(OR(K29=\"A\",K29=\"RA\"),4,IF(OR(K29=\"B\",K29=\"RB\"),3,IF(OR(K29=\"C\",K29=\"RC\"),2,IF(OR(K29=\"D\",K29=\"RD\"),1,IF(AND(K29>=0,K29=4,ISNUMBER(K29)),K29,0)))))","v":0},{"$f":"IF(OR(K29=\"\",L29=\"\"),\"\",IF(OR(K29=\"A\",K29=\"B\",K29=\"C\",K29=\"D\",K29=\"F\",K29=\"RA\",K29=\"RB\",K29=\"RC\",K29=\"RD\",K29=\"RF\",AND(K29>=0,K29<=4,ISNUMBER(K29))),L29,\"\"))","v":""},{"$f":"IF(OR(K29=\"\",L29=\"\"),\"\",IF(OR(K29=\"A\",K29=\"B\",K29=\"C\",K29=\"D\",K29=\"P\",AND(K29>=0,K29<=4,ISNUMBER(K29))),L29,\"\"))","v":""},null,null,null,null,null,null,null,null,null,null,null,"AGLE",3333,null,0,"",""]
[null,null,null,null,{"$f":"D29*IF(OR(C29=\"A\",C29=\"RA\"),4,IF(OR(C29=\"B\",C29=\"RB\"),3,IF(OR(C29=\"C\",C29=\"RC\"),2,IF(OR(C29=\"D\",C29=\"RD\"),1,IF(AND(C29>=0,C29<=4,ISNUMBER(C29)),C29,0)))))","v":0},{"$f":"IF(OR(C29=\"\",D29=\"\"),\"\",IF(OR(C29=\"A\",C29=\"B\",C29=\"C\",C29=\"D\",C29=\"F\",C29=\"RA\",C29=\"RB\",C29=\"RC\",C29=\"RD\",C29=\"RF\",AND(C29>=0,C29<=4,ISNUMBER(C29))),D29,\"\"))","v":""},{"$f":"IF(OR(C29=\"\",D29=\"\"),\"\",IF(OR(C29=\"A\",C29=\"B\",C29=\"C\",C29=\"D\",C29=\"P\",AND(C29>=0,C29<=4,ISNUMBER(C29))),D29,\"\"))","v":""},null,null,null,null,null,{"$f":"L30*IF(OR(K30=\"A\",K30=\"RA\"),4,IF(OR(K30=\"B\",K30=\"RB\"),3,IF(OR(K30=\"C\",K30=\"RC\"),2,IF(OR(K30=\"D\",K30=\"RD\"),1,IF(AND(K30>=0,K30=4,ISNUMBER(K30)),K30,0)))))","v":0},{"$f":"IF(OR(K30=\"\",L30=\"\"),\"\",IF(OR(K30=\"A\",K30=\"B\",K30=\"C\",K30=\"D\",K30=\"F\",K30=\"RA\",K30=\"RB\",K30=\"RC\",K30=\"RD\",K30=\"RF\",AND(K30>=0,K30<=4,ISNUMBER(K30))),L30,\"\"))","v":""},{"$f":"IF(OR(K30=\"\",L30=\"\"),\"\",IF(OR(K30=\"A\",K30=\"B\",K30=\"C\",K30=\"D\",K30=\"P\",AND(K30>=0,K30<=4,ISNUMBER(K30))),L30,\"\"))","v":""},null,null,null,null,null,null,null,null,null,null,null,null,null,null,0,"",""]
[null,null,null,null,0,"","",null,null,null,null,null,{"$f":"L31*IF(OR(K31=\"A\",K31=\"RA\"),4,IF(OR(K31=\"B\",K31=\"RB\"),3,IF(OR(K31=\"C\",K31=\"RC\"),2,IF(OR(K31=\"D\",K31=\"RD\"),1,IF(AND(K31>=0,K31=4,ISNUMBER(K31)),K31,0)))))","v":0},{"$f":"IF(OR(K31=\"\",L31=\"\"),\"\",IF(OR(K31=\"A\",K31=\"B\",K31=\"C\",K31=\"D\",K31=\"F\",K31=\"RA\",K31=\"RB\",K31=\"RC\",K31=\"RD\",K31=\"RF\",AND(K31>=0,K31<=4,ISNUMBER(K31))),L31,\"\"))","v":""},{"$f":"IF(OR(K31=\"\",L31=\"\"),\"\",IF(OR(K31=\"A\",K31=\"B\",K31=\"C\",K31=\"D\",K31=\"P\",AND(K31>=0,K31<=4,ISNUMBER(K31))),L31,\"\"))","v":""},null,null,null,null,null,null,null,null,null,null,null,null,null,null,{"$f":"IF(AG30<>\"\",AG30,3)*IF(AC30=\"A\",4,IF(AC30=\"B\",3,IF(AC30=\"C\",2,IF(AC30=\"D\",1,IF(AND(AC30>=0,AC30<=4,ISNUMBER(AC30)),AC30,0)))))","v":0},{"$f":"IF(OR(AC30=\"A\",AC30=\"B\",AC30=\"C\",AC30=\"D\",AC30=\"F\",AND(AC30>=0,AC30<=4,ISNUMBER(AC30))),IF(AG30<>\"\",AG30,3),\"\")","v":""},{"$f":"IF(OR(AC30=\"A\",AC30=\"B\",AC30=\"C\",AC30=\"D\",AC30=\"P\",AND(AC30>=0,AC30<=4,ISNUMBER(AC30))),IF(AG30<>\"\",AG30,3),\"\")","v":""}]
[null,null,null,null,0,"","",null,null,null,null,null,{"$f":"L32*IF(OR(K32=\"A\",K32=\"RA\"),4,IF(OR(K32=\"B\",K32=\"RB\"),3,IF(OR(K32=\"C\",K32=\"RC\"),2,IF(OR(K32=\"D\",K32=\"RD\"),1,IF(AND(K32>=0,K32=4,ISNUMBER(K32)),K32,0)))))","v":0},{"$f":"IF(OR(K32=\"\",L32=\"\"),\"\",IF(OR(K32=\"A\",K32=\"B\",K32=\"C\",K32=\"D\",K32=\"F\",K32=\"RA\",K32=\"RB\",K32=\"RC\",K32=\"RD\",K32=\"RF\",AND(K32>=0,K32<=4,ISNUMBER(K32))),L32,\"\"))","v":""},{"$f":"IF(OR(K32=\"\",L32=\"\"),\"\",IF(OR(K32=\"A\",K32=\"B\",K32=\"C\",K32=\"D\",K32=\"P\",AND(K32>=0,K32<=4,ISNUMBER(K32))),L32,\"\"))","v":""},null,null,null,null,null,null,null,null,null,null,null,null,null,null,0,"",""]
[null,null,null,null,0,"","",null,null,null,null,null,{"$f":"L33*IF(OR(K33=\"A\",K33=\"RA\"),4,IF(OR(K33=\"B\",K33=\"RB\"),3,IF(OR(K33=\"C\",K33=\"RC\"),2,IF(OR(K33=\"D\",K33=\"RD\"),1,IF(AND(K33>=0,K33=4,ISNUMBER(K33)),K33,0)))))","v":0},{"$f":"IF(OR(K33=\"\",L33=\"\"),\"\",IF(OR(K33=\"A\",K33=\"B\",K33=\"C\",K33=\"D\",K33=\"F\",K33=\"RA\",K33=\"RB\",K33=\"RC\",K33=\"RD\",K33=\"RF\",AND(K33>=0,K33<=4,ISNUMBER(K33))),L33,\"\"))","v":""},{"$f":"IF(OR(K33=\"\",L33=\"\"),\"\",IF(OR(K33=\"A\",K33=\"B\",K33=\"C\",K33=\"D\",K33=\"P\",AND(K33>=0,K33<=4,ISNUMBER(K33))),L33,\"\"))","v":""},null,null,null,null,null,null,null,null,null,null,null,null,null,null,0,"",""]
[null,null,null,null,0,"","",null,null,null,null,null,{"$f":"L34*IF(OR(K34=\"A\",K34=\"RA\"),4,IF(OR(K34=\"B\",K34=\"RB\"),3,IF(OR(K34=\"C\",K34=\"RC\"),2,IF(OR(K34=\"D\",K34=\"RD\"),1,IF(AND(K34>=0,K34=4,ISNUMBER(K34)),K34,0)))))","v":0},{"$f":"IF(OR(K34=\"\",L34=\"\"),\"\",IF(OR(K34=\"A\",K34=\"B\",K34=\"C\",K34=\"D\",K34=\"F\",K34=\"RA\",K34=\"RB\",K34=\"RC\",K34=\"RD\",K34=\"RF\",AND(K34>=0,K34<=4,ISNUMBER(K34))),L34,\"\"))","v":""},{"$f":"IF(OR(K34=\"\",L34=\"\"),\"\",IF(OR(K34=\"A\",K34=\"B\",K34=\"C\",K34=\"D\",K34=\"P\",AND(K34>=0,K34<=4,ISNUMBER(K34))),L34,\"\"))","v":""}]
[null,null,null,null,0,"","",null,null,null,null,null,{"$f":"L35*IF(OR(K35=\"A\",K35=\"RA\"),4,IF(OR(K35=\"B\",K35=\"RB\"),3,IF(OR(K35=\"C\",K35=\"RC\"),2,IF(OR(K35=\"D\",K35=\"RD\"),1,IF(AND(K35>=0,K35=4,ISNUMBER(K35)),K35,0)))))","v":0},{"$f":"IF(OR(K35=\"\",L35=\"\"),\"\",IF(OR(K35=\"A\",K35=\"B\",K35=\"C\",K35=\"D\",K35=\"F\",K35=\"RA\",K35=\"RB\",K35=\"RC\",K35=\"RD\",K35=\"RF\",AND(K35>=0,K35<=4,ISNUMBER(K35))),L35,\"\"))","v":""},{"$f":"IF(OR(K35=\"\",L35=\"\"),\"\",IF(OR(K35=\"A\",K35=\"B\",K35=\"C\",K35=\"D\",K35=\"P\",AND(K35>=0,K35<=4,ISNUMBER(K35))),L35,\"\"))","v":""},null,null,null,null,null,null,null,null,null,null,null,"Related Courses: 8 Hours"]
[null,null,null,null,0,"","",null,null,null,null,null,{"$f":"L36*IF(OR(K36=\"A\",K36=\"RA\"),4,IF(OR(K36=\"B\",K36=\"RB\"),3,IF(OR(K36=\"C\",K36=\"RC\"),2,IF(OR(K36=\"D\",K36=\"RD\"),1,IF(AND(K36>=0,K36=4,ISNUMBER(K36)),K36,0)))))","v":0},{"$f":"IF(OR(K36=\"\",L36=\"\"),\"\",IF(OR(K36=\"A\",K36=\"B\",K36=\"C\",K36=\"D\",K36=\"F\",K36=\"RA\",K36=\"RB\",K36=\"RC\",K36=\"RD\",K36=\"RF\",AND(K36>=0,K36<=4,ISNUMBER(K36))),L36,\"\"))","v":""},{"$f":"IF(OR(K36=\"\",L36=\"\"),\"\",IF(OR(K36=\"A\",K36=\"B\",K36=\"C\",K36=\"D\",K36=\"P\",AND(K36>=0,K36<=4,ISNUMBER(K36))),L36,\"\"))","v":""},null,null,null,null,null,null,null,null,null,null,null,null,null,null,{"$f":"IF(AG35<>\"\",AG35,3)*IF(AC35=\"A\",4,IF(AC35=\"B\",3,IF(AC35=\"C\",2,IF(AC35=\"D\",1,IF(AND(AC35>=0,AC35<=4,ISNUMBER(AC35)),AC35,0)))))","v":0},{"$f":"IF(OR(AC35=\"A\",AC35=\"B\",AC35=\"C\",AC35=\"D\",AC35=\"F\",AND(AC35>=0,AC35<=4,ISNUMBER(AC35))),IF(AG35<>\"\",AG35,3),\"\")","v":""},{"$f":"IF(OR(AC35=\"A\",AC35=\"B\",AC35=\"C\",AC35=\"D\",AC35=\"P\",AND(AC35>=0,AC35<=4,ISNUMBER(AC35))),IF(AG35<>\"\",AG35,3),\"\")","v":""}]
[null,null,null,null,0,"","",null,null,null,null,null,{"$f":"L37*IF(OR(K37=\"A\",K37=\"RA\"),4,IF(OR(K37=\"B\",K37=\"RB\"),3,IF(OR(K37=\"C\",K37=\"RC\"),2,IF(OR(K37=\"D\",K37=\"RD\"),1,IF(AND(K37>=0,K37=4,ISNUMBER(K37)),K37,0)))))","v":0},{"$f":"IF(OR(K37=\"\",L37=\"\"),\"\",IF(OR(K37=\"A\",K37=\"B\",K37=\"C\",K37=\"D\",K37=\"F\",K37=\"RA\",K37=\"RB\",K37=\"RC\",K37=\"RD\",K37=\"RF\",AND(K37>=0,K37<=4,ISNUMBER(K37))),L37,\"\"))","v":""},{"$f":"IF(OR(K37=\"\",L37=\"\"),\"\",IF(OR(K37=\"A\",K37=\"B\",K37=\"C\",K37=\"D\",K37=\"P\",AND(K37>=0,K37<=4,ISNUMBER(K37))),L37,\"\"))","v":""},null,null,null,null,null,null,null,null,null,null,null,null,null,null,0,"",""]
[null,null,null,null,0,"","",null,null,null,null,null,{"$f":"L38*IF(OR(K38=\"A\",K38=\"RA\"),4,IF(OR(K38=\"B\",K38=\"RB\"),3,IF(OR(K38=\"C\",K38=\"RC\"),2,IF(OR(K38=\"D\",K38=\"RD\"),1,IF(AND(K38>=0,K38=4,ISNUMBER(K38)),K38,0)))))","v":0},{"$f":"IF(OR(K38=\"\",L38=\"\"),\"\",IF(OR(K38=\"A\",K38=\"B\",K38=\"C\",K38=\"D\",K38=\"F\",K38=\"RA\",K38=\"RB\",K38=\"RC\",K38=\"RD\",K38=\"RF\",AND(K38>=0,K38<=4,ISNUMBER(K38))),L38,\"\"))","v":""},{"$f":"IF(OR(K38=\"\",L38=\"\"),\"\",IF(OR(K38=\"A\",K38=\"B\",K38=\"C\",K38=\"D\",K38=\"P\",AND(K38>=0,K38<=4,ISNUMBER(K38))),L38,\"\"))","v":""},null,null,null,null,null,null,null,null,null,null,null,null,null,null,0,"",""]
[null,null,null,null,0,"","",null,null,null,null,null,{"$f":"L39*IF(OR(K39=\"A\",K39=\"RA\"),4,IF(OR(K39=\"B\",K39=\"RB\"),3,IF(OR(K39=\"C\",K39=\"RC\"),2,IF(OR(K39=\"D\",K39=\"RD\"),1,IF(AND(K39>=0,K39=4,ISNUMBER(K39)),K39,0)))))","v":0},{"$f":"IF(OR(K39=\"\",L39=\"\"),\"\",IF(OR(K39=\"A\",K39=\"B\",K39=\"C\",K39=\"D\",K39=\"F\",K39=\"RA\",K39=\"RB\",K39=\"RC\",K39=\"RD\",K39=\"RF\",AND(K39>=0,K39<=4,ISNUMBER(K39))),L39,\"\"))","v":""},{"$f":"IF(OR(K39=\"\",L39=\"\"),\"\",IF(OR(K39=\"A\",K39=\"B\",K39=\"C\",K39=\"D\",K39=\"P\",AND(K39>=0,K39<=4,ISNUMBER(K39))),L39,\"\"))","v":""}]
[null,null,null,null,0,"","",null,null,null,null,null,{"$f":"L40*IF(OR(K40=\"A\",K40=\"RA\"),4,IF(OR(K40=\"B\",K40=\"RB\"),3,IF(OR(K40=\"C\",K40=\"RC\"),2,IF(OR(K40=\"D\",K40=\"RD\"),1,IF(AND(K40>=0,K40=4,ISNUMBER(K40)),K40,0)))))","v":0},{"$f":"IF(OR(K40=\"\",L40=\"\"),\"\",IF(OR(K40=\"A\",K40=\"B\",K40=\"C\",K40=\"D\",K40=\"F\",K40=\"RA\",K40=\"RB\",K40=\"RC\",K40=\"RD\",K40=\"RF\",AND(K40>=0,K40<=4,ISNUMBER(K40))),L40,\"\"))","v":""},{"$f":"IF(OR(K40=\"\",L40=\"\"),\"\",IF(OR(K40=\"A\",K40=\"B\",K40=\"C\",K40=\"D\",K40=\"P\",AND(K40>=0,K40<=4,ISNUMBER(K40))),L40,\"\"))","v":""},null,null,null,null,null,null,null,null,null,null,null,null,null,null,{"$f":"IF(AG39<>\"\",AG39,3)*IF(AC39=\"A\",4,IF(AC39=\"B\",3,IF(AC39=\"C\",2,IF(AC39=\"D\",1,IF(AND(AC39>=0,AC39<=4,ISNUMBER(AC39)),AC39,0)))))","v":0},{"$f":"IF(OR(AC39=\"A\",AC39=\"B\",AC39=\"C\",AC39=\"D\",AC39=\"F\",AND(AC39>=0,AC39<=4,ISNUMBER(AC39))),IF(AG39<>\"\",AG39,3),\"\")","v":""},{"$f":"IF(OR(AC39=\"A\",AC39=\"B\",AC39=\"C\",AC39=\"D\",AC39=\"P\",AND(AC39>=0,AC39<=4,ISNUMBER(AC39))),IF(AG39<>\"\",AG39,3),\"\")","v":""}]
[null,null,null,null,0,"","",null,null,null,null,null,{"$f":"L41*IF(OR(K41=\"A\",K41=\"RA\"),4,IF(OR(K41=\"B\",K41=\"RB\"),3,IF(OR(K41=\"C\",K41=\"RC\"),2,IF(OR(K41=\"D\",K41=\"RD\"),1,IF(AND(K41>=0,K41=4,ISNUMBER(K41)),K41,0)))))","v":0},{"$f":"IF(OR(K41=\"\",L41=\"\"),\"\",IF(OR(K41=\"A\",K41=\"B\",K41=\"C\",K41=\"D\",K41=\"F\",K41=\"RA\",K41=\"RB\",K41=\"RC\",K41=\"RD\",K41=\"RF\",AND(K41>=0,K41<=4,ISNUMBER(K41))),L41,\"\"))","v":""},{"$f":"IF(OR(K41=\"\",L41=\"\"),\"\",IF(OR(K41=\"A\",K41=\"B\",K41=\"C\",K41=\"D\",K41=\"P\",AND(K41>=0,K41<=4,ISNUMBER(K41))),L41,\"\"))","v":""},null,null,null,null,null,null,null,null,null,null,null,null,null,null,0,"",""]
[null,null,null,null,0,"","",null,null,null,null,null,{"$f":"L42*IF(OR(K42=\"A\",K42=\"RA\"),4,IF(OR(K42=\"B\",K42=\"RB\"),3,IF(OR(K42=\"C\",K42=\"RC\"),2,IF(OR(K42=\"D\",K42=\"RD\"),1,IF(AND(K42>=0,K42=4,ISNUMBER(K42)),K42,0)))))","v":0},{"$f":"IF(OR(K42=\"\",L42=\"\"),\"\",IF(OR(K42=\"A\",K42=\"B\",K42=\"C\",K42=\"D\",K42=\"F\",K42=\"RA\",K42=\"RB\",K42=\"RC\",K42=\"RD\",K42=\"RF\",AND(K42>=0,K42<=4,ISNUMBER(K42))),L42,\"\"))","v":""},{"$f":"IF(OR(K42=\"\",L42=\"\"),\"\",IF(OR(K42=\"A\",K42=\"B\",K42=\"C\",K42=\"D\",K42=\"P\",AND(K42>=0,K42<=4,ISNUMBER(K42))),L42,\"\"))","v":""},null,null,null,null,null,null,null,null,null,null,null,null,null,null,0,"",""]
[null,null,null,null,0,"","",null,null,null,null,null,{"$f":"L43*IF(OR(K43=\"A\",K43=\"RA\"),4,IF(OR(K43=\"B\",K43=\"RB\"),3,IF(OR(K43=\"C\",K43=\"RC\"),2,IF(OR(K43=\"D\",K43=\"RD\"),1,IF(AND(K43>=0,K43=4,ISNUMBER(K43)),K43,0)))))","v":0},{"$f":"IF(OR(K43=\"\",L43=\"\"),\"\",IF(OR(K43=\"A\",K43=\"B\",K43=\"C\",K43=\"D\",K43=\"F\",K43=\"RA\",K43=\"RB\",K43=\"RC\",K43=\"RD\",K43=\"RF\",AND(K43>=0,K43<=4,ISNUMBER(K43))),L43,\"\"))","v":""},{"$f":"IF(OR(K43=\"\",L43=\"\"),\"\",IF(OR(K43=\"A\",K43=\"B\",K43=\"C\",K43=\"D\",K43=\"P\",AND(K43>=0,K43<=4,ISNUMBER(K43))),L43,\"\"))","v":""},null,null,null,null,null,null,null,null,null,null,null,null,null,null,0,"",""]
[null,null,null,null,0,"","",null,null,null,null,null,{"$f":"L44*IF(OR(K44=\"A\",K44=\"RA\"),4,IF(OR(K44=\"B\",K44=\"RB\"),3,IF(OR(K44=\"C\",K44=\"RC\"),2,IF(OR(K44=\"D\",K44=\"RD\"),1,IF(AND(K44>=0,K44=4,ISNUMBER(K44)),K44,0)))))","v":0},{"$f":"IF(OR(K44=\"\",L44=\"\"),\"\",IF(OR(K44=\"A\",K44=\"B\",K44=\"C\",K44=\"D\",K44=\"F\",K44=\"RA\",K44=\"RB\",K44=\"RC\",K44=\"RD\",K44=\"RF\",AND(K44>=0,K44<=4,ISNUMBER(K44))),L44,\"\"))","v":""},{"$f":"IF(OR(K44=\"\",L44=\"\"),\"\",IF(OR(K44=\"A\",K44=\"B\",K44=\"C\",K44=\"D\",K44=\"P\",AND(K44>=0,K44<=4,ISNUMBER(K44))),L44,\"\"))","v":""}]
[null,null,null,null,0,"",""]

{"sheet":"GRAD CHECK","index":1,"n_rows":45,"n_cols":6,"rows_kept":45,"cut":false,"hidden":false,"merged":[[20,2,20,3],[0,0,0,5],[1,0,1,5],[2,0,2,5],[6,1,6,3],[6,4,6,5],[9,1,9,3],[12,1,12,3],[12,4,12,6],[13,1,13,2],[15,1,15,2],[18,1,18,2],[44,1,44,8],[24,1,24,5],[27,1,27,2],[28,1,28,3],[28,4,28,5],[38,1,38,8],[41,1,41,8]]}
["GRADUATION CHECK"]
["By"]
["COLLEGE OF AGRICULTURE SCIENCES AND NATURAL RESOURCES"]
[]
[]
["Name:",null,null,null,"Date:"]
[null,{"$f":"'AGLE-INTS'!B1:Q1","v":"LNAME, FNAME"}]
[]
["ID:",null,null,null,"Graduation Date:"]
[null,{"$f":"'AGLE-INTS'!S1","v":"999-999-99"},null,null,{"$f":"'AGLE-INTS'!Q14","v":"00:00:00"}]
[]
["EMAIL:",null,null,null,"Major:"]
[null,null,null,null,{"$f":"'AGLE-INTS'!Z1","v":"AGLE-INTS"}]
[]
["Advisor:",null,null,null,"Grad/Ret GPA:"]
[null,{"$f":"'AGLE-INTS'!AG1","v":"ADVISOR"},null,null,{"$f":"'AGLE-INTS'!Q17","v":"N/A"}]
[]
[null,"REMINDER:",null,null,"Upper Division GPA:"]
[null,null,null,null,{"$f":"'AGLE-INTS'!Q20","v":"N/A"}]
["Total Hours to Date:",null,{"$f":"'AGLE-INTS'!Q16","v":0},null,"Total  Upper Div Hours to Date:",{"$f":"'AGLE-INTS'!Q18","v":0}]
["Current Enrollment:",null,null,null,"Total  Upper Div Points to Date:",{"$f":"'AGLE-INTS'!Q19","v":0}]
[]
["Deficiencies/Remaining Hours:"]
[]
[]
[]
["Hours Needed from a 4 yr. School: ",null,null,null,"Upper Div. hours & points needed: "]
[]
[]
[]
["Number of hours needed to complete requirements:"]
[null,null,null,null,"(hrs. = current courses + deficiencies)"]
[]
[]
[]
[]
[]
["APPROVED BY:"]
[null,"________________________________________________________________________ Adviser and Date"]
[]
[]
[null,"_______________________________________________________________ Department Head and Date"]
[]
[]
[null,"________________________________________________________________________Assoc. Dean and Date"]

{"sheet":"ADVISOR'S NOTES","index":2,"n_rows":1,"n_cols":2,"rows_kept":1,"cut":false,"hidden":false,"merged":[]}
["DATE","NOTES"]