{"text_format":"1","workbook":"xlsx","n_sheets":3,"sheets":["AGED-HOSC","GRAD CHECK ","ADVISOR'S NOTES"],"not_rendered":{"charts":0,"images":0,"macros":0,"external_links":0,"defined_names":2,"comments":1,"pivot_tables":0},"unopened":[],"bounds":{"document_bytes":16777216,"sheet_cells":100000,"rows_first":2000,"rows_last":500,"rows_between":2000,"halvings":0,"cell_chars":16384,"cell_head_chars":4096},"cells_cut":0,"cells_raw":0,"read":"whole","date_system":"1900"}

{"sheet":"AGED-HOSC","index":0,"n_rows":44,"n_cols":35,"rows_kept":44,"cut":false,"hidden":false,"merged":[[10,23,10,24],[14,33,14,34],[13,33,13,34],[12,33,12,34],[11,2,11,3],[11,8,11,11],[13,2,13,3],[13,8,13,11],[12,2,12,3],[12,8,12,11],[17,2,17,3],[17,8,17,11],[18,2,18,3],[18,8,18,11],[19,2,19,3],[19,8,19,11],[14,16,14,22],[21,16,21,17],[22,16,22,17],[20,16,20,17],[16,16,16,17],[17,16,17,17],[18,16,18,17],[19,16,19,17],[15,33,15,34],[16,33,16,34],[25,33,25,34],[26,33,26,34],[27,33,27,34],[17,33,17,34],[54,33,54,34],[50,33,50,34],[37,33,37,34],[51,33,51,34],[52,33,52,34],[53,33,53,34],[38,33,38,34],[39,33,39,34],[32,33,32,34],[33,33,33,34],[34,33,34,34],[35,33,35,34],[36,33,36,34],[28,33,28,34],[29,33,29,34],[23,33,23,34],[20,2,20,3],[20,8,20,11],[21,2,21,3],[21,8,21,11],[24,0,24,11],[16,2,16,3],[16,8,16,11],[14,2,14,3],[14,8,14,11],[15,2,15,3],[15,8,15,11],[0,1,0,16],[0,18,0,24],[0,32,0,34],[6,2,6,3],[6,8,6,11],[6,23,6,24],[0,25,0,27],[7,2,7,3],[7,8,7,11],[7,23,7,24],[11,33,11,34],[8,23,8,24],[8,8,8,11],[8,33,8,34],[9,2,9,3],[9,8,9,11],[9,33,9,34],[8,2,8,3],[11,23,11,24],[9,23,9,24],[10,33,10,34],[10,2,10,3],[10,8,10,11]]}
["NAME:","Name, Student's",null,null,null,null,null,null,null,null,null,null,null,null,null,null,null,"ID:","999-99-999",null,null,null,null,null,null,"AGED-HOSC",null,null,"ADV:",null,null,null,"ADVISOR"]
[]
["General Eduction Requirements: 45 Hours",null,null,null,null,null,null,null,null,null,null,null,null,null,null,null,"College/Dept. Requirements: 8 Hours",null,null,null,null,null,null,null,null,null,"Major Requirements: 67 Hours",null,null,null,null,null,null,null,"2015-16"]
[]
["Course",null,"Grade",null,"GPts","GPACr","GrCr",null,null,"Deviation",null,null,null,null,null,null,"Course",null,"Grade","GPts","GPACr","GrCr",null,"Deviation",null,null,"Course",null,"Grade","GPts","GPACr","GrCr",null,"Deviation"]
[]
["ENGL ",1113,null,null,{"$f":"IF(H7<>\"\",H7,3)*IF(C7=\"A\",4,IF(C7=\"B\",3,IF(C7=\"C\",2,IF(C7=\"D\",1,IF(AND(C7>=0,C7<=4,ISNUMBER(C7)),C7,0)))))","v":0},{"$f":"IF(OR(C7=\"A\",C7=\"B\",C7=\"C\",C7=\"D\",C7=\"F\",AND(C7>=0,C7<=4,ISNUMBER(C7))),IF(H7<>\"\",H7,3),\"\")","v":""},{"$f":"IF(OR(C7=\"A\",C7=\"B\",C7=\"C\",C7=\"D\",C7=\"P\",AND(C7>=0,C7<=4,ISNUMBER(C7))),IF(H7<>\"\",H7,3),\"\")","v":""},null,null,null,null,null,null,null,null,null,"AG",1011,null,{"$f":"IF(W7<>\"\",W7,3)*IF(S7=\"A\",4,IF(S7=\"B\",3,IF(S7=\"C\",2,IF(S7=\"D\",1,IF(AND(S7>=0,S7<=4,ISNUMBER(S7)),S7,0)))))","v":0},{"$f":"IF(OR(S7=\"A\",S7=\"B\",S7=\"C\",S7=\"D\",S7=\"F\",AND(S7>=0,S7<=4,ISNUMBER(S7))),IF(W7<>\"\",W7,3),\"\")","v":""},{"$f":"IF(OR(S7=\"A\",S7=\"B\",S7=\"C\",S7=\"D\",S7=\"P\",AND(S7>=0,S7<=4,ISNUMBER(S7))),IF(W7<>\"\",W7,3),\"\")","v":""},1,null,null,null,"HORTICULTURE COURSES: 16 HOURS"]
["ENGL ",1213,null,null,{"$f":"IF(H8<>\"\",H8,3)*IF(C8=\"A\",4,IF(C8=\"B\",3,IF(C8=\"C\",2,IF(C8=\"D\",1,IF(AND(C8>=0,C8<=4,ISNUMBER(C8)),C8,0)))))","v":0},{"$f":"IF(OR(C8=\"A\",C8=\"B\",C8=\"C\",C8=\"D\",C8=\"F\",AND(C8>=0,C8<=4,ISNUMBER(C8))),IF(H8<>\"\",H8,3),\"\")","v":""},{"$f":"IF(OR(C8=\"A\",C8=\"B\",C8=\"C\",C8=\"D\",C8=\"P\",AND(C8>=0,C8<=4,ISNUMBER(C8))),IF(H8<>\"\",H8,3),\"\")","v":""},null,null,null,null,null,null,null,null,null,"ANSI",1124,null,{"$f":"IF(W8<>\"\",W8,3)*IF(S8=\"A\",4,IF(S8=\"B\",3,IF(S8=\"C\",2,IF(S8=\"D\",1,IF(AND(S8>=0,S8<=4,ISNUMBER(S8)),S8,0)))))","v":0},{"$f":"IF(OR(S8=\"A\",S8=\"B\",S8=\"C\",S8=\"D\",S8=\"F\",AND(S8>=0,S8<=4,ISNUMBER(S8))),IF(W8<>\"\",W8,3),\"\")","v":""},{"$f":"IF(OR(S8=\"A\",S8=\"B\",S8=\"C\",S8=\"D\",S8=\"P\",AND(S8>=0,S8<=4,ISNUMBER(S8))),IF(W8<>\"\",W8,3),\"\")","v":""},4]
["ENGL ",3323,null,null,0,"","",null,null,null,null,null,null,null,null,null,"PLNT",1213,null,0,"","",null,null,null,null,"AGED",4713,null,{"$f":"IF(AG9<>\"\",AG9,3)*IF(AC9=\"A\",4,IF(AC9=\"B\",3,IF(AC9=\"C\",2,IF(AC9=\"D\",1,IF(AND(AC9>=0,AC9<=4,ISNUMBER(AC9)),AC9,0)))))","v":0},{"$f":"IF(OR(AC9=\"A\",AC9=\"B\",AC9=\"C\",AC9=\"D\",AC9=\"F\",AND(AC9>=0,AC9<=4,ISNUMBER(AC9))),IF(AG9<>\"\",AG9,3),\"\")","v":""},{"$f":"IF(OR(AC9=\"A\",AC9=\"B\",AC9=\"C\",AC9=\"D\",AC9=\"P\",AND(AC9>=0,AC9<=4,ISNUMBER(AC9))),IF(AG9<>\"\",AG9,3),\"\")","v":""}]
["SPCH",2713,null,null,0,"","",null,null,null,null,null,null,null,null,null,null,null,null,null,null,null,null,null,null,null,"AGLE",2303,null,0,"",""]
["HIST",1103,null,null,0,"","",null,null,null,null,null,null,null,null,null,null,null,null,null,null,null,null,null,null,null,"FDSC",1133,null,0,"",""]
["POLS",1113,null,null,0,"","",null,null,null,null,null,null,null,null,null,null,null,null,null,null,null,null,null,null,null,"HORT",1013,null,0,"",""]
["MATH",1483,null,null,0,"","",null,null,null,null,null,null,null,null,null,null,null,null,null,null,null,null,null,null,null,"MCAG",3011,null,{"$f":"IF(AG13<>\"\",AG13,3)*IF(AC13=\"A\",4,IF(AC13=\"B\",3,IF(AC13=\"C\",2,IF(AC13=\"D\",1,IF(AND(AC13>=0,AC13<=4,ISNUMBER(AC13)),AC13,0)))))","v":0},{"$f":"IF(OR(AC13=\"A\",AC13=\"B\",AC13=\"C\",AC13=\"D\",AC13=\"F\",AND(AC13>=0,AC13<=4,ISNUMBER(AC13))),IF(AG13<>\"\",AG13,3),\"\")","v":""},{"$f":"IF(OR(AC13=\"A\",AC13=\"B\",AC13=\"C\",AC13=\"D\",AC13=\"P\",AND(AC13>=0,AC13<=4,ISNUMBER(AC13))),IF(AG13<>\"\",AG13,3),\"\")","v":""},1]
["STAT",null,null,null,0,"","",null,null,null,null,null,null,null,null,null,null,null,null,null,null,null,null,null,null,null,"MCAG",3211,null,0,"","",1]
["(H)",null,null,null,0,"","",null,null,null,null,null,null,null,null,null,null,null,null,null,null,null,null,"Graduate Semester",null,null,"MCAG",3222,null,{"$f":"IF(AG15<>\"\",AG15,3)*IF(AC15=\"A\",4,IF(AC15=\"B\",3,IF(AC15=\"C\",2,IF(AC15=\"D\",1,IF(AND(AC15>=0,AC15<=4,ISNUMBER(AC15)),AC15,0)))))","v":0},{"$f":"IF(OR(AC15=\"A\",AC15=\"B\",AC15=\"C\",AC15=\"D\",AC15=\"F\",AND(AC15>=0,AC15<=4,ISNUMBER(AC15))),IF(AG15<>\"\",AG15,3),\"\")","v":""},{"$f":"IF(OR(AC15=\"A\",AC15=\"B\",AC15=\"C\",AC15=\"D\",AC15=\"P\",AND(AC15>=0,AC15<=4,ISNUMBER(AC15))),IF(AG15<>\"\",AG15,3),\"\")","v":""},2]
["(H)",null,null,null,0,"","",null,null,null,null,null,null,null,null,null,"Credits and GPAs as of this date:",null,null,null,null,null,null,null,null,null,"MCAG",4101,null,0,"","",1]
["BIOL",1114,null,null,0,"","",4,null,null,null,null,null,null,null,null,{"$f":"SUM(G7:G22,V7:V12,AF9:AF18,AF24:AF30,AF33:AF40,G29:G44,O29:O44)","v":0},null,"Hours for graduation",null,null,null,null,null,null,null,"NREM",2013,null,0,"",""]
["CHEM",1215,null,null,0,"","",5,null,null,null,null,null,null,null,null,{"$f":"IF(SUM(F7:F22,U7:U12,AE24:AE30,AE33:AE40,AE9:AE18,F29:F44,N29:N44)=0,\"N/A\",ROUNDDOWN(SUM(E7:E22,T7:T12,AD9:AD18,AD24:AD30,AD33:AD40,E29:E44,M29:M44)/SUM(F7:F22,U7:U12,AE9:AE18,AE24:AE30,AE33:AE40,F29:F44,N29:N44),2))","v":"N/A"},null,"Grad/Ret GPA",null,null,null,null,null,null,null,"SOIL",2124,null,0,"","",4]
["AGEC",1113,null,null,0,"","",null,null,null,null,null,null,null,null,null,{"$f":"SUMIF(B7:B22,\">2999\",F7:F22)+SUMIF(B29:B44,\">2999\",F29:F44)+SUMIF(J29:J44,\">2999\",N29:N44)+SUMIF(R7:R12,\">2999\",U7:U12)+SUMIF(AB9:AB18,\">2999\",AE9:AE18)+SUMIF(AB26:AB30,\">2999\",AE26:AE30)+SUMIF(AB33:AB40,\">2999\",AE33:AE40)","v":0},null,"UPPER DIV HOURS (40)"]
["PSYC",1113,null,null,0,"","",null,null,null,null,null,null,null,null,null,{"$f":"SUMIF(B7:B22,\">2999\",E7:E22)+SUMIF(B29:B44,\">2999\",E29:E44)+SUMIF(J29:J44,\">2999\",M29:M44)+SUMIF(R7:R12,\">2999\",T7:T12)+SUMIF(AB9:AB18,\">2999\",AD9:AD18)+SUMIF(AB26:AB30,\">2999\",AD26:AD30)+SUMIF(AB33:AB40,\">2999\",AD33:AD40)","v":0},null,"Upper div points (100)",null,null,null,null,null,null,null,"HORTICULTURE COURSES: 16 HOURS"]
["(D)",null,null,null,0,"","",null,null,null,null,null,null,null,null,null,{"$f":"IF(SUM(Q20)=0,\"N/A\",Q20/Q19)","v":"N/A"},null,"Upper div GPA"]
["(I)",null,null,null,0,"","",null,null,null,null,null,null,null,null,null,null,null,"60 Senior College Hours"]
[null,null,null,null,null,null,null,null,null,null,null,null,null,null,null,null,125,null,"HOURS NEEDED"]
[null,null,null,null,null,null,null,null,null,null,null,null,null,null,null,null,"NOTES:",null,null,null,null,null,null,null,null,null,null,null,null,{"$f":"IF(AG24<>\"\",AG24,3)*IF(AC24=\"A\",4,IF(AC24=\"B\",3,IF(AC24=\"C\",2,IF(AC24=\"D\",1,IF(AND(AC24>=0,AC24<=4,ISNUMBER(AC24)),AC24,0)))))","v":0},{"$f":"IF(OR(AC24=\"A\",AC24=\"B\",AC24=\"C\",AC24=\"D\",AC24=\"F\",AND(AC24>=0,AC24<=4,ISNUMBER(AC24))),IF(AG24<>\"\",AG24,3),\"\")","v":""},{"$f":"IF(OR(AC24=\"A\",AC24=\"B\",AC24=\"C\",AC24=\"D\",AC24=\"P\",AND(AC24>=0,AC24<=4,ISNUMBER(AC24))),IF(AG24<>\"\",AG24,3),\"\")","v":""}]
[]
["Elective Hours:",null,null,null,null,null,null,null,null,null,null,null,null,null,null,null,null,null,null,null,null,null,null,null,null,null,"BOT",1404,null,{"$f":"IF(AG26<>\"\",AG26,3)*IF(AC26=\"A\",4,IF(AC26=\"B\",3,IF(AC26=\"C\",2,IF(AC26=\"D\",1,IF(AND(AC26>=0,AC26<=4,ISNUMBER(AC26)),AC26,0)))))","v":0},{"$f":"IF(OR(AC26=\"A\",AC26=\"B\",AC26=\"C\",AC26=\"D\",AC26=\"F\",AND(AC26>=0,AC26<=4,ISNUMBER(AC26))),IF(AG26<>\"\",AG26,3),\"\")","v":""},{"$f":"IF(OR(AC26=\"A\",AC26=\"B\",AC26=\"C\",AC26=\"D\",AC26=\"P\",AND(AC26>=0,AC26<=4,ISNUMBER(AC26))),IF(AG26<>\"\",AG26,3),\"\")","v":""},4]
["Non-Ag",null,null,null,null,null,null,null,"Ag Elect 5 HOURS",null,null,null,null,null,null,null,null,null,null,null,null,null,null,null,null,null,"HORT",3084,null,0,"","",4]
["Course",null,"Grd","Cr",null,null,null,null,"Course",null,"Grd","Cr","GPts","GPACr","GrCr",null,null,null,null,null,null,null,null,null,null,null,"HORT",null,null,0,"","",4]
[null,null,null,null,{"$f":"D29*IF(OR(C29=\"A\",C29=\"RA\"),4,IF(OR(C29=\"B\",C29=\"RB\"),3,IF(OR(C29=\"C\",C29=\"RC\"),2,IF(OR(C29=\"D\",C29=\"RD\"),1,IF(AND(C29>=0,C29<=4,ISNUMBER(C29)),C29,0)))))","v":0},{"$f":"IF(OR(C29=\"\",D29=\"\"),\"\",IF(OR(C29=\"A\",C29=\"B\",C29=\"C\",C29=\"D\",C29=\"F\",C29=\"RA\",C29=\"RB\",C29=\"RC\",C29=\"RD\",C29=\"RF\",AND(C29>=0,C29<=4,ISNUMBER(C29))),D29,\"\"))","v":""},{"$f":"IF(OR(C29=\"\",D29=\"\"),\"\",IF(OR(C29=\"A\",C29=\"B\",C29=\"C\",C29=\"D\",C29=\"P\",AND(C29>=0,C29<=4,ISNUMBER(C29))),D29,\"\"))","v":""},null,null,null,null,null,{"$f":"L29*IF(OR(K29=\"A\",K29=\"RA\"),4,IF(OR(K29=\"B\",K29=\"RB\"),3,IF(OR(K29=\"C\",K29=\"RC\"),2,IF(OR(K29=\"D\",K29=\"RD\"),1,IF(AND(K29>=0,K29=4,ISNUMBER(K29)),K29,0)))))","v":0},{"$f":"IF(OR(K29=\"\",L29=\"\"),\"\",IF(OR(K29=\"A\",K29=\"B\",K29=\"C\",K29=\"D\",K29=\"F\",K29=\"RA\",K29=\"RB\",K29=\"RC\",K29=\"RD\",K29=\"RF\",AND(K29>=0,K29<=4,ISNUMBER(K29))),L29,\"\"))","v":""},{"$f":"IF(OR(K29=\"\",L29=\"\"),\"\",IF(OR(K29=\"A\",K29=\"B\",K29=\"C\",K29=\"D\",K29=\"P\",AND(K29>=0,K29<=4,ISNUMBER(K29))),L29,\"\"))","v":""},null,null,null,null,null,null,null,null,null,null,null,"HORT",null,null,{"$f":"IF(AG29<>\"\",AG29,3)*IF(AC29=\"A\",4,IF(AC29=\"B\",3,IF(AC29=\"C\",2,IF(AC29=\"D\",1,IF(AND(AC29>=0,AC29<=4,ISNUMBER(AC29)),AC29,0)))))","v":0},{"$f":"IF(OR(AC29=\"A\",AC29=\"B\",AC29=\"C\",AC29=\"D\",AC29=\"F\",AND(AC29>=0,AC29<=4,ISNUMBER(AC29))),IF(AG29<>\"\",AG29,3),\"\")","v":""},{"$f":"IF(OR(AC29=\"A\",AC29=\"B\",AC29=\"C\",AC29=\"D\",AC29=\"P\",AND(AC29>=0,AC29<=4,ISNUMBER(AC29))),IF(AG29<>\"\",AG29,3),\"\")","v":""},4]
[null,null,null,null,0,"","",null,null,null,null,null,0,"","",null,null,null,null,null,null,null,null,null,null,null,"HORT",null,null,0,"",""]
[null,null,null,null,0,"","",null,null,null,null,null,0,"",""]
[null,null,null,null,0,"","",null,null,null,null,null,0,"","",null,null,null,null,null,null,null,null,null,null,null,"Professional Core: 27 Hours"]
[null,null,null,null,0,"","",null,null,null,null,null,0,"","",null,null,null,null,null,null,null,null,null,null,null,"AGED",3101,null,{"$f":"IF(AG33<>\"\",AG33,3)*IF(AC33=\"A\",4,IF(AC33=\"B\",3,IF(AC33=\"C\",2,IF(AC33=\"D\",1,IF(AND(AC33>=0,AC33<=4,ISNUMBER(AC33)),AC33,0)))))","v":0},{"$f":"IF(OR(AC33=\"A\",AC33=\"B\",AC33=\"C\",AC33=\"D\",AC33=\"F\",AND(AC33>=0,AC33<=4,ISNUMBER(AC33))),IF(AG33<>\"\",AG33,3),\"\")","v":""},{"$f":"IF(OR(AC33=\"A\",AC33=\"B\",AC33=\"C\",AC33=\"D\",AC33=\"P\",AND(AC33>=0,AC33<=4,ISNUMBER(AC33))),IF(AG33<>\"\",AG33,3),\"\")","v":""},1]
[null,null,null,null,0,"","",null,null,null,null,null,0,"","",null,null,null,null,null,null,null,null,null,null,null,"AGED",3103,null,0,"",""]
[null,null,null,null,0,"","",null,null,null,null,null,0,"","",null,null,null,null,null,null,null,null,null,null,null,"AGED",3203,null,0,"",""]
[null,null,null,null,0,"","",null,null,null,null,null,0,"","",null,null,null,null,null,null,null,null,null,null,null,"AGED",4103,null,0,"",""]
[null,null,null,null,0,"","",null,null,null,null,null,0,"","",null,null,null,null,null,null,null,null,null,null,null,"AGED",4113,null,0,"",""]
[null,null,null,null,0,"","",null,null,null,null,null,0,"","",null,null,null,null,null,null,null,null,null,null,null,"AGED",4200,null,0,"","",9]
[null,null,null,null,0,"","",null,null,null,null,null,0,"","",null,null,null,null,null,null,null,null,null,null,null,"EPSY",3213,null,{"$f":"IF(AG39<>\"\",AG39,3)*IF(AC39=\"A\",4,IF(AC39=\"B\",3,IF(AC39=\"C\",2,IF(AC39=\"D\",1,IF(AND(AC39>=0,AC39<=4,ISNUMBER(AC39)),AC39,0)))))","v":0},{"$f":"IF(OR(AC39=\"A\",AC39=\"B\",AC39=\"C\",AC39=\"D\",AC39=\"F\",AND(AC39>=0,AC39<=4,ISNUMBER(AC39))),IF(AG39<>\"\",AG39,3),\"\")","v":""},{"$f":"IF(OR(AC39=\"A\",AC39=\"B\",AC39=\"C\",AC39=\"D\",AC39=\"P\",AND(AC39>=0,AC39<=4,ISNUMBER(AC39))),IF(AG39<>\"\",AG39,3),\"\")","v":""}]
[null,null,null,null,0,"","",null,null,null,null,null,0,"","",null,null,null,null,null,null,null,null,null,null,null,"SPED",3202,null,0,"","",2]
[null,null,null,null,0,"","",null,null,null,null,null,0,"",""]
[null,null,null,null,0,"","",null,null,null,null,null,0,"",""]
[null,null,null,null,0,"","",null,null,null,null,null,0,"",""]
[null,null,null,null,0,"","",null,null,null,null,null,0,"",""]

{"sheet":"GRAD CHECK ","index":1,"n_rows":45,"n_cols":6,"rows_kept":45,"cut":false,"hidden":false,"merged":[[20,2,20,3],[0,0,0,5],[1,0,1,5],[2,0,2,5],[6,1,6,3],[6,4,6,5],[9,1,9,3],[12,1,12,3],[12,4,12,6],[13,1,13,2],[15,1,15,2],[17,1,18,3],[44,1,44,8],[24,1,24,5],[27,1,27,2],[28,1,28,3],[28,4,28,5],[38,1,38,8],[41,1,41,8]]}
["GRADUATION CHECK"]
["By"]
["COLLEGE OF AGRICULTURE SCIENCES AND NATURAL RESOURCES"]
[]
[]
["Name:",null,null,null,"Date:"]
[null,{"$f":"'AGED-HOSC'!B1:Q1","v":"Name, Student's"}]
[]
["ID:",null,null,null,"Graduation Date:"]
[null,{"$f":"'AGED-HOSC'!S1","v":"999-99-999"},null,null,{"$f":"'AGED-HOSC'!Q15","v":"00:00:00"}]
[]
["EMAIL:",null,null,null,"Major:"]
[null,null,null,null,{"$f":"'AGED-HOSC'!Z1","v":"AGED-HOSC"}]
[]
["Advisor:",null,null,null,"Grad/Ret GPA:"]
[null,{"$f":"'AGED-HOSC'!AG1","v":"ADVISOR"},null,null,{"$f":"'AGED-HOSC'!Q18","v":"N/A"}]
[]
[null,"REMINDER:",null,null,"Upper Division GPA:"]
[null,null,null,null,{"$f":"'AGED-HOSC'!Q21","v":"N/A"}]
["Total Hours to Date:",null,{"$f":"'AGED-HOSC'!Q17","v":0},null,"Total  Upper Div Hours to Date:",{"$f":"'AGED-HOSC'!Q19","v":0}]
["Current Enrollment:",null,null,null,"Total  Upper Div Points to Date:",{"$f":"'AGED-HOSC'!Q20","v":0}]
[]
["Deficiencies/Remaining Hours:"]
[]
[]
[]
["Hours Needed from a 4 yr. School: ",null,null,null,"Upper Div. hours & points needed: "]
[]
[]
[]
["Number of hours needed to complete requirements:"]
[null,null,null,null,"(hrs. = current courses + deficiencies)"]
[]
[]
[]
[]
[]
["APPROVED BY:"]
[null,"________________________________________________________________________ Adviser and Date"]
[]
[]
[null,"_______________________________________________________________ Department Head and Date"]
[]
[]
[null,"________________________________________________________________________Assoc. Dean and Date"]

{"sheet":"ADVISOR'S NOTES","index":2,"n_rows":1,"n_cols":2,"rows_kept":1,"cut":false,"hidden":false,"merged":[]}
["DATE","NOTES"]