{"text_format":"1","workbook":"xlsx","n_sheets":3,"sheets":["AGCM-ANSI","GRAD CHECK","ADVISOR'S NOTES"],"not_rendered":{"charts":0,"images":0,"macros":1,"external_links":0,"defined_names":2,"comments":1,"pivot_tables":0},"unopened":[],"bounds":{"document_bytes":16777216,"sheet_cells":100000,"rows_first":2000,"rows_last":500,"rows_between":2000,"halvings":0,"cell_chars":16384,"cell_head_chars":4096},"cells_cut":0,"cells_raw":0,"read":"whole","date_system":"1900"}

{"sheet":"AGCM-ANSI","index":0,"n_rows":44,"n_cols":35,"rows_kept":44,"cut":false,"hidden":false,"merged":[[25,33,25,34],[26,33,26,34],[0,32,0,34],[7,33,7,34],[9,33,9,34],[10,33,10,34],[11,33,11,34],[16,8,16,11],[20,2,20,3],[12,2,12,3],[12,8,12,11],[15,2,15,3],[14,2,14,3],[20,8,20,11],[19,8,19,11],[17,8,17,11],[18,8,18,11],[18,2,18,3],[0,18,0,24],[7,8,7,11],[8,8,8,11],[6,2,6,3],[7,2,7,3],[8,2,8,3],[0,1,0,16],[8,23,8,24],[7,23,7,24],[6,23,6,24],[6,8,6,11],[9,2,9,3],[48,33,48,34],[45,33,45,34],[46,33,46,34],[44,33,44,34],[47,33,47,34],[43,33,43,34],[38,33,38,34],[21,16,21,17],[22,16,22,17],[23,16,23,17],[42,33,42,34],[41,33,41,34],[39,33,39,34],[36,33,36,34],[37,33,37,34],[35,33,35,34],[27,33,27,34],[28,33,28,34],[29,33,29,34],[31,33,31,34],[32,33,32,34],[40,33,40,34],[34,33,34,34],[16,2,16,3],[22,8,22,11],[23,8,23,11],[23,2,23,3],[21,2,21,3],[21,8,21,11],[19,2,19,3],[17,2,17,3],[30,33,30,34],[19,33,19,34],[20,33,20,34],[21,33,21,34],[18,16,18,17],[17,16,17,17],[24,0,24,11],[17,33,17,34],[18,33,18,34],[22,33,22,34],[8,33,8,34],[24,33,24,34],[15,8,15,11],[14,8,14,11],[13,2,13,3],[10,2,10,3],[9,8,9,11],[10,8,10,11],[11,2,11,3],[22,2,22,3],[11,23,11,24],[13,8,13,11],[16,43,16,44],[19,16,19,17],[20,16,20,17],[12,33,12,34],[15,33,15,34],[16,33,16,34],[13,33,13,34],[14,33,14,34],[15,16,15,22]]}
["NAME:","Name, Student's",null,null,null,null,null,null,null,null,null,null,null,null,null,null,null,"ID:","99-999-999",null,null,null,null,null,null,"AGCM-ANSI",null,null,"ADV:",null,null,null,"AdvisorName"]
[]
["General Eduction Requirements: 41 Hours",null,null,null,null,null,null,null,null,null,null,null,null,null,null,null,"College/Dept. Requirements: 16 Hours",null,null,null,null,null,null,null,null,null,"Major Requirements: 72 Hours",null,null,null,null,null,null,null,"2015-16"]
[]
["Course",null,"Grade",null,"GPts","GPACr","GrCr",null,null,"Deviation",null,null,null,null,null,null,"Course",null,"Grade","GPts","GPACr","GrCr",null,"Deviation",null,null,"Course",null,"Grade","GPts","GPACr","GrCr",null,"Deviation"]
[]
["ENGL",1113,null,null,{"$f":"IF(H7<>\"\",H7,3)*IF(C7=\"A\",4,IF(C7=\"B\",3,IF(C7=\"C\",2,IF(C7=\"D\",1,IF(AND(C7>=0,C7<=4,ISNUMBER(C7)),C7,0)))))","v":0},{"$f":"IF(OR(C7=\"A\",C7=\"B\",C7=\"C\",C7=\"D\",C7=\"F\",AND(C7>=0,C7<=4,ISNUMBER(C7))),IF(H7<>\"\",H7,3),\"\")","v":""},{"$f":"IF(OR(C7=\"A\",C7=\"B\",C7=\"C\",C7=\"D\",C7=\"P\",AND(C7>=0,C7<=4,ISNUMBER(C7))),IF(H7<>\"\",H7,3),\"\")","v":""},null,null,null,null,null,null,null,null,null,"AG",1011,null,{"$f":"IF(W7<>\"\",W7,3)*IF(S7=\"A\",4,IF(S7=\"B\",3,IF(S7=\"C\",2,IF(S7=\"D\",1,IF(AND(S7>=0,S7<=4,ISNUMBER(S7)),S7,0)))))","v":0},{"$f":"IF(OR(S7=\"A\",S7=\"B\",S7=\"C\",S7=\"D\",S7=\"F\",AND(S7>=0,S7<=4,ISNUMBER(S7))),IF(W7<>\"\",W7,3),\"\")","v":""},{"$f":"IF(OR(S7=\"A\",S7=\"B\",S7=\"C\",S7=\"D\",S7=\"P\",AND(S7>=0,S7<=4,ISNUMBER(S7))),IF(W7<>\"\",W7,3),\"\")","v":""},1,null,null,null,"Ag Comm Core Courses: 44 Hours"]
["ENGL",1213,null,null,{"$f":"IF(H8<>\"\",H8,3)*IF(C8=\"A\",4,IF(C8=\"B\",3,IF(C8=\"C\",2,IF(C8=\"D\",1,IF(AND(C8>=0,C8<=4,ISNUMBER(C8)),C8,0)))))","v":0},{"$f":"IF(OR(C8=\"A\",C8=\"B\",C8=\"C\",C8=\"D\",C8=\"F\",AND(C8>=0,C8<=4,ISNUMBER(C8))),IF(H8<>\"\",H8,3),\"\")","v":""},{"$f":"IF(OR(C8=\"A\",C8=\"B\",C8=\"C\",C8=\"D\",C8=\"P\",AND(C8>=0,C8<=4,ISNUMBER(C8))),IF(H8<>\"\",H8,3),\"\")","v":""},null,null,null,null,null,null,null,null,null,"ANSI",1124,null,{"$f":"IF(W8<>\"\",W8,3)*IF(S8=\"A\",4,IF(S8=\"B\",3,IF(S8=\"C\",2,IF(S8=\"D\",1,IF(AND(S8>=0,S8<=4,ISNUMBER(S8)),S8,0)))))","v":0},{"$f":"IF(OR(S8=\"A\",S8=\"B\",S8=\"C\",S8=\"D\",S8=\"F\",AND(S8>=0,S8<=4,ISNUMBER(S8))),IF(W8<>\"\",W8,3),\"\")","v":""},{"$f":"IF(OR(S8=\"A\",S8=\"B\",S8=\"C\",S8=\"D\",S8=\"P\",AND(S8>=0,S8<=4,ISNUMBER(S8))),IF(W8<>\"\",W8,3),\"\")","v":""},4,null,null,null,"ACCT",2103,null,{"$f":"IF(AG8<>\"\",AG8,3)*IF(AC8=\"A\",4,IF(AC8=\"B\",3,IF(AC8=\"C\",2,IF(AC8=\"D\",1,IF(AND(AC8>=0,AC8<=4,ISNUMBER(AC8)),AC8,0)))))","v":0},{"$f":"IF(OR(AC8=\"A\",AC8=\"B\",AC8=\"C\",AC8=\"D\",AC8=\"F\",AND(AC8>=0,AC8<=4,ISNUMBER(AC8))),IF(AG8<>\"\",AG8,3),\"\")","v":""},{"$f":"IF(OR(AC8=\"A\",AC8=\"B\",AC8=\"C\",AC8=\"D\",AC8=\"P\",AND(AC8>=0,AC8<=4,ISNUMBER(AC8))),IF(AG8<>\"\",AG8,3),\"\")","v":""}]
["HIST",1103,null,null,0,"","",null,null,null,null,null,null,null,null,null,"PLNT",1213,null,{"$f":"IF(W9<>\"\",W9,3)*IF(S9=\"A\",4,IF(S9=\"B\",3,IF(S9=\"C\",2,IF(S9=\"D\",1,IF(AND(S9>=0,S9<=4,ISNUMBER(S9)),S9,0)))))","v":0},{"$f":"IF(OR(S9=\"A\",S9=\"B\",S9=\"C\",S9=\"D\",S9=\"F\",AND(S9>=0,S9<=4,ISNUMBER(S9))),IF(W9<>\"\",W9,3),\"\")","v":""},{"$f":"IF(OR(S9=\"A\",S9=\"B\",S9=\"C\",S9=\"D\",S9=\"P\",AND(S9>=0,S9<=4,ISNUMBER(S9))),IF(W9<>\"\",W9,3),\"\")","v":""},null,null,null,null,"AGCM",2113,null,0,"",""]
["POLS",1113,null,null,0,"","",null,null,null,null,null,null,null,null,null,"ANSI",2112,null,{"$f":"IF(W10<>\"\",W10,3)*IF(S10=\"A\",4,IF(S10=\"B\",3,IF(S10=\"C\",2,IF(S10=\"D\",1,IF(AND(S10>=0,S10<=4,ISNUMBER(S10)),S10,0)))))","v":0},{"$f":"IF(OR(S10=\"A\",S10=\"B\",S10=\"C\",S10=\"D\",S10=\"F\",AND(S10>=0,S10<=4,ISNUMBER(S10))),IF(W10<>\"\",W10,3),\"\")","v":""},{"$f":"IF(OR(S10=\"A\",S10=\"B\",S10=\"C\",S10=\"D\",S10=\"P\",AND(S10>=0,S10<=4,ISNUMBER(S10))),IF(W10<>\"\",W10,3),\"\")","v":""},2,null,null,null,"AGCM",3113,null,{"$f":"IF(AG10<>\"\",AG10,3)*IF(AC10=\"A\",4,IF(AC10=\"B\",3,IF(AC10=\"C\",2,IF(AC10=\"D\",1,IF(AND(AC10>=0,AC10<=4,ISNUMBER(AC10)),AC10,0)))))","v":0},{"$f":"IF(OR(AC10=\"A\",AC10=\"B\",AC10=\"C\",AC10=\"D\",AC10=\"F\",AND(AC10>=0,AC10<=4,ISNUMBER(AC10))),IF(AG10<>\"\",AG10,3),\"\")","v":""},{"$f":"IF(OR(AC10=\"A\",AC10=\"B\",AC10=\"C\",AC10=\"D\",AC10=\"P\",AND(AC10>=0,AC10<=4,ISNUMBER(AC10))),IF(AG10<>\"\",AG10,3),\"\")","v":""}]
["MATH",1483,null,null,0,"","",null,null,null,null,null,null,null,null,null,"ANSI",2253,null,0,"","",null,null,null,null,"AGCM",3123,null,0,"",""]
["MATH",1513,null,null,0,"","",null,null,null,null,null,null,null,null,null,"ENVR",1113,null,{"$f":"IF(W12<>\"\",W12,3)*IF(S12=\"A\",4,IF(S12=\"B\",3,IF(S12=\"C\",2,IF(S12=\"D\",1,IF(AND(S12>=0,S12<=4,ISNUMBER(S12)),S12,0)))))","v":0},{"$f":"IF(OR(S12=\"A\",S12=\"B\",S12=\"C\",S12=\"D\",S12=\"F\",AND(S12>=0,S12<=4,ISNUMBER(S12))),IF(W12<>\"\",W12,3),\"\")","v":""},{"$f":"IF(OR(S12=\"A\",S12=\"B\",S12=\"C\",S12=\"D\",S12=\"P\",AND(S12>=0,S12<=4,ISNUMBER(S12))),IF(W12<>\"\",W12,3),\"\")","v":""},null,null,null,null,"AGCM",3213,null,0,"",""]
["(H)",null,null,null,0,"","",null,null,null,null,null,null,null,null,null,null,null,null,null,null,null,null,null,null,null,"AGCM",3223,null,0,"",""]
["(H)",null,null,null,0,"","",null,null,null,null,null,null,null,null,null,null,null,null,null,null,null,null,null,null,null,"AGCM",3233,null,0,"",""]
["BIOL",1114,null,null,0,"","",4,null,null,null,null,null,null,null,null,null,null,null,null,null,null,null,null,null,null,"AGCM",4113,null,0,"",""]
["CHEM",1314,null,null,0,"","",4,null,null,null,null,null,null,null,null,null,null,null,null,null,null,null,"Graduate Semester",null,null,"AGCM",4203,null,{"$f":"IF(AG16<>\"\",AG16,3)*IF(AC16=\"A\",4,IF(AC16=\"B\",3,IF(AC16=\"C\",2,IF(AC16=\"D\",1,IF(AND(AC16>=0,AC16<=4,ISNUMBER(AC16)),AC16,0)))))","v":0},{"$f":"IF(OR(AC16=\"A\",AC16=\"B\",AC16=\"C\",AC16=\"D\",AC16=\"F\",AND(AC16>=0,AC16<=4,ISNUMBER(AC16))),IF(AG16<>\"\",AG16,3),\"\")","v":""},{"$f":"IF(OR(AC16=\"A\",AC16=\"B\",AC16=\"C\",AC16=\"D\",AC16=\"P\",AND(AC16>=0,AC16<=4,ISNUMBER(AC16))),IF(AG16<>\"\",AG16,3),\"\")","v":""}]
["AGEC",1113,null,null,0,"","",null,null,null,null,null,null,null,null,null,"Credits and GPAs as of this date:",null,null,null,null,null,null,null,null,null,"AGCM",4300,null,0,"","",2]
["SPCH",2713,null,null,0,"","",null,null,null,null,null,null,null,null,null,{"$f":"SUM(G7:G24,V7:V8,V9:V12,AF8:AF22,AF25:AF31,AF35:AF42,G29:G44,O29:O44)","v":0},null,"Hours for graduation",null,null,null,null,null,null,null,"AGCM",4403,null,0,"",""]
["(D)",null,null,null,0,"","",null,null,null,null,null,null,null,null,null,{"$f":"IF(SUM(F7:F24,U7:U12,AE8:AE22,AE25:AE31,AE35:AE42,F29:F44,N29:N44)=0,\"N/A\",ROUNDDOWN(SUM(E7:E24,T7:T12,AD8:AD22,AD25:AD31,AD35:AD42,E29:E44,M29:M44)/SUM(F7:F24,U7:U12,AE8:AE22,F29:F44,N29:N44,AE25:AE31,AE35:AE42),2))","v":"N/A"},null,"Grad/Ret GPA",null,null,null,null,null,null,null,"AGCM",4413,null,0,"",""]
["ANSI(I)",3903,null,null,0,"","",null,null,null,null,null,null,null,null,null,{"$f":"SUMIF(B7:B24,\">2999\",F7:F24)+SUMIF(B29:B44,\">2999\",F29:F44)+SUMIF(J29:J44,\">2999\",N29:N44)+SUMIF(R7:R12,\">2999\",U7:U12)+SUMIF(AB8:AB22,\">2999\",AE8:AE22)+SUMIF(AB25:AB31,\">2999\",AE25:AE31)+SUMIF(AB35:AB42,\">2999\",AE35:AE42)","v":0},null,"UPPER DIV HOURS (40)",null,null,null,null,null,null,null,"AGEC",3703,null,0,"",""]
[null,null,null,null,0,"","",null,null,null,null,null,null,null,null,null,{"$f":"SUMIF(B7:B24,\">2999\",E7:E24)+SUMIF(B29:B44,\">2999\",E29:E44)+SUMIF(J29:J44,\">2999\",M29:M44)+SUMIF(R7:R12,\">2999\",T7:T12)+SUMIF(AB8:AB22,\">2999\",AD8:AD22)+SUMIF(AB25:AB31,\">2999\",AD25:AD31)+SUMIF(AB35:AB42,\">2999\",AD35:AD42)","v":0},null,"Upper div points (100)",null,null,null,null,null,null,null,"AGEC",3323,null,0,"",""]
[null,null,null,null,0,"","",null,null,null,null,null,null,null,null,null,{"$f":"IF(SUM(Q21)=0,\"N/A\",Q21/Q20)","v":"N/A"},null,"Upper div GPA",null,null,null,null,null,null,null,"AGEC",3713,null,0,"",""]
[null,null,null,null,0,"","",null,null,null,null,null,null,null,null,null,null,null,"60 Senior College Hours"]
[null,null,null,null,0,"","",null,null,null,null,null,null,null,null,null,130,null,"HOURS NEEDED",null,null,null,null,null,null,null,"Animal Science Core Courses: 19 Hours"]
[null,null,null,null,null,null,null,null,null,null,null,null,null,null,null,null,null,null,null,null,null,null,null,null,null,null,"ANSI",1111,null,{"$f":"IF(AG25<>\"\",AG25,3)*IF(AC25=\"A\",4,IF(AC25=\"B\",3,IF(AC25=\"C\",2,IF(AC25=\"D\",1,IF(AND(AC25>=0,AC25<=4,ISNUMBER(AC25)),AC25,0)))))","v":0},{"$f":"IF(OR(AC25=\"A\",AC25=\"B\",AC25=\"C\",AC25=\"D\",AC25=\"F\",AND(AC25>=0,AC25<=4,ISNUMBER(AC25))),IF(AG25<>\"\",AG25,3),\"\")","v":""},{"$f":"IF(OR(AC25=\"A\",AC25=\"B\",AC25=\"C\",AC25=\"D\",AC25=\"P\",AND(AC25>=0,AC25<=4,ISNUMBER(AC25))),IF(AG25<>\"\",AG25,3),\"\")","v":""},1]
["Elective Hours:",null,null,null,null,null,null,null,null,null,null,null,null,null,null,null,null,null,null,null,null,null,null,null,null,null,"ANSI",3423,null,{"$f":"IF(AG26<>\"\",AG26,3)*IF(AC26=\"A\",4,IF(AC26=\"B\",3,IF(AC26=\"C\",2,IF(AC26=\"D\",1,IF(AND(AC26>=0,AC26<=4,ISNUMBER(AC26)),AC26,0)))))","v":0},{"$f":"IF(OR(AC26=\"A\",AC26=\"B\",AC26=\"C\",AC26=\"D\",AC26=\"F\",AND(AC26>=0,AC26<=4,ISNUMBER(AC26))),IF(AG26<>\"\",AG26,3),\"\")","v":""},{"$f":"IF(OR(AC26=\"A\",AC26=\"B\",AC26=\"C\",AC26=\"D\",AC26=\"P\",AND(AC26>=0,AC26<=4,ISNUMBER(AC26))),IF(AG26<>\"\",AG26,3),\"\")","v":""}]
["Non-Ag",null,null,null,null,null,null,null,"Ag Elect 1 Hour",null,null,null,null,null,null,null,null,null,null,null,null,null,null,null,null,null,"ANSI",3433,null,0,"",""]
["Course",null,"Grd","Cr",null,null,null,null,"Course",null,"Grd","Cr","GPts","GPACr","GrCr",null,"NOTES:",null,null,null,null,null,null,null,null,null,"ANSI",3443,null,{"$f":"IF(AG28<>\"\",AG28,3)*IF(AC28=\"A\",4,IF(AC28=\"B\",3,IF(AC28=\"C\",2,IF(AC28=\"D\",1,IF(AND(AC28>=0,AC28<=4,ISNUMBER(AC28)),AC28,0)))))","v":0},{"$f":"IF(OR(AC28=\"A\",AC28=\"B\",AC28=\"C\",AC28=\"D\",AC28=\"F\",AND(AC28>=0,AC28<=4,ISNUMBER(AC28))),IF(AG28<>\"\",AG28,3),\"\")","v":""},{"$f":"IF(OR(AC28=\"A\",AC28=\"B\",AC28=\"C\",AC28=\"D\",AC28=\"P\",AND(AC28>=0,AC28<=4,ISNUMBER(AC28))),IF(AG28<>\"\",AG28,3),\"\")","v":""}]
[null,null,null,null,{"$f":"D29*IF(OR(C29=\"A\",C29=\"RA\"),4,IF(OR(C29=\"B\",C29=\"RB\"),3,IF(OR(C29=\"C\",C29=\"RC\"),2,IF(OR(C29=\"D\",C29=\"RD\"),1,IF(AND(C29>=0,C29<=4,ISNUMBER(C29)),C29,0)))))","v":0},{"$f":"IF(OR(C29=\"\",D29=\"\"),\"\",IF(OR(C29=\"A\",C29=\"B\",C29=\"C\",C29=\"D\",C29=\"F\",C29=\"RA\",C29=\"RB\",C29=\"RC\",C29=\"RD\",C29=\"RF\",AND(C29>=0,C29<=4,ISNUMBER(C29))),D29,\"\"))","v":""},{"$f":"IF(OR(C29=\"\",D29=\"\"),\"\",IF(OR(C29=\"A\",C29=\"B\",C29=\"C\",C29=\"D\",C29=\"P\",AND(C29>=0,C29<=4,ISNUMBER(C29))),D29,\"\"))","v":""},null,null,null,null,null,{"$f":"L29*IF(OR(K29=\"A\",K29=\"RA\"),4,IF(OR(K29=\"B\",K29=\"RB\"),3,IF(OR(K29=\"C\",K29=\"RC\"),2,IF(OR(K29=\"D\",K29=\"RD\"),1,IF(AND(K29>=0,K29=4,ISNUMBER(K29)),K29,0)))))","v":0},{"$f":"IF(OR(K29=\"\",L29=\"\"),\"\",IF(OR(K29=\"A\",K29=\"B\",K29=\"C\",K29=\"D\",K29=\"F\",K29=\"RA\",K29=\"RB\",K29=\"RC\",K29=\"RD\",K29=\"RF\",AND(K29>=0,K29<=4,ISNUMBER(K29))),L29,\"\"))","v":""},{"$f":"IF(OR(K29=\"\",L29=\"\"),\"\",IF(OR(K29=\"A\",K29=\"B\",K29=\"C\",K29=\"D\",K29=\"P\",AND(K29>=0,K29<=4,ISNUMBER(K29))),L29,\"\"))","v":""},null,null,null,null,null,null,null,null,null,null,null,"ANSI",3543,null,0,"",""]
[null,null,null,null,0,"","",null,null,null,null,null,0,"","",null,null,null,null,null,null,null,null,null,null,null,"ANSI",3653,null,0,"",""]
[null,null,null,null,0,"","",null,null,null,null,null,0,"","",null,null,null,null,null,null,null,null,null,null,null,"ANSI",4863,null,0,"",""]
[null,null,null,null,0,"","",null,null,null,null,null,0,"",""]
[null,null,null,null,0,"","",null,null,null,null,null,0,"",""]
[null,null,null,null,0,"","",null,null,null,null,null,0,"","",null,null,null,null,null,null,null,null,null,null,null,"9 hours (at least two species) from:"]
[null,null,null,null,0,"","",null,null,null,null,null,0,"","",null,null,null,null,null,null,null,null,null,null,null,"ANSI",4023,null,{"$f":"IF(AG35<>\"\",AG35,3)*IF(AC35=\"A\",4,IF(AC35=\"B\",3,IF(AC35=\"C\",2,IF(AC35=\"D\",1,IF(AND(AC35>=0,AC35<=4,ISNUMBER(AC35)),AC35,0)))))","v":0},{"$f":"IF(OR(AC35=\"A\",AC35=\"B\",AC35=\"C\",AC35=\"D\",AC35=\"F\",AND(AC35>=0,AC35<=4,ISNUMBER(AC35))),IF(AG35<>\"\",AG35,3),\"\")","v":""},{"$f":"IF(OR(AC35=\"A\",AC35=\"B\",AC35=\"C\",AC35=\"D\",AC35=\"P\",AND(AC35>=0,AC35<=4,ISNUMBER(AC35))),IF(AG35<>\"\",AG35,3),\"\")","v":""}]
[null,null,null,null,0,"","",null,null,null,null,null,0,"","",null,null,null,null,null,null,null,null,null,null,null,"ANSI",4423,null,0,"",""]
[null,null,null,null,0,"","",null,null,null,null,null,0,"","",null,null,null,null,null,null,null,null,null,null,null,"ANSI",4543,null,{"$f":"IF(AG37<>\"\",AG37,3)*IF(AC37=\"A\",4,IF(AC37=\"B\",3,IF(AC37=\"C\",2,IF(AC37=\"D\",1,IF(AND(AC37>=0,AC37<=4,ISNUMBER(AC37)),AC37,0)))))","v":0},{"$f":"IF(OR(AC37=\"A\",AC37=\"B\",AC37=\"C\",AC37=\"D\",AC37=\"F\",AND(AC37>=0,AC37<=4,ISNUMBER(AC37))),IF(AG37<>\"\",AG37,3),\"\")","v":""},{"$f":"IF(OR(AC37=\"A\",AC37=\"B\",AC37=\"C\",AC37=\"D\",AC37=\"P\",AND(AC37>=0,AC37<=4,ISNUMBER(AC37))),IF(AG37<>\"\",AG37,3),\"\")","v":""}]
[null,null,null,null,0,"","",null,null,null,null,null,0,"","",null,null,null,null,null,null,null,null,null,null,null,"ANSI",4553,null,0,"",""]
[null,null,null,null,0,"","",null,null,null,null,null,0,"","",null,null,null,null,null,null,null,null,null,null,null,"ANSI",4613,null,0,"",""]
[null,null,null,null,0,"","",null,null,null,null,null,0,"","",null,null,null,null,null,null,null,null,null,null,null,"ANSI",4633,null,0,"",""]
[null,null,null,null,0,"","",null,null,null,null,null,0,"","",null,null,null,null,null,null,null,null,null,null,null,"ANSI",4643,null,{"$f":"IF(AG41<>\"\",AG41,3)*IF(AC41=\"A\",4,IF(AC41=\"B\",3,IF(AC41=\"C\",2,IF(AC41=\"D\",1,IF(AND(AC41>=0,AC41<=4,ISNUMBER(AC41)),AC41,0)))))","v":0},{"$f":"IF(OR(AC41=\"A\",AC41=\"B\",AC41=\"C\",AC41=\"D\",AC41=\"F\",AND(AC41>=0,AC41<=4,ISNUMBER(AC41))),IF(AG41<>\"\",AG41,3),\"\")","v":""},{"$f":"IF(OR(AC41=\"A\",AC41=\"B\",AC41=\"C\",AC41=\"D\",AC41=\"P\",AND(AC41>=0,AC41<=4,ISNUMBER(AC41))),IF(AG41<>\"\",AG41,3),\"\")","v":""}]
[null,null,null,null,0,"","",null,null,null,null,null,0,"","",null,null,null,null,null,null,null,null,null,null,null,"ANSI",4713,null,0,"",""]
[null,null,null,null,0,"","",null,null,null,null,null,0,"",""]
[null,null,null,null,0,"","",null,null,null,null,null,0,"",""]

{"sheet":"GRAD CHECK","index":1,"n_rows":45,"n_cols":6,"rows_kept":45,"cut":false,"hidden":false,"merged":[[20,2,20,3],[0,0,0,5],[1,0,1,5],[2,0,2,5],[6,1,6,3],[6,4,6,5],[9,1,9,3],[12,1,12,3],[12,4,12,6],[13,1,13,2],[15,1,15,2],[17,1,18,3],[44,1,44,8],[24,1,24,5],[27,1,27,2],[28,1,28,3],[28,4,28,5],[38,1,38,8],[41,1,41,8]]}
["GRADUATION CHECK"]
["By"]
["COLLEGE OF AGRICULTURAL SCIENCES AND NATURAL RESOURCES"]
[]
[]
["Name:",null,null,null,"Date:"]
[null,{"$f":"'AGCM-ANSI'!B1","v":"Name, Student's"}]
[]
["ID:",null,null,null,"Graduation Date:"]
[null,{"$f":"'AGCM-ANSI'!S1","v":"99-999-999"},null,null,{"$f":"'AGCM-ANSI'!Q16","v":"00:00:00"}]
[]
["EMAIL:",null,null,null,"Major:"]
[null,null,null,null,{"$f":"'AGCM-ANSI'!Z1","v":"AGCM-ANSI"}]
[]
["Advisor:",null,null,null,"Grad/Ret GPA:"]
[null,{"$f":"'AGCM-ANSI'!AG1","v":"AdvisorName"},null,null,{"$f":"'AGCM-ANSI'!Q19","v":"N/A"}]
[]
[null,"REMINDER:",null,null,"Upper Division GPA:"]
[null,null,null,null,{"$f":"'AGCM-ANSI'!Q22","v":"N/A"}]
["Total Hours to Date:",null,{"$f":"'AGCM-ANSI'!Q18","v":0},null,"Total  Upper Div Hours to Date:",{"$f":"'AGCM-ANSI'!Q20","v":0}]
["Current Enrollment:",null,null,null,"Total  Upper Div Points to Date:",{"$f":"'AGCM-ANSI'!Q21","v":0}]
[]
["Deficiencies/Remaining Hours:"]
[]
[]
[]
["Hours Needed from a 4 yr. School: ",null,null,null,"Upper Div. hours & points needed: "]
[]
[]
[]
["Number of hours needed to complete requirements:"]
[null,null,null,null,"(hrs. = current courses + deficiencies)"]
[]
[]
[]
[]
[]
["APPROVED BY:"]
[null,"________________________________________________________________________ Adviser and Date"]
[]
[]
[null,"_______________________________________________________________ Department Head and Date"]
[]
[]
[null,"________________________________________________________________________Assoc. Dean and Date"]

{"sheet":"ADVISOR'S NOTES","index":2,"n_rows":1,"n_cols":2,"rows_kept":1,"cut":false,"hidden":false,"merged":[]}
["DATE","NOTES"]