{"text_format":"1","workbook":"xlsx","n_sheets":3,"sheets":["AGBUS-INTL","GRAD CHECK","ADVISOR'S NOTES"],"not_rendered":{"charts":0,"images":0,"macros":0,"external_links":0,"defined_names":2,"comments":1,"pivot_tables":0},"unopened":[],"bounds":{"document_bytes":16777216,"sheet_cells":100000,"rows_first":2000,"rows_last":500,"rows_between":2000,"halvings":0,"cell_chars":16384,"cell_head_chars":4096},"cells_cut":0,"cells_raw":0,"read":"whole","date_system":"1900"}

{"sheet":"AGBUS-INTL","index":0,"n_rows":44,"n_cols":35,"rows_kept":44,"cut":false,"hidden":false,"merged":[[0,2,0,16],[0,18,0,24],[0,32,0,34],[6,2,6,3],[6,8,6,11],[6,23,6,24],[7,2,7,3],[7,8,7,11],[7,23,7,24],[7,33,7,34],[8,2,8,3],[8,8,8,11],[8,23,8,24],[8,33,8,34],[13,33,13,34],[9,2,9,3],[9,8,9,11],[9,23,9,24],[10,33,10,34],[10,23,10,24],[11,33,11,34],[9,33,9,34],[10,2,10,3],[10,8,10,11],[12,33,12,34],[11,2,11,3],[11,8,11,11],[11,23,11,24],[15,2,15,3],[15,8,15,11],[15,23,15,24],[19,33,19,34],[12,2,12,3],[12,8,12,11],[12,23,12,24],[13,2,13,3],[13,8,13,11],[13,23,13,24],[17,33,17,34],[14,2,14,3],[14,8,14,11],[14,23,14,24],[18,33,18,34],[14,33,14,34],[16,2,16,3],[16,8,16,11],[16,23,16,24],[20,33,20,34],[18,2,18,3],[18,8,18,11],[17,23,17,24],[17,2,17,3],[17,8,17,11],[22,16,22,17],[19,2,19,3],[19,8,19,11],[20,2,20,3],[20,8,20,11],[19,16,19,22],[21,2,21,3],[21,8,21,11],[22,2,22,3],[22,8,22,11],[21,16,21,17],[24,0,24,11],[23,16,23,17],[24,16,24,17],[25,16,25,17],[35,33,35,34],[33,33,33,34],[34,33,34,34],[23,2,23,3],[23,8,23,11],[28,33,28,34],[43,33,43,34],[42,33,42,34],[26,16,26,17],[27,16,27,17],[36,33,36,34],[37,33,37,34],[40,33,40,34],[41,33,41,34],[27,33,27,34],[31,33,31,34],[30,33,30,34],[15,33,15,34],[16,33,16,34],[24,33,24,34],[25,33,25,34],[26,33,26,34]]}
["NAME:",null,"Name, Student's",null,null,null,null,null,null,null,null,null,null,null,null,null,null,"ID:","999-99-999",null,null,null,null,null,null,"AGBUS-INTL",null,null,"ADV:",null,null,null,"AdvisorName"]
[]
["General Eduction Requirements: 40 Hours",null,null,null,null,null,null,null,null,null,null,null,null,null,null,null,"College/Dept. Requirements: 13 Hours",null,null,null,null,null,null,null,null,null,"Major Requirements: 65 Hours",null,null,null,null,null,null,null,"2015-16"]
[]
["Course",null,"Grade",null,"GPts","GPACr","GrCr",null,null,"Deviation",null,null,null,null,null,null,"Course",null,"Grade","GPts","GPACr","GrCr",null,"Deviation",null,null,"Course",null,"Grade","GPts","GPACr","GrCr",null,"Deviation"]
[]
["ENGL ",1113,null,null,{"$f":"IF(H7<>\"\",H7,3)*IF(C7=\"A\",4,IF(C7=\"B\",3,IF(C7=\"C\",2,IF(C7=\"D\",1,IF(AND(C7>=0,C7<=4,ISNUMBER(C7)),C7,0)))))","v":0},{"$f":"IF(OR(C7=\"A\",C7=\"B\",C7=\"C\",C7=\"D\",C7=\"F\",AND(C7>=0,C7<=4,ISNUMBER(C7))),IF(H7<>\"\",H7,3),\"\")","v":""},{"$f":"IF(OR(C7=\"A\",C7=\"B\",C7=\"C\",C7=\"D\",C7=\"P\",AND(C7>=0,C7<=4,ISNUMBER(C7))),IF(H7<>\"\",H7,3),\"\")","v":""},null,null,null,null,null,null,null,null,null,"AG",1011,null,{"$f":"IF(W7<>\"\",W7,3)*IF(S7=\"A\",4,IF(S7=\"B\",3,IF(S7=\"C\",2,IF(S7=\"D\",1,IF(AND(S7>=0,S7<=4,ISNUMBER(S7)),S7,0)))))","v":0},{"$f":"IF(OR(S7=\"A\",S7=\"B\",S7=\"C\",S7=\"D\",S7=\"F\",AND(S7>=0,S7<=4,ISNUMBER(S7))),IF(W7<>\"\",W7,3),\"\")","v":""},{"$f":"IF(OR(S7=\"A\",S7=\"B\",S7=\"C\",S7=\"D\",S7=\"P\",AND(S7>=0,S7<=4,ISNUMBER(S7))),IF(W7<>\"\",W7,3),\"\")","v":""},1,null,null,null,"Agribusiness Core Courses: 38 Hours"]
["ENGL ",1213,null,null,0,"","",null,null,null,null,null,null,null,null,null,"AGCM",3103,null,{"$f":"IF(W8<>\"\",W8,3)*IF(S8=\"A\",4,IF(S8=\"B\",3,IF(S8=\"C\",2,IF(S8=\"D\",1,IF(AND(S8>=0,S8<=4,ISNUMBER(S8)),S8,0)))))","v":0},{"$f":"IF(OR(S8=\"A\",S8=\"B\",S8=\"C\",S8=\"D\",S8=\"F\",AND(S8>=0,S8<=4,ISNUMBER(S8))),IF(W8<>\"\",W8,3),\"\")","v":""},{"$f":"IF(OR(S8=\"A\",S8=\"B\",S8=\"C\",S8=\"D\",S8=\"P\",AND(S8>=0,S8<=4,ISNUMBER(S8))),IF(W8<>\"\",W8,3),\"\")","v":""},null,null,null,null,"ACCT",2103,null,{"$f":"IF(AG8<>\"\",AG8,3)*IF(AC8=\"A\",4,IF(AC8=\"B\",3,IF(AC8=\"C\",2,IF(AC8=\"D\",1,IF(AND(AC8>=0,AC8<=4,ISNUMBER(AC8)),AC8,0)))))","v":0},{"$f":"IF(OR(AC8=\"A\",AC8=\"B\",AC8=\"C\",AC8=\"D\",AC8=\"F\",AND(AC8>=0,AC8<=4,ISNUMBER(AC8))),IF(AG8<>\"\",AG8,3),\"\")","v":""},{"$f":"IF(OR(AC8=\"A\",AC8=\"B\",AC8=\"C\",AC8=\"D\",AC8=\"P\",AND(AC8>=0,AC8<=4,ISNUMBER(AC8))),IF(AG8<>\"\",AG8,3),\"\")","v":""}]
["HIST",1103,null,null,0,"","",null,null,null,null,null,null,null,null,null,"SPCH",2713,null,0,"","",null,null,null,null,"ACCT",2203,null,0,"",""]
["POLS",1113,null,null,0,"","",null,null,null,null,null,null,null,null,null,"PLNT",1213,null,0,"","",null,null,null,null,"AGEC",1101,null,{"$f":"IF(AG10<>\"\",AG10,3)*IF(AC10=\"A\",4,IF(AC10=\"B\",3,IF(AC10=\"C\",2,IF(AC10=\"D\",1,IF(AND(AC10>=0,AC10<=4,ISNUMBER(AC10)),AC10,0)))))","v":0},{"$f":"IF(OR(AC10=\"A\",AC10=\"B\",AC10=\"C\",AC10=\"D\",AC10=\"F\",AND(AC10>=0,AC10<=4,ISNUMBER(AC10))),IF(AG10<>\"\",AG10,3),\"\")","v":""},{"$f":"IF(OR(AC10=\"A\",AC10=\"B\",AC10=\"C\",AC10=\"D\",AC10=\"P\",AND(AC10>=0,AC10<=4,ISNUMBER(AC10))),IF(AG10<>\"\",AG10,3),\"\")","v":""},1]
["MATH",2103,null,null,0,"","",null,null,null,null,null,null,null,null,null,"ANSI",1124,null,0,"","",4,null,null,null,"AGEC",3101,null,0,"","",1]
["STAT",2023,null,null,0,"","",null,null,null,null,null,null,null,null,null,null,null,null,0,"","",null,null,null,null,"AGEC",3213,null,0,"",""]
["(H)",null,null,null,0,"","",null,null,null,null,null,null,null,null,null,null,null,null,0,"","",null,null,null,null,"AGEC",3333,null,0,"",""]
["(H)",null,null,null,0,"","",null,null,null,null,null,null,null,null,null,null,null,null,0,"","",null,null,null,null,"AGEC",3423,null,0,"",""]
["(N)",null,null,null,0,"","",null,null,null,null,null,null,null,null,null,null,null,null,0,"","",null,null,null,null,"AGEC",3603,null,0,"",""]
["CHEM",1014,null,null,0,"","",4,null,null,null,null,null,null,null,null,null,null,null,0,"","",null,null,null,null,"AGEC",3713,null,{"$f":"IF(AG16<>\"\",AG16,3)*IF(AC16=\"A\",4,IF(AC16=\"B\",3,IF(AC16=\"C\",2,IF(AC16=\"D\",1,IF(AND(AC16>=0,AC16<=4,ISNUMBER(AC16)),AC16,0)))))","v":0},{"$f":"IF(OR(AC16=\"A\",AC16=\"B\",AC16=\"C\",AC16=\"D\",AC16=\"F\",AND(AC16>=0,AC16<=4,ISNUMBER(AC16))),IF(AG16<>\"\",AG16,3),\"\")","v":""},{"$f":"IF(OR(AC16=\"A\",AC16=\"B\",AC16=\"C\",AC16=\"D\",AC16=\"P\",AND(AC16>=0,AC16<=4,ISNUMBER(AC16))),IF(AG16<>\"\",AG16,3),\"\")","v":""}]
["AGEC",1113,null,null,0,"","",null,null,null,null,null,null,null,null,null,null,null,null,0,"","",null,null,null,null,"AGEC",4343,null,0,"",""]
["(S)",null,null,null,{"$f":"IF(H18<>\"\",H18,3)*IF(C18=\"A\",4,IF(C18=\"B\",3,IF(C18=\"C\",2,IF(C18=\"D\",1,IF(AND(C18>=0,C18<=4,ISNUMBER(C18)),C18,0)))))","v":0},{"$f":"IF(OR(C18=\"A\",C18=\"B\",C18=\"C\",C18=\"D\",C18=\"F\",AND(C18>=0,C18<=4,ISNUMBER(C18))),IF(H18<>\"\",H18,3),\"\")","v":""},{"$f":"IF(OR(C18=\"A\",C18=\"B\",C18=\"C\",C18=\"D\",C18=\"P\",AND(C18>=0,C18<=4,ISNUMBER(C18))),IF(H18<>\"\",H18,3),\"\")","v":""},null,null,null,null,null,null,null,null,null,null,null,null,0,"","",null,null,null,null,"AGEC",4803,null,0,"",""]
["GENED",null,null,null,0,"","",null,null,null,null,null,null,null,null,null,null,null,null,null,null,null,null,null,null,null,"ECON",2203,null,0,"",""]
["(D)",null,null,null,0,"","",null,null,null,null,null,null,null,null,null,null,null,null,null,null,null,null,"Graduate Semester",null,null,"ECON",3113,null,0,"",""]
["(I)",null,null,null,0,"","",null,null,null,null,null,null,null,null,null,"Credits and GPAs as of this date:",null,null,null,null,null,null,null,null,null,"ECON",3123,null,0,"",""]
[null,null,null,null,0,"","",null,null,null,null,null,null,null,null,null,{"$f":"SUM(G7:G24,V7:V18,AF8:AF21,AF25:AF31,AF34:AF36,AF41:AF43,G29:G44,O29:O44)","v":0},null,"Hours for graduation"]
[null,null,null,null,0,"","",null,null,null,null,null,null,null,null,null,{"$f":"IF(SUM(F7:F24,U7:U18,AE8:AE21,AE25:AE31,AE34:AE36, AE41:AE43,F29:F44,N29:N44)=0,\"N/A\",ROUNDDOWN(SUM(E7:E24,T7:T18,AD8:AD21,AD25:AD31,AD34:AD36,AD41:AD43,E29:E44,M29:M44)/SUM(F7:F24,U7:U18,AE8:AE21,AE25:AE31,AE34:AE36,AE41:AE43,F29:F44,N29:N44),2))","v":"N/A"},null,"Grad/Ret GPA",null,null,null,null,null,null,null,"International Related Courses: 27 Hours"]
[null,null,null,null,0,"","",null,null,null,null,null,null,null,null,null,{"$f":"SUMIF(B7:B24,\">2999\",F7:F24)+SUMIF(B29:B44,\">2999\",F29:F44)+SUMIF(J29:J44,\">2999\",N29:N44)+SUMIF(R7:R17,\">2999\",U7:U17)+SUMIF(AB8:AB21,\">2999\",AE8:AE21)+SUMIF(AB25:AB32,\">2999\",AE25:AE32)+SUMIF(AB34:AB37,\">2999\",AE34:AE37)+SUMIF(AB41:AB43,\">2999\",AE41:AE43)","v":0},null,"UPPER DIV HOURS (40)",null,null,null,null,null,null,null,"15 hours from the same foreign language:"]
[null,null,null,null,null,null,null,null,null,null,null,null,null,null,null,null,{"$f":"SUMIF(B7:B24,\">2999\",E7:E24)+SUMIF(B29:B44,\">2999\",E29:E44)+SUMIF(J29:J44,\">2999\",M29:M44)+SUMIF(R7:R18,\">2999\",T7:V18)+SUMIF(AB8:AB21,\">2999\",AD8:AD21)+SUMIF(AB25:AB31,\">2999\",AD25:AD31)+SUMIF(AB34:AB36,\">2999\",AD34:AD36)+SUMIF(AB41:AB43,\">2999\",AD41:AD43)","v":0},null,"Upper div points (100)",null,null,null,null,null,null,null,null,null,null,{"$f":"IF(AG25<>\"\",AG25,3)*IF(AC25=\"A\",4,IF(AC25=\"B\",3,IF(AC25=\"C\",2,IF(AC25=\"D\",1,IF(AND(AC25>=0,AC25<=4,ISNUMBER(AC25)),AC25,0)))))","v":0},{"$f":"IF(OR(AC25=\"A\",AC25=\"B\",AC25=\"C\",AC25=\"D\",AC25=\"F\",AND(AC25>=0,AC25<=4,ISNUMBER(AC25))),IF(AG25<>\"\",AG25,3),\"\")","v":""},{"$f":"IF(OR(AC25=\"A\",AC25=\"B\",AC25=\"C\",AC25=\"D\",AC25=\"P\",AND(AC25>=0,AC25<=4,ISNUMBER(AC25))),IF(AG25<>\"\",AG25,3),\"\")","v":""}]
["Elective Hours:",null,null,null,null,null,null,null,null,null,null,null,null,null,null,null,{"$f":"IF(SUM(Q25)=0,\"N/A\",Q25/Q24)","v":"N/A"},null,"Upper div GPA",null,null,null,null,null,null,null,null,null,null,0,"",""]
["Non-Ag",null,null,null,null,null,null,null,"Ag Elect 2 Hours",null,null,null,null,null,null,null,null,null,"60 Senior College Hours",null,null,null,null,null,null,null,null,null,null,0,"",""]
["Course",null,"Grd","Cr",null,null,null,null,"Course",null,"Grd","Cr","GPts","GPACr","GrCr",null,120,null,"HOURS NEEDED",null,null,null,null,null,null,null,null,null,null,0,"",""]
[null,null,null,null,{"$f":"D29*IF(OR(C29=\"A\",C29=\"RA\"),4,IF(OR(C29=\"B\",C29=\"RB\"),3,IF(OR(C29=\"C\",C29=\"RC\"),2,IF(OR(C29=\"D\",C29=\"RD\"),1,IF(AND(C29>=0,C29<=4,ISNUMBER(C29)),C29,0)))))","v":0},{"$f":"IF(OR(C29=\"\",D29=\"\"),\"\",IF(OR(C29=\"A\",C29=\"B\",C29=\"C\",C29=\"D\",C29=\"F\",C29=\"RA\",C29=\"RB\",C29=\"RC\",C29=\"RD\",C29=\"RF\",AND(C29>=0,C29<=4,ISNUMBER(C29))),D29,\"\"))","v":""},{"$f":"IF(OR(C29=\"\",D29=\"\"),\"\",IF(OR(C29=\"A\",C29=\"B\",C29=\"C\",C29=\"D\",C29=\"P\",AND(C29>=0,C29<=4,ISNUMBER(C29))),D29,\"\"))","v":""},null,null,null,null,null,{"$f":"L29*IF(OR(K29=\"A\",K29=\"RA\"),4,IF(OR(K29=\"B\",K29=\"RB\"),3,IF(OR(K29=\"C\",K29=\"RC\"),2,IF(OR(K29=\"D\",K29=\"RD\"),1,IF(AND(K29>=0,K29=4,ISNUMBER(K29)),K29,0)))))","v":0},{"$f":"IF(OR(K29=\"\",L29=\"\"),\"\",IF(OR(K29=\"A\",K29=\"B\",K29=\"C\",K29=\"D\",K29=\"F\",K29=\"RA\",K29=\"RB\",K29=\"RC\",K29=\"RD\",K29=\"RF\",AND(K29>=0,K29<=4,ISNUMBER(K29))),L29,\"\"))","v":""},{"$f":"IF(OR(K29=\"\",L29=\"\"),\"\",IF(OR(K29=\"A\",K29=\"B\",K29=\"C\",K29=\"D\",K29=\"P\",AND(K29>=0,K29<=4,ISNUMBER(K29))),L29,\"\"))","v":""},null,"NOTES:",null,null,null,null,null,null,null,null,null,null,null,null,{"$f":"IF(AG29<>\"\",AG29,3)*IF(AC29=\"A\",4,IF(AC29=\"B\",3,IF(AC29=\"C\",2,IF(AC29=\"D\",1,IF(AND(AC29>=0,AC29<=4,ISNUMBER(AC29)),AC29,0)))))","v":0},{"$f":"IF(OR(AC29=\"A\",AC29=\"B\",AC29=\"C\",AC29=\"D\",AC29=\"F\",AND(AC29>=0,AC29<=4,ISNUMBER(AC29))),IF(AG29<>\"\",AG29,3),\"\")","v":""},{"$f":"IF(OR(AC29=\"A\",AC29=\"B\",AC29=\"C\",AC29=\"D\",AC29=\"P\",AND(AC29>=0,AC29<=4,ISNUMBER(AC29))),IF(AG29<>\"\",AG29,3),\"\")","v":""}]
[null,null,null,null,0,"","",null,null,null,null,null,0,"","",null,null,null,null,null,null,null,null,null,null,null,null,null,null,0,"",""]
[null,null,null,null,0,"","",null,null,null,null,null,0,"","",null,null,null,null,null,null,null,null,null,null,null,null,null,null,0,"",""]
[null,null,null,null,0,"","",null,null,null,null,null,0,"","",null,null,null,null,null,null,null,null,null,null,null,null,null,null,null,{"$f":"IF(OR(AC32=\"A\",AC32=\"B\",AC32=\"C\",AC32=\"D\",AC32=\"F\",AND(AC32>=0,AC32<=4,ISNUMBER(AC32))),IF(AG32<>\"\",AG32,3),\"\")","v":""},{"$f":"IF(OR(AC32=\"A\",AC32=\"B\",AC32=\"C\",AC32=\"D\",AC32=\"P\",AND(AC32>=0,AC32<=4,ISNUMBER(AC32))),IF(AG32<>\"\",AG32,3),\"\")","v":""}]
[null,null,null,null,0,"","",null,null,null,null,null,0,"","",null,null,null,null,null,null,null,null,null,null,null,"(6 hrs)Above foreign language or upper div \"I\""]
[null,null,null,null,0,"","",null,null,null,null,null,0,"","",null,null,null,null,null,null,null,null,null,null,null,null,null,null,{"$f":"IF(AG34<>\"\",AG34,3)*IF(AC34=\"A\",4,IF(AC34=\"B\",3,IF(AC34=\"C\",2,IF(AC34=\"D\",1,IF(AND(AC34>=0,AC34<=4,ISNUMBER(AC34)),AC34,0)))))","v":0},{"$f":"IF(OR(AC34=\"A\",AC34=\"B\",AC34=\"C\",AC34=\"D\",AC34=\"F\",AND(AC34>=0,AC34<=4,ISNUMBER(AC34))),IF(AG34<>\"\",AG34,3),\"\")","v":""},{"$f":"IF(OR(AC34=\"A\",AC34=\"B\",AC34=\"C\",AC34=\"D\",AC34=\"P\",AND(AC34>=0,AC34<=4,ISNUMBER(AC34))),IF(AG34<>\"\",AG34,3),\"\")","v":""}]
[null,null,null,null,0,"","",null,null,null,null,null,0,"","",null,null,null,null,null,null,null,null,null,null,null,null,null,null,0,"",""]
[null,null,null,null,0,"","",null,null,null,null,null,0,"","",null,null,null,null,null,null,null,null,null,null,null,null,null,null,{"$f":"IF(AG36<>\"\",AG36,3)*IF(AC36=\"A\",4,IF(AC36=\"B\",3,IF(AC36=\"C\",2,IF(AC36=\"D\",1,IF(AND(AC36>=0,AC36<=4,ISNUMBER(AC36)),AC36,0)))))","v":0},{"$f":"IF(OR(AC36=\"A\",AC36=\"B\",AC36=\"C\",AC36=\"D\",AC36=\"F\",AND(AC36>=0,AC36<=4,ISNUMBER(AC36))),IF(AG36<>\"\",AG36,3),\"\")","v":""},{"$f":"IF(OR(AC36=\"A\",AC36=\"B\",AC36=\"C\",AC36=\"D\",AC36=\"P\",AND(AC36>=0,AC36<=4,ISNUMBER(AC36))),IF(AG36<>\"\",AG36,3),\"\")","v":""}]
[null,null,null,null,0,"","",null,null,null,null,null,0,"",""]
[null,null,null,null,0,"","",null,null,null,null,null,0,"","",null,null,null,null,null,null,null,null,null,null,null," 6 hours from AGEC:",null,null,null,{"$f":"IF(OR(AC38=\"A\",AC38=\"B\",AC38=\"C\",AC38=\"D\",AC38=\"F\",AND(AC38>=0,AC38<=4,ISNUMBER(AC38))),IF(AG38<>\"\",AG38,3),\"\")","v":""},{"$f":"IF(OR(AC38=\"A\",AC38=\"B\",AC38=\"C\",AC38=\"D\",AC38=\"P\",AND(AC38>=0,AC38<=4,ISNUMBER(AC38))),IF(AG38<>\"\",AG38,3),\"\")","v":""}]
[null,null,null,null,0,"","",null,null,null,null,null,0,"",""]
[null,null,null,null,0,"","",null,null,null,null,null,0,"",""]
[null,null,null,null,0,"","",null,null,null,null,null,0,"","",null,null,null,null,null,null,null,null,null,null,null,"AGEC",null,null,{"$f":"IF(AG41<>\"\",AG41,3)*IF(AC41=\"A\",4,IF(AC41=\"B\",3,IF(AC41=\"C\",2,IF(AC41=\"D\",1,IF(AND(AC41>=0,AC41<=4,ISNUMBER(AC41)),AC41,0)))))","v":0},"",""]
[null,null,null,null,0,"","",null,null,null,null,null,0,"","",null,null,null,null,null,null,null,null,null,null,null,"AGEC",null,null,0,"",""]
[null,null,null,null,0,"","",null,null,null,null,null,0,"","",null,null,null,null,null,null,null,null,null,null,null,"AGEC",null,null,0,"",""]
[null,null,null,null,0,"","",null,null,null,null,null,0,"",""]

{"sheet":"GRAD CHECK","index":1,"n_rows":45,"n_cols":6,"rows_kept":45,"cut":false,"hidden":false,"merged":[[38,1,38,8],[41,1,41,8],[44,1,44,8],[13,1,13,2],[15,1,15,2],[17,1,18,3],[20,2,20,3],[24,1,24,5],[27,1,27,2],[28,1,28,3],[28,4,28,5],[9,1,9,3],[12,1,12,3],[12,4,12,6],[0,0,0,5],[1,0,1,5],[2,0,2,5],[6,4,6,5],[6,1,6,3]]}
["GRADUATION CHECK"]
["By"]
["COLLEGE OF AGRICULTURAL SCIENCES AND NATURAL RESOURCES"]
[]
[]
["Name:",null,null,null,"Date:"]
[null,{"$f":"'AGBUS-INTL'!C1","v":"Name, Student's"}]
[]
["ID:",null,null,null,"Graduation Date:"]
[null,{"$f":"'AGBUS-INTL'!S1","v":"999-99-999"},null,null,{"$f":"'AGBUS-INTL'!Q20","v":"00:00:00"}]
[]
["EMAIL:",null,null,null,"Major:"]
[null,null,null,null,{"$f":"'AGBUS-INTL'!Z1","v":"AGBUS-INTL"}]
[]
["Advisor:",null,null,null,"Grad/Ret GPA:"]
[null,{"$f":"'AGBUS-INTL'!AG1","v":"AdvisorName"},null,null,{"$f":"'AGBUS-INTL'!Q23","v":"N/A"}]
[]
[null,"REMINDER:",null,null,"Upper Division GPA:"]
[null,null,null,null,{"$f":"'AGBUS-INTL'!Q26","v":"N/A"}]
["Total Hours to Date:",null,{"$f":"'AGBUS-INTL'!Q22","v":0},null,"Total  Upper Div Hours to Date:",{"$f":"'AGBUS-INTL'!Q24","v":0}]
["Current Enrollment:",null,null,null,"Total  Upper Div Points to Date:",{"$f":"'AGBUS-INTL'!Q25","v":0}]
[]
["Deficiencies/Remaining Hours:"]
[]
[]
[]
["Hours Needed from a 4 yr. School: ",null,null,null,"Upper Div. hours & points needed: "]
[]
[]
[]
["Number of hours needed to complete requirements:"]
[null,null,null,null,"(hrs. = current courses + deficiencies)"]
[]
[]
[]
[]
[]
["APPROVED BY:"]
[null,"________________________________________________________________________ Advisor and Date"]
[]
[]
[null,"_______________________________________________________________ Department Head and Date"]
[]
[]
[null,"________________________________________________________________________Assoc. Dean and Date"]

{"sheet":"ADVISOR'S NOTES","index":2,"n_rows":1,"n_cols":2,"rows_kept":1,"cut":false,"hidden":false,"merged":[]}
["DATE","NOTES"]